BEGIN:VCALENDAR
VERSION:2.0
PRODID:-//Antique Tractor Blog - ECPv6.15.20//NONSGML v1.0//EN
CALSCALE:GREGORIAN
METHOD:PUBLISH
X-ORIGINAL-URL:https://antiquetractorblog.com
X-WR-CALDESC:Events for Antique Tractor Blog
REFRESH-INTERVAL;VALUE=DURATION:PT1H
X-Robots-Tag:noindex
X-PUBLISHED-TTL:PT1H
BEGIN:VTIMEZONE
TZID:America/Detroit
BEGIN:DAYLIGHT
TZOFFSETFROM:-0500
TZOFFSETTO:-0400
TZNAME:EDT
DTSTART:20230312T070000
END:DAYLIGHT
BEGIN:STANDARD
TZOFFSETFROM:-0400
TZOFFSETTO:-0500
TZNAME:EST
DTSTART:20231105T060000
END:STANDARD
BEGIN:DAYLIGHT
TZOFFSETFROM:-0500
TZOFFSETTO:-0400
TZNAME:EDT
DTSTART:20240310T070000
END:DAYLIGHT
BEGIN:STANDARD
TZOFFSETFROM:-0400
TZOFFSETTO:-0500
TZNAME:EST
DTSTART:20241103T060000
END:STANDARD
BEGIN:DAYLIGHT
TZOFFSETFROM:-0500
TZOFFSETTO:-0400
TZNAME:EDT
DTSTART:20250309T070000
END:DAYLIGHT
BEGIN:STANDARD
TZOFFSETFROM:-0400
TZOFFSETTO:-0500
TZNAME:EST
DTSTART:20251102T060000
END:STANDARD
END:VTIMEZONE
BEGIN:VTIMEZONE
TZID:America/New_York
BEGIN:DAYLIGHT
TZOFFSETFROM:-0500
TZOFFSETTO:-0400
TZNAME:EDT
DTSTART:20230312T070000
END:DAYLIGHT
BEGIN:STANDARD
TZOFFSETFROM:-0400
TZOFFSETTO:-0500
TZNAME:EST
DTSTART:20231105T060000
END:STANDARD
BEGIN:DAYLIGHT
TZOFFSETFROM:-0500
TZOFFSETTO:-0400
TZNAME:EDT
DTSTART:20240310T070000
END:DAYLIGHT
BEGIN:STANDARD
TZOFFSETFROM:-0400
TZOFFSETTO:-0500
TZNAME:EST
DTSTART:20241103T060000
END:STANDARD
BEGIN:DAYLIGHT
TZOFFSETFROM:-0500
TZOFFSETTO:-0400
TZNAME:EDT
DTSTART:20250309T070000
END:DAYLIGHT
BEGIN:STANDARD
TZOFFSETFROM:-0400
TZOFFSETTO:-0500
TZNAME:EST
DTSTART:20251102T060000
END:STANDARD
END:VTIMEZONE
BEGIN:VEVENT
DTSTART;TZID=America/Detroit:20240413T000000
DTEND;TZID=America/Detroit:20240413T235959
DTSTAMP:20260424T182031
CREATED:20240105T153333Z
LAST-MODIFIED:20240205T163942Z
UID:26869-1712966400-1713052799@antiquetractorblog.com
SUMMARY:PA - Western Pennsylvania Garden Tractor Plow\, Pull and Show Day
DESCRIPTION:
URL:https://antiquetractorblog.com/event/pa-western-pennsylvania-garden-tractor-plow-pull-and-show-day/
LOCATION:Western PA Garden Tractor Assn Show Site\, 231 Beacon Rd\, Renfrew\, PA\, 16053\, United States
CATEGORIES:Tractor Show
ORGANIZER;CN="Wally Whitfield":MAILTO:wpgta01@gmail.com
END:VEVENT
BEGIN:VEVENT
DTSTART;TZID=America/New_York:20240413T000000
DTEND;TZID=America/New_York:20240413T235959
DTSTAMP:20260424T182031
CREATED:20240314T175347Z
LAST-MODIFIED:20260205T152748Z
UID:30692-1712966400-1713052799@antiquetractorblog.com
SUMMARY:LA - EDGE&TA Branch 128 - Louisiana 2-Cylinder Club Show
DESCRIPTION:
URL:https://antiquetractorblog.com/event/la-edgeta-branch-128-louisiana-two-cylinder-club-show/
LOCATION:Louisiana 2-Cylinder Club Show Site\, 1193 Nookie Lane\, Basile\, LA\, 70515\, United States
CATEGORIES:Tractor Show
ORGANIZER;CN="Bryce Doucet":MAILTO:bandcrr@yahoo.com
END:VEVENT
BEGIN:VEVENT
DTSTART;TZID=America/Detroit:20240420T000000
DTEND;TZID=America/Detroit:20240420T235959
DTSTAMP:20260424T182031
CREATED:20240201T195205Z
LAST-MODIFIED:20240211T193016Z
UID:27890-1713571200-1713657599@antiquetractorblog.com
SUMMARY:IN - Steuben County Antique Power Association Plow Day
DESCRIPTION:
URL:https://antiquetractorblog.com/event/in-steuben-county-antique-power-association/
LOCATION:Prairie Heights Community School Farm\, 305 S 1150 E\, LaGrange\, IN\, 46761\, United States
CATEGORIES:Other Tractor Related Activities
END:VEVENT
BEGIN:VEVENT
DTSTART;TZID=America/Detroit:20240420T000000
DTEND;TZID=America/Detroit:20240420T235959
DTSTAMP:20260424T182031
CREATED:20240201T195307Z
LAST-MODIFIED:20240208T204344Z
UID:27941-1713571200-1713657599@antiquetractorblog.com
SUMMARY:NC - North Brook Antique Tractor Pullers
DESCRIPTION:
URL:https://antiquetractorblog.com/event/nc-north-brook-antique-tractor-pullers-2/
LOCATION:North Brook Antique Tractor Pullers Show Site\, 9620 NC-10 Hwy\, Vale\, NC\, 28268\, United States
CATEGORIES:Tractor Pull
END:VEVENT
BEGIN:VEVENT
DTSTART;TZID=America/Detroit:20240425T000000
DTEND;TZID=America/Detroit:20240428T235959
DTSTAMP:20260424T182031
CREATED:20240201T195438Z
LAST-MODIFIED:20240502T184202Z
UID:28019-1714003200-1714348799@antiquetractorblog.com
SUMMARY:TN - Appalachian Antique Farm Show and Farmers Reunion
DESCRIPTION:
URL:https://antiquetractorblog.com/event/tn-tri-state-antique-power-association/
LOCATION:Appalachian Fairgrounds\, 100 Lakeview St\, Gray\, TN\, 37615\, United States
CATEGORIES:Tractor Show
ORGANIZER;CN="Terry Sensabaugh":MAILTO:tsantiquepower@gmail.com
END:VEVENT
END:VCALENDAR