BEGIN:VCALENDAR
VERSION:2.0
PRODID:-//Antique Tractor Blog - ECPv6.15.20//NONSGML v1.0//EN
CALSCALE:GREGORIAN
METHOD:PUBLISH
X-ORIGINAL-URL:https://antiquetractorblog.com
X-WR-CALDESC:Events for Antique Tractor Blog
REFRESH-INTERVAL;VALUE=DURATION:PT1H
X-Robots-Tag:noindex
X-PUBLISHED-TTL:PT1H
BEGIN:VTIMEZONE
TZID:America/Detroit
BEGIN:DAYLIGHT
TZOFFSETFROM:-0500
TZOFFSETTO:-0400
TZNAME:EDT
DTSTART:20250309T070000
END:DAYLIGHT
BEGIN:STANDARD
TZOFFSETFROM:-0400
TZOFFSETTO:-0500
TZNAME:EST
DTSTART:20251102T060000
END:STANDARD
BEGIN:DAYLIGHT
TZOFFSETFROM:-0500
TZOFFSETTO:-0400
TZNAME:EDT
DTSTART:20260308T070000
END:DAYLIGHT
BEGIN:STANDARD
TZOFFSETFROM:-0400
TZOFFSETTO:-0500
TZNAME:EST
DTSTART:20261101T060000
END:STANDARD
BEGIN:DAYLIGHT
TZOFFSETFROM:-0500
TZOFFSETTO:-0400
TZNAME:EDT
DTSTART:20270314T070000
END:DAYLIGHT
BEGIN:STANDARD
TZOFFSETFROM:-0400
TZOFFSETTO:-0500
TZNAME:EST
DTSTART:20271107T060000
END:STANDARD
END:VTIMEZONE
BEGIN:VTIMEZONE
TZID:America/New_York
BEGIN:DAYLIGHT
TZOFFSETFROM:-0500
TZOFFSETTO:-0400
TZNAME:EDT
DTSTART:20250309T070000
END:DAYLIGHT
BEGIN:STANDARD
TZOFFSETFROM:-0400
TZOFFSETTO:-0500
TZNAME:EST
DTSTART:20251102T060000
END:STANDARD
BEGIN:DAYLIGHT
TZOFFSETFROM:-0500
TZOFFSETTO:-0400
TZNAME:EDT
DTSTART:20260308T070000
END:DAYLIGHT
BEGIN:STANDARD
TZOFFSETFROM:-0400
TZOFFSETTO:-0500
TZNAME:EST
DTSTART:20261101T060000
END:STANDARD
BEGIN:DAYLIGHT
TZOFFSETFROM:-0500
TZOFFSETTO:-0400
TZNAME:EDT
DTSTART:20270314T070000
END:DAYLIGHT
BEGIN:STANDARD
TZOFFSETFROM:-0400
TZOFFSETTO:-0500
TZNAME:EST
DTSTART:20271107T060000
END:STANDARD
END:VTIMEZONE
BEGIN:VEVENT
DTSTART;TZID=America/Detroit:20260817T000000
DTEND;TZID=America/Detroit:20260817T235959
DTSTAMP:20260419T200228
CREATED:20240201T195145Z
LAST-MODIFIED:20260129T144348Z
UID:27876-1786924800-1787011199@antiquetractorblog.com
SUMMARY:IA - Iowa Antique Tractor Pullers Tractor Pull
DESCRIPTION:Facebook Page: Iowa Antique Tractor Pullers
URL:https://antiquetractorblog.com/event/ia-iowa-antique-tractor-pullers-tractor-pull/
LOCATION:Iowa State Fairgrounds\, 3000 E Grand Ave\, Des Moines\, IA\, 50317\, United States
CATEGORIES:Tractor Pull
ORGANIZER;CN="James Harmon":MAILTO:IATP2024@gmail.com
END:VEVENT
BEGIN:VEVENT
DTSTART;TZID=America/Detroit:20260817T000000
DTEND;TZID=America/Detroit:20260817T235959
DTSTAMP:20260419T200228
CREATED:20250423T160428Z
LAST-MODIFIED:20260227T134911Z
UID:38441-1786924800-1787011199@antiquetractorblog.com
SUMMARY:MI - NTPA Berrien County Youth Fair Pull
DESCRIPTION:Facebook Page:  NTPA Truck and Tractor Pulling \n\n\n\nOne Session: Monday\, 7 p.m. Eastern Super Farm Tractors  Hot Farm Tractors  Super Stock Combo Tractors (Wolv) Four-Wheel-Drive Trucks
URL:https://antiquetractorblog.com/event/mi-berrien-springs-ntpa-pull/
LOCATION:Berrien County Youth Fairgrounds\, 9122 U.S. 31\, Berrien Springs\, MI\, 49103
CATEGORIES:Tractor Pull
ORGANIZER;CN="NTPA Contact":MAILTO:info@ntpapull.com
END:VEVENT
BEGIN:VEVENT
DTSTART;TZID=America/Detroit:20260818T000000
DTEND;TZID=America/Detroit:20260818T235959
DTSTAMP:20260419T200228
CREATED:20250423T160429Z
LAST-MODIFIED:20260305T144242Z
UID:38442-1787011200-1787097599@antiquetractorblog.com
SUMMARY:OH - NTPA Huron County Fair Pull
DESCRIPTION:Facebook Page:  NTPA Truck and Tractor Pulling \n\n\n\nOne Session: Tuesday\, 7 p.m. Eastern Classic Super Stock Tractors  Light Pro Stock Tractors  Super Stock Four-Wheel-Drive Trucks (410 Cubic Inches)  Pro Stock Diesel 4×4 3.0 Trucks  Hot Rod V-8 Modifieds
URL:https://antiquetractorblog.com/event/oh-norwalk-ntpa-pull/
LOCATION:Huron County Fairgrounds\, 940 Fair Road\, Norwalk\, OH\, 44857
CATEGORIES:Tractor Pull
ORGANIZER;CN="NTPA Contact":MAILTO:info@ntpapull.com
END:VEVENT
BEGIN:VEVENT
DTSTART;TZID=America/Detroit:20260820T000000
DTEND;TZID=America/Detroit:20260822T235959
DTSTAMP:20260419T200228
CREATED:20250423T160431Z
LAST-MODIFIED:20260305T172516Z
UID:38444-1787184000-1787443199@antiquetractorblog.com
SUMMARY:OH - NTPA National Tractor Pulling Championships Pull
DESCRIPTION:Facebook Page:  NTPA Truck and Tractor Pulling \n\n\n\nSession One: Thursday\, 7 p.m. Eastern Light Super Stock Tractors  Two-Wheel-Drive Trucks  Four-Wheel-Drive Trucks  Light Modifieds  Unlimited Modifieds Session Two: Friday\, noon Eastern Super Stock Diesel Tractors  4.1 Pro Stock Tractors  Super Stock Diesel 4×4 Trucks  Modified Minis  Light Modifieds Session Three: Friday\, 7 p.m. Eastern Super Stock Open Tractors  Pro Stock Tractors  Four-Wheel-Drive Trucks  Super Semi Trucks  Modifieds Session Four: Saturday\, noon Eastern Light Super Stock Tractors  Super Stock Open Tractors  4.1 Pro Stock Tractors  Two-Wheel-Drive Trucks  Modifieds Session Five: Saturday\, 6:30 p.m. Eastern Super Stock Diesel Tractors  Pro Stock Tractors  Super Stock Diesel 4×4 Trucks  Super Semi Trucks  Modified Minis  Unlimited Modifieds
URL:https://antiquetractorblog.com/event/oh-bowling-green-ntpa-pull/
LOCATION:Wood County Fairgrounds\, 13800 West Poe Road\, Bowling Green\, OH\, 43402
CATEGORIES:Tractor Pull
ORGANIZER;CN="NTPA Contact":MAILTO:info@ntpapull.com
END:VEVENT
BEGIN:VEVENT
DTSTART;TZID=America/Detroit:20260820T000000
DTEND;TZID=America/Detroit:20260822T235959
DTSTAMP:20260419T200228
CREATED:20260305T180744Z
LAST-MODIFIED:20260305T181525Z
UID:41829-1787184000-1787443199@antiquetractorblog.com
SUMMARY:OH - NTPA National Tractor Pulling Championship (Super National Event)
DESCRIPTION:Facebook Page:  NTPA Truck and Tractor Pulling \n\n\n\nSession One: Thursday\, 7 p.m. EasternLight Super Stock TractorsTwo-Wheel-Drive TrucksFour-Wheel-Drive TrucksLight ModifiedsUnlimited ModifiedsSession Two: Friday\, noon EasternSuper Stock Diesel Tractors4.1 Pro Stock TractorsSuper Stock Diesel 4×4 TrucksModified MinisLight ModifiedsSession Three: Friday\, 7 p.m. EasternSuper Stock Open TractorsPro Stock TractorsFour-Wheel-Drive TrucksSuper Semi TrucksModifiedsSession Four: Saturday\, noon EasternLight Super Stock TractorsSuper Stock Open Tractors4.1 Pro Stock TractorsTwo-Wheel-Drive TrucksModifiedsSession Five: Saturday\, 6:30 p.m. EasternSuper Stock Diesel TractorsPro Stock TractorsSuper Stock Diesel 4×4 TrucksSuper Semi TrucksModified MinisUnlimited Modifieds
URL:https://antiquetractorblog.com/event/oh-ntpa-national-tractor-pulling-championship-super-national-event/
LOCATION:Wood County Fairgrounds\, 13800 West Poe Road\, Bowling Green\, OH\, 43402
CATEGORIES:Tractor Pull
ORGANIZER;CN="NTPA Contact":MAILTO:info@ntpapull.com
END:VEVENT
BEGIN:VEVENT
DTSTART;TZID=America/Detroit:20260822T000000
DTEND;TZID=America/Detroit:20260822T235959
DTSTAMP:20260419T200228
CREATED:20240201T195340Z
LAST-MODIFIED:20260106T131856Z
UID:27968-1787356800-1787443199@antiquetractorblog.com
SUMMARY:OH - Ohio State Antique Tractor Pull Association (OSATPA)
DESCRIPTION:Facebook Page:  OSATPA
URL:https://antiquetractorblog.com/event/oh-ohio-state-antique-tractor-pull-association-3/
LOCATION:Greene County Fairgrounds (Xenia\, OH)\, 120 Fairground Rd\, Xenia\, OH\, 45385
CATEGORIES:Tractor Pull
ORGANIZER;CN="Dan Beasley":MAILTO:osatpa101@gmail.com
END:VEVENT
BEGIN:VEVENT
DTSTART;TZID=America/New_York:20260823T000000
DTEND;TZID=America/New_York:20260823T235959
DTSTAMP:20260419T200228
CREATED:20240122T211217Z
LAST-MODIFIED:20260218T172343Z
UID:27755-1787443200-1787529599@antiquetractorblog.com
SUMMARY:MO - Egypt Mills Antique Tractor Club (EMATC) Antique Tractor Pull @ 10:00 am
DESCRIPTION:Facebook Page: Egypt Mills Antique Tractor Club
URL:https://antiquetractorblog.com/event/mo-egypt-fest-antique-tractor-pull/
LOCATION:EMATC Show Site\, 7495 State Hwy 177\, Cape Girardeau\, MO\, 63701\, United States
CATEGORIES:Tractor Pull
ORGANIZER;CN="Steven Peel":MAILTO:steven.e.peel@gmail.com
END:VEVENT
BEGIN:VEVENT
DTSTART;TZID=America/Detroit:20260825T000000
DTEND;TZID=America/Detroit:20260825T235959
DTSTAMP:20260419T200228
CREATED:20250423T160443Z
LAST-MODIFIED:20260305T144958Z
UID:38446-1787616000-1787702399@antiquetractorblog.com
SUMMARY:OH - NTPA Great Darke County Fair Pull
DESCRIPTION:Facebook Page:  NTPA Truck and Tractor Pulling \n\n\n\nOne Session: Tuesday\, 7 p.m. Eastern Light Pro Stock Tractors  Hot Farm Tractors  Two-Wheel-Drive Trucks  Four-Wheel-Drive Trucks  Pro Stock Diesel 4×4 3.0 Trucks  Modified Minis  Modifieds
URL:https://antiquetractorblog.com/event/oh-greenville-ntpa-pull/
LOCATION:Darke County Fairgrounds\, 800 Sweitzer Street\, Greenville\, OH\, 45331\, United States
CATEGORIES:Tractor Pull
ORGANIZER;CN="NTPA Contact":MAILTO:info@ntpapull.com
END:VEVENT
BEGIN:VEVENT
DTSTART;TZID=America/Detroit:20260828T000000
DTEND;TZID=America/Detroit:20260828T235959
DTSTAMP:20260419T200228
CREATED:20250423T160444Z
LAST-MODIFIED:20260305T145238Z
UID:38447-1787875200-1787961599@antiquetractorblog.com
SUMMARY:OH - NTPA Friday Night Spectacular Pull
DESCRIPTION:Facebook Page:  NTPA Truck and Tractor Pulling \n\n\n\nOne Session: Friday\, 6 p.m. Eastern Light Super Stock Tractors  Classic Super Stock Tractors  Super Farm Tractors  Pro Stock Tractors  Modified Minis  Unlimited Modifieds
URL:https://antiquetractorblog.com/event/oh-wellington-ntpa-pull/
LOCATION:Lorain County Fairgrounds\, 23000 Fairgrounds Road\, Wellington\, OH\, 44090\, United States
CATEGORIES:Tractor Pull
ORGANIZER;CN="NTPA Contact":MAILTO:info@ntpapull.com
END:VEVENT
BEGIN:VEVENT
DTSTART;TZID=America/Detroit:20260828T000000
DTEND;TZID=America/Detroit:20260907T235959
DTSTAMP:20260419T200228
CREATED:20260331T132956Z
LAST-MODIFIED:20260331T133542Z
UID:42395-1787875200-1788825599@antiquetractorblog.com
SUMMARY:CO - AVF - Pull at Colorado State Fair Equip Show
DESCRIPTION:Facebook Page:  Arkansas Valley Flywheelers
URL:https://antiquetractorblog.com/event/co-avf-pull-at-colorado-state-fair-equip-show/
LOCATION:Colorado State Fairgrounds\, 1001 Beulah Ave\, Pueblo\, CO\, 81004
CATEGORIES:Tractor Pull,Tractor Show
END:VEVENT
BEGIN:VEVENT
DTSTART;TZID=America/Detroit:20260829T000000
DTEND;TZID=America/Detroit:20260829T235959
DTSTAMP:20260419T200228
CREATED:20240105T153610Z
LAST-MODIFIED:20251013T173046Z
UID:26964-1787961600-1788047999@antiquetractorblog.com
SUMMARY:MO - Christian County Antique Tractor Pullers Show
DESCRIPTION:Facebook Page: Christian County Antique Tractor Pullers Association
URL:https://antiquetractorblog.com/event/mo-christian-county-antique-tractor-pullers-show-4/
LOCATION:Weurtley Farm\, 3065 SSR-W\, Ozark\, MO\, 65721\, United States
CATEGORIES:Tractor Pull
END:VEVENT
BEGIN:VEVENT
DTSTART;TZID=America/Detroit:20260829T000000
DTEND;TZID=America/Detroit:20260830T235959
DTSTAMP:20260419T200228
CREATED:20240201T195129Z
LAST-MODIFIED:20260319T154702Z
UID:27871-1787961600-1788134399@antiquetractorblog.com
SUMMARY:CAN - Strathcona Vintage Tractor Association (SVTA) Tractor Show and Pull
DESCRIPTION:Facebook: Strathcona Vintage Tractor Association- SVTA
URL:https://antiquetractorblog.com/event/can-strathcona-vintage-tractor-association-svta-tractor-show-pull-2/
LOCATION:The Pointe Agricultural Event Centre\, 53462 Range Rd 225\, Sherwood Park\, AB\, T8A 4V3\, Canada
CATEGORIES:Tractor Pull,Tractor Show
ORGANIZER;CN="Sid Lyle":MAILTO:svtacontact@gmail.com
END:VEVENT
BEGIN:VEVENT
DTSTART;TZID=America/Detroit:20260904T000000
DTEND;TZID=America/Detroit:20260904T235959
DTSTAMP:20260419T200228
CREATED:20250423T160446Z
LAST-MODIFIED:20260305T145451Z
UID:38449-1788480000-1788566399@antiquetractorblog.com
SUMMARY:OH - NTPA Tri-State Showdown Pull
DESCRIPTION:Facebook Page:  NTPA Truck and Tractor Pulling \n\n\n\nOne Session: Friday\, 6:30 p.m. Eastern Super Farm Tractors  Hot Farm Tractors  Two-Wheel-Drive Trucks  Four-Wheel-Drive Trucks  Modified Minis  Modifieds
URL:https://antiquetractorblog.com/event/oh-wauseon-ntpa-pull/
LOCATION:Fulton County Fairgrounds\, 8514 State Route 108\, Wauseon\, OH\, 43567
CATEGORIES:Tractor Pull
ORGANIZER;CN="NTPA Contact":MAILTO:info@ntpapull.com
END:VEVENT
BEGIN:VEVENT
DTSTART;TZID=America/Detroit:20260904T000000
DTEND;TZID=America/Detroit:20260905T235959
DTSTAMP:20260419T200228
CREATED:20250423T160447Z
LAST-MODIFIED:20260305T145734Z
UID:38450-1788480000-1788652799@antiquetractorblog.com
SUMMARY:OH - NTPA Charlie Swartz Memorial Pull
DESCRIPTION:Facebook Page:  NTPA Truck and Tractor Pulling \n\n\n\nSession One: Friday\, 7 p.m. Eastern Light Super Stock Tractors  Light Limited Super Stock Tractors  Classic Super Stock Tractors  Pro Stock Tractors  Two-Wheel-Drive Trucks Session Two: Saturday\, 7 p.m. Eastern Light Super Stock Tractors  Light Limited Super Stock Tractors  Classic Super Stock Tractors  Pro Stock Tractors  Two-Wheel-Drive Trucks
URL:https://antiquetractorblog.com/event/oh-canton-ntpa-pull/
LOCATION:Stark County Fairgrounds\, 305 Wertz Avenue Northwest\, Canton\, OH\, 44708
CATEGORIES:Tractor Pull
ORGANIZER;CN="NTPA Contact":MAILTO:info@ntpapull.com
END:VEVENT
BEGIN:VEVENT
DTSTART;TZID=America/Detroit:20260905T000000
DTEND;TZID=America/Detroit:20260905T235959
DTSTAMP:20260419T200228
CREATED:20250423T160458Z
LAST-MODIFIED:20260305T145911Z
UID:38451-1788566400-1788652799@antiquetractorblog.com
SUMMARY:IN - NTPA Amishville USA Regional Pull
DESCRIPTION:Facebook Page:  NTPA Truck and Tractor Pulling \n\n\n\nOne Session: Saturday\, 7 p.m. Eastern Light Pro Stock Tractors  Hot Farm Tractors  Four-Wheel-Drive Trucks  Pro Stock Diesel 4×4 3.0 Trucks
URL:https://antiquetractorblog.com/event/in-geneva-ntpa-pull/
LOCATION:Amishville USA Campground\, 844 E 900 S\, Geneva\, IN\, 46740
CATEGORIES:Tractor Pull
ORGANIZER;CN="NTPA Contact":MAILTO:info@ntpapull.com
END:VEVENT
BEGIN:VEVENT
DTSTART;TZID=America/New_York:20260905T000000
DTEND;TZID=America/New_York:20260906T235959
DTSTAMP:20260419T200228
CREATED:20240423T130244Z
LAST-MODIFIED:20251022T170918Z
UID:31556-1788566400-1788739199@antiquetractorblog.com
SUMMARY:CO - Rocky Mountain Tractor Pullers - Old Thresher Days
DESCRIPTION:Facebook Page: Rocky Mountain Tractor Pullers Assoc.
URL:https://antiquetractorblog.com/event/co-rocky-mountain-tractor-pullers-old-thresher-days/
LOCATION:Yuma County Fairgrounds\, 410 W Hoag Ave\, Yuma\, Colorado\, 80759\, United States
CATEGORIES:Tractor Pull
ORGANIZER;CN="Chuck Kanagy":MAILTO:callchuck911@msn.com
END:VEVENT
BEGIN:VEVENT
DTSTART;TZID=America/Detroit:20260906T000000
DTEND;TZID=America/Detroit:20260906T235959
DTSTAMP:20260419T200228
CREATED:20250423T160459Z
LAST-MODIFIED:20260305T150100Z
UID:38452-1788652800-1788739199@antiquetractorblog.com
SUMMARY:WI - NTPA Ridgeland Nationals Pull
DESCRIPTION:Facebook Page:  NTPA Truck and Tractor Pulling \n\n\n\nOne Session: Sunday\, 7 p.m. Central Light Super Stock Tractors (WTPA) Light Limited Super Stock Tractors (WTPA) Super Farm Tractors  Light Pro Stock Tractors (WTPA) 4.1 Pro Stock Tractors  Pro Street Diesel 4×4 2.6 Trucks (WTPA) Modified Minis
URL:https://antiquetractorblog.com/event/wi-ridgeland-ntpa-pull/
LOCATION:Ridgeland Community Center / Eldon Luer Field\, Diamond Street at Main Street\, Ridgeland\, WI\, 54763
CATEGORIES:Tractor Pull
ORGANIZER;CN="NTPA Contact":MAILTO:info@ntpapull.com
END:VEVENT
BEGIN:VEVENT
DTSTART;TZID=America/Detroit:20260910T000000
DTEND;TZID=America/Detroit:20260912T235959
DTSTAMP:20260419T200228
CREATED:20250423T160500Z
LAST-MODIFIED:20260305T150249Z
UID:38453-1788998400-1789257599@antiquetractorblog.com
SUMMARY:IL - NTPA DeKalb County Fair NTPA Grand Nationals Pull
DESCRIPTION:Facebook Page:  NTPA Truck and Tractor Pulling \n\n\n\nSession One: Thursday\, 6:30 p.m. Central Two-Wheel-Drive Trucks  Four-Wheel-Drive Trucks  Super Stock Diesel 4×4 Trucks  Pro Stock Diesel 4×4 3.6 Trucks Session Two: Saturday\, 12:30 p.m. Central Pro Stock Tractors  4.1 Pro Stock Tractors  Light Modifieds  Modifieds Session Three: Saturday\, 6:30 p.m. Central Pro Stock Tractors  4.1 Pro Stock Tractors  Light Modifieds  Modifieds
URL:https://antiquetractorblog.com/event/il-sandwich-ntpa-pull/
LOCATION:Sandwich Fairgrounds\, 1401 Suydam Road\, Sandwich\, IL\, 60548
CATEGORIES:Tractor Pull
ORGANIZER;CN="NTPA Contact":MAILTO:info@ntpapull.com
END:VEVENT
BEGIN:VEVENT
DTSTART;TZID=America/Detroit:20260911T000000
DTEND;TZID=America/Detroit:20260911T235959
DTSTAMP:20260419T200228
CREATED:20250423T160504Z
LAST-MODIFIED:20260305T150422Z
UID:38455-1789084800-1789171199@antiquetractorblog.com
SUMMARY:IN - NTPA Thunder in the Park Pull
DESCRIPTION:Facebook Page:  NTPA Truck and Tractor Pulling \n\n\n\nOne Session: Friday\, 7 p.m. Eastern Light Pro Stock Tractors  Two-Wheel-Drive Trucks  Pro Stock Diesel 4×4 3.0 Trucks  Modified Minis  Modifieds
URL:https://antiquetractorblog.com/event/in-roanoke-ntpa-pull/
LOCATION:Roanoke Park\, Seminary Street\, Roanoke\, IN\, 46783
CATEGORIES:Tractor Pull
ORGANIZER;CN="NTPA Contact":MAILTO:info@ntpapull.com
END:VEVENT
BEGIN:VEVENT
DTSTART;TZID=America/Detroit:20260911T000000
DTEND;TZID=America/Detroit:20260912T235959
DTSTAMP:20260419T200228
CREATED:20250423T160502Z
LAST-MODIFIED:20260305T150605Z
UID:38454-1789084800-1789257599@antiquetractorblog.com
SUMMARY:NC - NTPA Robeson County 300 Pull
DESCRIPTION:Facebook Page:  NTPA Truck and Tractor Pulling \n\n\n\nSession One: Friday\, 7 p.m. Eastern Heavy Super Stock Tractors (UPOC) Super Farm Tractors  Light Pro Stock Tractors  Pro Farm Tractors (UPOC) Two-Wheel-Drive Trucks  Light Four-Wheel-Drive Trucks (UPOC) Modified Minis Session Two: Saturday\, 7 p.m. Eastern Heavy Super Stock Tractors (UPOC) Super Farm Tractors  Light Pro Stock Tractors  Pro Farm Tractors (UPOC) Two-Wheel-Drive Trucks  Light Four-Wheel-Drive Trucks (UPOC) Modified Minis
URL:https://antiquetractorblog.com/event/nc-lumberton-ntpa-pull/
LOCATION:Robeson County Fairgrounds\, 3750 Martin Luther King Jr Drive\, Lumberton\, NC\, 28358
CATEGORIES:Tractor Pull
ORGANIZER;CN="NTPA Contact":MAILTO:info@ntpapull.com
END:VEVENT
BEGIN:VEVENT
DTSTART;TZID=America/Detroit:20260912T000000
DTEND;TZID=America/Detroit:20260912T235959
DTSTAMP:20260419T200228
CREATED:20250423T160513Z
LAST-MODIFIED:20260305T150744Z
UID:38456-1789171200-1789257599@antiquetractorblog.com
SUMMARY:IN - NTPA Lynn Lions Club Pull
DESCRIPTION:Facebook Page:  NTPA Truck and Tractor Pulling \n\n\n\nOne Session: Saturday\, 7 p.m. Eastern Light Pro Stock Tractors  Hot Farm Tractors  Two-Wheel-Drive Trucks  Four-Wheel-Drive Trucks
URL:https://antiquetractorblog.com/event/in-lynn-ntpa-pull/
LOCATION:Lynn Lions Club\, 2334 County Road 790 S\, Lynn\, IN\, 47355
CATEGORIES:Tractor Pull
ORGANIZER;CN="NTPA Contact":MAILTO:info@ntpapull.com
END:VEVENT
BEGIN:VEVENT
DTSTART;TZID=America/Detroit:20260913T000000
DTEND;TZID=America/Detroit:20260913T235959
DTSTAMP:20260419T200228
CREATED:20240201T195301Z
LAST-MODIFIED:20260218T172407Z
UID:27936-1789257600-1789343999@antiquetractorblog.com
SUMMARY:MO - SEMO Fair Antique Tractor Pull @ 8:00 am
DESCRIPTION:Facebook Page: Egypt Mills Antique Tractor Club
URL:https://antiquetractorblog.com/event/mo-semo-fair-antique-tractor-pull-2/
LOCATION:SEMO Fairgrounds\, 401 Kiwanis Drive\, Cape Girardeau\, MO\, 63701\, United States
CATEGORIES:Tractor Pull
ORGANIZER;CN="Steven Peel":MAILTO:steven.e.peel@gmail.com
END:VEVENT
BEGIN:VEVENT
DTSTART;TZID=America/Detroit:20260915T000000
DTEND;TZID=America/Detroit:20260915T235959
DTSTAMP:20260419T200228
CREATED:20250423T160515Z
LAST-MODIFIED:20260305T153059Z
UID:38457-1789430400-1789516799@antiquetractorblog.com
SUMMARY:MI - NTPA Allegan County Fair Pull
DESCRIPTION:Facebook Page:  NTPA Truck and Tractor Pulling \n\n\n\nOne Session: Tuesday\, 7 p.m. Eastern Super Farm Tractors  Hot Farm Tractors  Four-Wheel-Drive Trucks  Modifieds
URL:https://antiquetractorblog.com/event/mi-allegan-ntpa-pull/
LOCATION:Allegan County Fairgrounds\, 150 Allegan County Fair Drive\, Allegan\, MI\, 49010
CATEGORIES:Tractor Pull
ORGANIZER;CN="NTPA Contact":MAILTO:info@ntpapull.com
END:VEVENT
BEGIN:VEVENT
DTSTART;TZID=America/New_York:20260918T000000
DTEND;TZID=America/New_York:20260920T235959
DTSTAMP:20260419T200228
CREATED:20250116T195140Z
LAST-MODIFIED:20260127T201044Z
UID:35684-1789689600-1789948799@antiquetractorblog.com
SUMMARY:PA - Southern Cove Power Reunion
DESCRIPTION:Facebook Page: Southern Cove Power Reunion
URL:https://antiquetractorblog.com/event/pa-southern-cove-antique-tractor-pull-8/
LOCATION:Southern Cove Show Site\, 145 Cave Rd\, New Enterprise\, PA\, 16664\, United States
CATEGORIES:Tractor Pull,Tractor Show
END:VEVENT
BEGIN:VEVENT
DTSTART;TZID=America/Detroit:20260919T000000
DTEND;TZID=America/Detroit:20260919T235959
DTSTAMP:20260419T200228
CREATED:20250423T160516Z
LAST-MODIFIED:20260305T172854Z
UID:38458-1789776000-1789862399@antiquetractorblog.com
SUMMARY:OH - NTPA All-Star Season Finale Pull
DESCRIPTION:Facebook Page:  NTPA Truck and Tractor Pulling \n\n\n\nSession One: Saturday\, 5 p.m. Eastern Light Super Stock Tractors  Super Stock Diesel Tractors  Super Stock Open Tractors  Super Farm Tractors  Pro Stock Tractors  4.1 Pro Stock Tractors  Two-Wheel-Drive Trucks  Four-Wheel-Drive Trucks  Super Stock Diesel 4×4 Trucks  Super Semi Trucks  Modified Minis  Light Modifieds  Modifieds  Unlimited Modifieds 
URL:https://antiquetractorblog.com/event/oh-urbana-ntpa-pull-2/
LOCATION:Champaign County Fairgrounds\, 384 Park Avenue\, Urbana\, OH\, 43078
CATEGORIES:Tractor Pull
ORGANIZER;CN="NTPA Contact":MAILTO:info@ntpapull.com
END:VEVENT
BEGIN:VEVENT
DTSTART;TZID=America/Detroit:20260919T000000
DTEND;TZID=America/Detroit:20260920T235959
DTSTAMP:20260419T200228
CREATED:20260331T132956Z
LAST-MODIFIED:20260331T133334Z
UID:42394-1789776000-1789948799@antiquetractorblog.com
SUMMARY:CO - AVF - Florence Pioneer Days Pull and Parade
DESCRIPTION:Facebook Page:  Arkansas Valley Flywheelers
URL:https://antiquetractorblog.com/event/co-avf-florence-pioneer-days-pull-and-parade/
LOCATION:Pathfinder Park\, 6655 State Hwy 115\, Florence\, CO\, 81226
CATEGORIES:Tractor Pull,Tractor Show
END:VEVENT
BEGIN:VEVENT
DTSTART;TZID=America/Detroit:20260925T000000
DTEND;TZID=America/Detroit:20260925T235959
DTSTAMP:20260419T200228
CREATED:20250423T160518Z
LAST-MODIFIED:20260305T163533Z
UID:38459-1790294400-1790380799@antiquetractorblog.com
SUMMARY:MI - NTPA St Joseph County Grange Fair Pull
DESCRIPTION:Facebook Page:  NTPA Truck and Tractor Pulling \n\n\n\nOne Session: Friday\, 7 p.m. Eastern Super Farm Tractors  Super Stock Combo Tractors (Wolv) Two-Wheel-Drive Trucks  Modified Minis  Modifieds
URL:https://antiquetractorblog.com/event/oh-centreville-ntpa-pull/
LOCATION:St Joseph County Grange Fairgrounds\, 316 East Charlotte Street\, Centreville\, MI\, 49032
CATEGORIES:Tractor Pull
ORGANIZER;CN="NTPA Contact":MAILTO:info@ntpapull.com
END:VEVENT
BEGIN:VEVENT
DTSTART;TZID=America/Detroit:20260926T000000
DTEND;TZID=America/Detroit:20260926T235959
DTSTAMP:20260419T200228
CREATED:20240105T153611Z
LAST-MODIFIED:20251107T130623Z
UID:26966-1790380800-1790467199@antiquetractorblog.com
SUMMARY:GA - Fitzgerald Antique Tractor Show and Parade
DESCRIPTION:Facebook Page: Fitzgerald Antique Tractor Show and Parade
URL:https://antiquetractorblog.com/event/ga-fitzgerald-antique-tractor-show-parade-3/
LOCATION:Paulk Park Campground\, 146 Paulk Park Rd\, Fitzgerald\, GA\, 31750\, United States
CATEGORIES:Tractor Pull
ORGANIZER;CN="Stacy Ruis":MAILTO:sruis@fitzgeraldga.org
END:VEVENT
BEGIN:VEVENT
DTSTART;TZID=America/Detroit:20260926T000000
DTEND;TZID=America/Detroit:20260926T235959
DTSTAMP:20260419T200228
CREATED:20240105T153614Z
LAST-MODIFIED:20251013T172943Z
UID:26967-1790380800-1790467199@antiquetractorblog.com
SUMMARY:MO - Christian County Antique Tractor Pullers Show
DESCRIPTION:Facebook Page: Christian County Antique Tractor Pullers Association
URL:https://antiquetractorblog.com/event/mo-christian-county-antique-tractor-pullers-show-5/
LOCATION:Weurtley Farm\, 3065 SSR-W\, Ozark\, MO\, 65721\, United States
CATEGORIES:Tractor Pull
END:VEVENT
BEGIN:VEVENT
DTSTART;TZID=America/Detroit:20260926T000000
DTEND;TZID=America/Detroit:20260926T235959
DTSTAMP:20260419T200228
CREATED:20250401T195540Z
LAST-MODIFIED:20260106T131958Z
UID:37858-1790380800-1790467199@antiquetractorblog.com
SUMMARY:OH - Ohio State Antique Tractor Pull Association (OSATPA)
DESCRIPTION:Facebook Page:  OSATPA
URL:https://antiquetractorblog.com/event/oh-ohio-state-antique-tractor-pull-association-5/
LOCATION:Greene County Fairgrounds (Xenia\, OH)\, 120 Fairground Rd\, Xenia\, OH\, 45385
CATEGORIES:Tractor Pull
ORGANIZER;CN="Dan Beasley":MAILTO:osatpa101@gmail.com
END:VEVENT
END:VCALENDAR