BEGIN:VCALENDAR
VERSION:2.0
PRODID:-//Antique Tractor Blog - ECPv6.15.20//NONSGML v1.0//EN
CALSCALE:GREGORIAN
METHOD:PUBLISH
X-WR-CALNAME:Antique Tractor Blog
X-ORIGINAL-URL:https://antiquetractorblog.com
X-WR-CALDESC:Events for Antique Tractor Blog
REFRESH-INTERVAL;VALUE=DURATION:PT1H
X-Robots-Tag:noindex
X-PUBLISHED-TTL:PT1H
BEGIN:VTIMEZONE
TZID:America/New_York
BEGIN:DAYLIGHT
TZOFFSETFROM:-0500
TZOFFSETTO:-0400
TZNAME:EDT
DTSTART:20250309T070000
END:DAYLIGHT
BEGIN:STANDARD
TZOFFSETFROM:-0400
TZOFFSETTO:-0500
TZNAME:EST
DTSTART:20251102T060000
END:STANDARD
BEGIN:DAYLIGHT
TZOFFSETFROM:-0500
TZOFFSETTO:-0400
TZNAME:EDT
DTSTART:20260308T070000
END:DAYLIGHT
BEGIN:STANDARD
TZOFFSETFROM:-0400
TZOFFSETTO:-0500
TZNAME:EST
DTSTART:20261101T060000
END:STANDARD
BEGIN:DAYLIGHT
TZOFFSETFROM:-0500
TZOFFSETTO:-0400
TZNAME:EDT
DTSTART:20270314T070000
END:DAYLIGHT
BEGIN:STANDARD
TZOFFSETFROM:-0400
TZOFFSETTO:-0500
TZNAME:EST
DTSTART:20271107T060000
END:STANDARD
END:VTIMEZONE
BEGIN:VEVENT
DTSTART;TZID=America/New_York:20261114T000000
DTEND;TZID=America/New_York:20261114T235959
DTSTAMP:20260422T224144
CREATED:20241119T205510Z
LAST-MODIFIED:20260302T175650Z
UID:34306-1794614400-1794700799@antiquetractorblog.com
SUMMARY:SC - Western Carolina Antique Tractor Pull
DESCRIPTION:Facebook Page:  Western Carolina Antique Tractor Pull
URL:https://antiquetractorblog.com/event/sc-western-carolina-antique-tractor-pull-and-show-2/
LOCATION:Western Carolina Fairgrounds\, 561 May Royal Dr\, Aiken\, SC\, 29801\, United States
CATEGORIES:Tractor Pull,Tractor Show
ORGANIZER;CN="Larry Willing":MAILTO:larryfwilling@yahoo.com
END:VEVENT
END:VCALENDAR