BEGIN:VCALENDAR
VERSION:2.0
PRODID:-//Antique Tractor Blog - ECPv6.15.20//NONSGML v1.0//EN
CALSCALE:GREGORIAN
METHOD:PUBLISH
X-ORIGINAL-URL:https://antiquetractorblog.com
X-WR-CALDESC:Events for Antique Tractor Blog
REFRESH-INTERVAL;VALUE=DURATION:PT1H
X-Robots-Tag:noindex
X-PUBLISHED-TTL:PT1H
BEGIN:VTIMEZONE
TZID:America/Detroit
BEGIN:DAYLIGHT
TZOFFSETFROM:-0500
TZOFFSETTO:-0400
TZNAME:EDT
DTSTART:20250309T070000
END:DAYLIGHT
BEGIN:STANDARD
TZOFFSETFROM:-0400
TZOFFSETTO:-0500
TZNAME:EST
DTSTART:20251102T060000
END:STANDARD
BEGIN:DAYLIGHT
TZOFFSETFROM:-0500
TZOFFSETTO:-0400
TZNAME:EDT
DTSTART:20260308T070000
END:DAYLIGHT
BEGIN:STANDARD
TZOFFSETFROM:-0400
TZOFFSETTO:-0500
TZNAME:EST
DTSTART:20261101T060000
END:STANDARD
BEGIN:DAYLIGHT
TZOFFSETFROM:-0500
TZOFFSETTO:-0400
TZNAME:EDT
DTSTART:20270314T070000
END:DAYLIGHT
BEGIN:STANDARD
TZOFFSETFROM:-0400
TZOFFSETTO:-0500
TZNAME:EST
DTSTART:20271107T060000
END:STANDARD
END:VTIMEZONE
BEGIN:VEVENT
DTSTART;TZID=America/Detroit:20261016T000000
DTEND;TZID=America/Detroit:20261016T235959
DTSTAMP:20260422T192538
CREATED:20240201T195214Z
LAST-MODIFIED:20260305T142544Z
UID:27899-1792108800-1792195199@antiquetractorblog.com
SUMMARY:MD - Bowles Farms Corn Maze Tractor Show and Pull
DESCRIPTION:Facebook Page: Bowles Farms – Corn Maze
URL:https://antiquetractorblog.com/event/md-bowles-farms-corn-maze-tractor-pull/
LOCATION:Bowles Farms\, 22880 Budds Creek Rd\, Clements\, MD\, 20624\, United States
CATEGORIES:Tractor Pull
ORGANIZER;CN="Mark Jenkins":MAILTO:bowlesfarms@rcn.com
END:VEVENT
END:VCALENDAR