BEGIN:VCALENDAR
VERSION:2.0
PRODID:-//Antique Tractor Blog - ECPv6.15.20//NONSGML v1.0//EN
CALSCALE:GREGORIAN
METHOD:PUBLISH
X-ORIGINAL-URL:https://antiquetractorblog.com
X-WR-CALDESC:Events for Antique Tractor Blog
REFRESH-INTERVAL;VALUE=DURATION:PT1H
X-Robots-Tag:noindex
X-PUBLISHED-TTL:PT1H
BEGIN:VTIMEZONE
TZID:America/New_York
BEGIN:DAYLIGHT
TZOFFSETFROM:-0500
TZOFFSETTO:-0400
TZNAME:EDT
DTSTART:20250309T070000
END:DAYLIGHT
BEGIN:STANDARD
TZOFFSETFROM:-0400
TZOFFSETTO:-0500
TZNAME:EST
DTSTART:20251102T060000
END:STANDARD
BEGIN:DAYLIGHT
TZOFFSETFROM:-0500
TZOFFSETTO:-0400
TZNAME:EDT
DTSTART:20260308T070000
END:DAYLIGHT
BEGIN:STANDARD
TZOFFSETFROM:-0400
TZOFFSETTO:-0500
TZNAME:EST
DTSTART:20261101T060000
END:STANDARD
BEGIN:DAYLIGHT
TZOFFSETFROM:-0500
TZOFFSETTO:-0400
TZNAME:EDT
DTSTART:20270314T070000
END:DAYLIGHT
BEGIN:STANDARD
TZOFFSETFROM:-0400
TZOFFSETTO:-0500
TZNAME:EST
DTSTART:20271107T060000
END:STANDARD
END:VTIMEZONE
BEGIN:VTIMEZONE
TZID:America/Detroit
BEGIN:DAYLIGHT
TZOFFSETFROM:-0500
TZOFFSETTO:-0400
TZNAME:EDT
DTSTART:20250309T070000
END:DAYLIGHT
BEGIN:STANDARD
TZOFFSETFROM:-0400
TZOFFSETTO:-0500
TZNAME:EST
DTSTART:20251102T060000
END:STANDARD
BEGIN:DAYLIGHT
TZOFFSETFROM:-0500
TZOFFSETTO:-0400
TZNAME:EDT
DTSTART:20260308T070000
END:DAYLIGHT
BEGIN:STANDARD
TZOFFSETFROM:-0400
TZOFFSETTO:-0500
TZNAME:EST
DTSTART:20261101T060000
END:STANDARD
BEGIN:DAYLIGHT
TZOFFSETFROM:-0500
TZOFFSETTO:-0400
TZNAME:EDT
DTSTART:20270314T070000
END:DAYLIGHT
BEGIN:STANDARD
TZOFFSETFROM:-0400
TZOFFSETTO:-0500
TZNAME:EST
DTSTART:20271107T060000
END:STANDARD
END:VTIMEZONE
BEGIN:VEVENT
DTSTART;TZID=America/New_York:20261009T000000
DTEND;TZID=America/New_York:20261010T235959
DTSTAMP:20260422T192525
CREATED:20250129T192538Z
LAST-MODIFIED:20260205T153821Z
UID:36157-1791504000-1791676799@antiquetractorblog.com
SUMMARY:MO - EDGE&TA Branch 28 - Ozarks Older Iron Club Tractor Show & Pulls
DESCRIPTION:Facebook Page:  Ozarks Older Iron Club
URL:https://antiquetractorblog.com/event/mo-ozarks-older-iron-club-tractor-show-pulls-2/
LOCATION:Ozarks Older Iron Club\, 310 Canaday Ln\, Cabool\, MO\, 65689\, United States
CATEGORIES:Tractor Pull,Tractor Show
ORGANIZER;CN="Steve Balough":MAILTO:OOICoffice2023@gmail.com
END:VEVENT
BEGIN:VEVENT
DTSTART;TZID=America/New_York:20261010T000000
DTEND;TZID=America/New_York:20261010T235959
DTSTAMP:20260422T192525
CREATED:20250116T195142Z
LAST-MODIFIED:20260127T201601Z
UID:35686-1791590400-1791676799@antiquetractorblog.com
SUMMARY:PA - Southern Cove Antique Tractor Pull
DESCRIPTION:Facebook Page: Southern Cove Power Reunion
URL:https://antiquetractorblog.com/event/pa-southern-cove-antique-tractor-pull-10/
LOCATION:Southern Cove Show Site\, 145 Cave Rd\, New Enterprise\, PA\, 16664\, United States
CATEGORIES:Tractor Pull
END:VEVENT
BEGIN:VEVENT
DTSTART;TZID=America/Detroit:20261010T000000
DTEND;TZID=America/Detroit:20261011T235959
DTSTAMP:20260422T192525
CREATED:20260202T193909Z
LAST-MODIFIED:20260202T195347Z
UID:41092-1791590400-1791763199@antiquetractorblog.com
SUMMARY:CO - AVF - Milberger Farm Pull and Show
DESCRIPTION:Facebook Page: Arkansas Valley Flywheelers
URL:https://antiquetractorblog.com/event/co-avf-milberger-farms-pull-and-show/
LOCATION:Milberger Farm\, 28570 E US Highway 50\, Pueblo\, CO\, 81006
CATEGORIES:Tractor Pull,Tractor Show
END:VEVENT
END:VCALENDAR