BEGIN:VCALENDAR
VERSION:2.0
PRODID:-//Antique Tractor Blog - ECPv6.15.20//NONSGML v1.0//EN
CALSCALE:GREGORIAN
METHOD:PUBLISH
X-ORIGINAL-URL:https://antiquetractorblog.com
X-WR-CALDESC:Events for Antique Tractor Blog
REFRESH-INTERVAL;VALUE=DURATION:PT1H
X-Robots-Tag:noindex
X-PUBLISHED-TTL:PT1H
BEGIN:VTIMEZONE
TZID:America/New_York
BEGIN:DAYLIGHT
TZOFFSETFROM:-0500
TZOFFSETTO:-0400
TZNAME:EDT
DTSTART:20250309T070000
END:DAYLIGHT
BEGIN:STANDARD
TZOFFSETFROM:-0400
TZOFFSETTO:-0500
TZNAME:EST
DTSTART:20251102T060000
END:STANDARD
BEGIN:DAYLIGHT
TZOFFSETFROM:-0500
TZOFFSETTO:-0400
TZNAME:EDT
DTSTART:20260308T070000
END:DAYLIGHT
BEGIN:STANDARD
TZOFFSETFROM:-0400
TZOFFSETTO:-0500
TZNAME:EST
DTSTART:20261101T060000
END:STANDARD
BEGIN:DAYLIGHT
TZOFFSETFROM:-0500
TZOFFSETTO:-0400
TZNAME:EDT
DTSTART:20270314T070000
END:DAYLIGHT
BEGIN:STANDARD
TZOFFSETFROM:-0400
TZOFFSETTO:-0500
TZNAME:EST
DTSTART:20271107T060000
END:STANDARD
END:VTIMEZONE
BEGIN:VEVENT
DTSTART;TZID=America/New_York:20261003T000000
DTEND;TZID=America/New_York:20261004T235959
DTSTAMP:20260422T192527
CREATED:20240423T130245Z
LAST-MODIFIED:20251022T171329Z
UID:31557-1790985600-1791158399@antiquetractorblog.com
SUMMARY:CO - Rocky Mountain Tractor Pullers - Cider Days
DESCRIPTION:Facebook Page: Rocky Mountain Tractor Pullers Assoc.
URL:https://antiquetractorblog.com/event/co-rocky-mountain-tractor-pullers-cider-days/
LOCATION:Belmar Park (Lakewood\, CO)\, 801 S Yarrow St\, Lakewood\, CO\, 80226\, United States
CATEGORIES:Tractor Pull
ORGANIZER;CN="Chuck Kanagy":MAILTO:callchuck911@msn.com
END:VEVENT
END:VCALENDAR