BEGIN:VCALENDAR
VERSION:2.0
PRODID:-//Antique Tractor Blog - ECPv6.15.20//NONSGML v1.0//EN
CALSCALE:GREGORIAN
METHOD:PUBLISH
X-ORIGINAL-URL:https://antiquetractorblog.com
X-WR-CALDESC:Events for Antique Tractor Blog
REFRESH-INTERVAL;VALUE=DURATION:PT1H
X-Robots-Tag:noindex
X-PUBLISHED-TTL:PT1H
BEGIN:VTIMEZONE
TZID:America/Detroit
BEGIN:DAYLIGHT
TZOFFSETFROM:-0500
TZOFFSETTO:-0400
TZNAME:EDT
DTSTART:20250309T070000
END:DAYLIGHT
BEGIN:STANDARD
TZOFFSETFROM:-0400
TZOFFSETTO:-0500
TZNAME:EST
DTSTART:20251102T060000
END:STANDARD
BEGIN:DAYLIGHT
TZOFFSETFROM:-0500
TZOFFSETTO:-0400
TZNAME:EDT
DTSTART:20260308T070000
END:DAYLIGHT
BEGIN:STANDARD
TZOFFSETFROM:-0400
TZOFFSETTO:-0500
TZNAME:EST
DTSTART:20261101T060000
END:STANDARD
BEGIN:DAYLIGHT
TZOFFSETFROM:-0500
TZOFFSETTO:-0400
TZNAME:EDT
DTSTART:20270314T070000
END:DAYLIGHT
BEGIN:STANDARD
TZOFFSETFROM:-0400
TZOFFSETTO:-0500
TZNAME:EST
DTSTART:20271107T060000
END:STANDARD
END:VTIMEZONE
BEGIN:VEVENT
DTSTART;TZID=America/Detroit:20260812T000000
DTEND;TZID=America/Detroit:20260812T235959
DTSTAMP:20260422T162813
CREATED:20250423T160404Z
LAST-MODIFIED:20260227T133455Z
UID:38435-1786492800-1786579199@antiquetractorblog.com
SUMMARY:MI - NTPA Branch County Fair Pull
DESCRIPTION:Facebook Page:  NTPA Truck and Tractor Pulling \n\n\n\nOne Session: Wednesday\, 7 p.m. Eastern Super Farm Tractors  Light Pro Stock Tractors  Four-Wheel-Drive Trucks  Pro Stock Diesel 4×4 3.0 Trucks  Modified Minis
URL:https://antiquetractorblog.com/event/mi-coldwater-ntpa-pull/
LOCATION:Branch County Fairgrounds\, 262 South Sprague Street\, Coldwater\, MI\, 49036
CATEGORIES:Tractor Pull
ORGANIZER;CN="NTPA Contact":MAILTO:info@ntpapull.com
END:VEVENT
END:VCALENDAR