BEGIN:VCALENDAR
VERSION:2.0
PRODID:-//Antique Tractor Blog - ECPv6.15.20//NONSGML v1.0//EN
CALSCALE:GREGORIAN
METHOD:PUBLISH
X-WR-CALNAME:Antique Tractor Blog
X-ORIGINAL-URL:https://antiquetractorblog.com
X-WR-CALDESC:Events for Antique Tractor Blog
REFRESH-INTERVAL;VALUE=DURATION:PT1H
X-Robots-Tag:noindex
X-PUBLISHED-TTL:PT1H
BEGIN:VTIMEZONE
TZID:America/Detroit
BEGIN:DAYLIGHT
TZOFFSETFROM:-0500
TZOFFSETTO:-0400
TZNAME:EDT
DTSTART:20250309T070000
END:DAYLIGHT
BEGIN:STANDARD
TZOFFSETFROM:-0400
TZOFFSETTO:-0500
TZNAME:EST
DTSTART:20251102T060000
END:STANDARD
BEGIN:DAYLIGHT
TZOFFSETFROM:-0500
TZOFFSETTO:-0400
TZNAME:EDT
DTSTART:20260308T070000
END:DAYLIGHT
BEGIN:STANDARD
TZOFFSETFROM:-0400
TZOFFSETTO:-0500
TZNAME:EST
DTSTART:20261101T060000
END:STANDARD
BEGIN:DAYLIGHT
TZOFFSETFROM:-0500
TZOFFSETTO:-0400
TZNAME:EDT
DTSTART:20270314T070000
END:DAYLIGHT
BEGIN:STANDARD
TZOFFSETFROM:-0400
TZOFFSETTO:-0500
TZNAME:EST
DTSTART:20271107T060000
END:STANDARD
END:VTIMEZONE
BEGIN:VEVENT
DTSTART;TZID=America/Detroit:20260806T000000
DTEND;TZID=America/Detroit:20260808T235959
DTSTAMP:20260422T162516
CREATED:20250423T160345Z
LAST-MODIFIED:20260225T170549Z
UID:38428-1785974400-1786233599@antiquetractorblog.com
SUMMARY:IA - NTPA North Iowa Nationals Pull - Grand National Event
DESCRIPTION:Facebook Page:  NTPA Truck and Tractor Pulling \n\n\n\nSession One: Thursday\, 6 p.m. Central Super Stock Open Tractors  Two-Wheel-Drive Trucks  Super Stock Diesel 4×4 Trucks  Modified Minis  Light Modifieds  Modifieds Session Two: Friday\, noon Central Super Stock Open Tractors  4.1 Pro Stock Tractors  Four-Wheel-Drive Trucks  Modifieds Session Three: Friday\, 6 p.m. Central Light Super Stock Tractors  Super Stock Diesel Tractors  Super Farm Tractors  Pro Stock Tractors  Super Semi Trucks  Modified Minis  Unlimited Modifieds Session Four: Saturday\, noon Central Super Farm Tractors  Two-Wheel-Drive Trucks  Super Stock Diesel 4×4 Trucks  Light Modifieds Session Five: Saturday\, 6 p.m. Central Light Super Stock Tractors  Super Stock Diesel Tractors  Pro Stock Tractors  4.1 Pro Stock Tractors  Four-Wheel-Drive Trucks  Super Semi Trucks  Unlimited Modifieds
URL:https://antiquetractorblog.com/event/ia-rockwell-ntpa-pull/
LOCATION:Chamber Acres\, 500 Elm Street West\, Rockwell\, IA\, 50469
CATEGORIES:Tractor Pull
ORGANIZER;CN="NTPA Contact":MAILTO:info@ntpapull.com
END:VEVENT
BEGIN:VEVENT
DTSTART;TZID=America/Detroit:20260807T000000
DTEND;TZID=America/Detroit:20260807T235959
DTSTAMP:20260422T162516
CREATED:20250423T160358Z
LAST-MODIFIED:20260227T133134Z
UID:38431-1786060800-1786147199@antiquetractorblog.com
SUMMARY:OH - NTPA Randy Petro Memorial/Preble County Fair Pull
DESCRIPTION:Facebook Page:  NTPA Truck and Tractor Pulling \n\n\n\nOne Session: Friday\, 7 p.m. Eastern Light Pro Stock Tractors  Hot Farm Tractors  Two-Wheel-Drive Trucks  Pro Stock Diesel 4×4 3.0 Trucks
URL:https://antiquetractorblog.com/event/oh-eaton-ntpa-pull/
LOCATION:Preble County Fairgrounds\, 722 South Franklin Street\, Eaton\, OH\, 45320
CATEGORIES:Tractor Pull
ORGANIZER;CN="NTPA Contact":MAILTO:info@ntpapull.com
END:VEVENT
BEGIN:VEVENT
DTSTART;TZID=America/Detroit:20260807T000000
DTEND;TZID=America/Detroit:20260808T235959
DTSTAMP:20260422T162516
CREATED:20250423T160359Z
LAST-MODIFIED:20260225T180641Z
UID:38432-1786060800-1786233599@antiquetractorblog.com
SUMMARY:OH - NTPA Columbiana County Fair Pull
DESCRIPTION:Facebook Page:  NTPA Truck and Tractor Pulling \n\n\n\nSession One: Friday\, 7 p.m. Eastern Light Limited Super Stock Tractors  Classic Super Stock Tractors  5.0 Pro Stock Tractors  Super Stock Four-Wheel-Drive Trucks (410 Cubic Inches) Session Two: Saturday\, 7 p.m. Eastern Light Limited Super Stock Tractors  Classic Super Stock Tractors  5.0 Pro Stock Tractors  Super Stock Four-Wheel-Drive Trucks (410 Cubic Inches)  Hot Rod V-8 Modifieds
URL:https://antiquetractorblog.com/event/oh-lisbon-ntpa-pull/
LOCATION:Columbiana County Fairgrounds\, 225 Lee Avenue\, Lisbon\, OH\, 44432
CATEGORIES:Tractor Pull
ORGANIZER;CN="NTPA Contact":MAILTO:info@ntpapull.com
END:VEVENT
END:VCALENDAR