BEGIN:VCALENDAR
VERSION:2.0
PRODID:-//Antique Tractor Blog - ECPv6.15.20//NONSGML v1.0//EN
CALSCALE:GREGORIAN
METHOD:PUBLISH
X-WR-CALNAME:Antique Tractor Blog
X-ORIGINAL-URL:https://antiquetractorblog.com
X-WR-CALDESC:Events for Antique Tractor Blog
REFRESH-INTERVAL;VALUE=DURATION:PT1H
X-Robots-Tag:noindex
X-PUBLISHED-TTL:PT1H
BEGIN:VTIMEZONE
TZID:America/Detroit
BEGIN:DAYLIGHT
TZOFFSETFROM:-0500
TZOFFSETTO:-0400
TZNAME:EDT
DTSTART:20250309T070000
END:DAYLIGHT
BEGIN:STANDARD
TZOFFSETFROM:-0400
TZOFFSETTO:-0500
TZNAME:EST
DTSTART:20251102T060000
END:STANDARD
BEGIN:DAYLIGHT
TZOFFSETFROM:-0500
TZOFFSETTO:-0400
TZNAME:EDT
DTSTART:20260308T070000
END:DAYLIGHT
BEGIN:STANDARD
TZOFFSETFROM:-0400
TZOFFSETTO:-0500
TZNAME:EST
DTSTART:20261101T060000
END:STANDARD
BEGIN:DAYLIGHT
TZOFFSETFROM:-0500
TZOFFSETTO:-0400
TZNAME:EDT
DTSTART:20270314T070000
END:DAYLIGHT
BEGIN:STANDARD
TZOFFSETFROM:-0400
TZOFFSETTO:-0500
TZNAME:EST
DTSTART:20271107T060000
END:STANDARD
END:VTIMEZONE
BEGIN:VEVENT
DTSTART;TZID=America/Detroit:20260724T000000
DTEND;TZID=America/Detroit:20260801T235959
DTSTAMP:20260422T144909
CREATED:20260417T142908Z
LAST-MODIFIED:20260417T143200Z
UID:42627-1784851200-1785628799@antiquetractorblog.com
SUMMARY:CO - AVF - Pull at Fremont County Fair
DESCRIPTION:Facebook Page:  Arkansas Valley Flywheelers
URL:https://antiquetractorblog.com/event/co-avf-pull-at-fremont-county-fair/
LOCATION:Pathfinder Park\, 6655 State Hwy 115\, Florence\, CO\, 81226
CATEGORIES:Tractor Pull,Tractor Show
END:VEVENT
BEGIN:VEVENT
DTSTART;TZID=America/Detroit:20260728T000000
DTEND;TZID=America/Detroit:20260728T235959
DTSTAMP:20260422T144909
CREATED:20250423T160313Z
LAST-MODIFIED:20260225T161234Z
UID:38416-1785196800-1785283199@antiquetractorblog.com
SUMMARY:IN - NTPA Boone County 4-H Fair Pull
DESCRIPTION:Facebook Page:  NTPA Truck and Tractor Pulling \n\n\n\nOne Session: Tuesday\, 7 p.m. Eastern Light Limited Super Stock Tractors  Light Pro Stock Tractors  Hot Farm Tractors  Two-Wheel-Drive Trucks
URL:https://antiquetractorblog.com/event/in-lebanon-ntpa-pull/
LOCATION:Boone County Fairgrounds (Lebanon\, IN)\, 1300 E. 100 S.\, Lebanon\, IN\, 46052\, United States
CATEGORIES:Tractor Pull
ORGANIZER;CN="NTPA Contact":MAILTO:info@ntpapull.com
END:VEVENT
BEGIN:VEVENT
DTSTART;TZID=America/Detroit:20260728T000000
DTEND;TZID=America/Detroit:20260730T235959
DTSTAMP:20260422T144909
CREATED:20240201T195241Z
LAST-MODIFIED:20260319T183326Z
UID:27921-1785196800-1785455999@antiquetractorblog.com
SUMMARY:MI - Tuscola County Fair Truck and Tractor Pull
DESCRIPTION:Facebook: Tuscola County Fair
URL:https://antiquetractorblog.com/event/mi-tuscola-county-fair-truck-and-tractor-pull-2/
LOCATION:Tuscola County Fairground\, 188 Park Dr\, Caro\, MI\, 48723\, United States
CATEGORIES:Tractor Pull,Tractor Show
ORGANIZER;CN="Jackie Garner":MAILTO:jd070409@gmail.com
END:VEVENT
END:VCALENDAR