BEGIN:VCALENDAR
VERSION:2.0
PRODID:-//Antique Tractor Blog - ECPv6.15.20//NONSGML v1.0//EN
CALSCALE:GREGORIAN
METHOD:PUBLISH
X-WR-CALNAME:Antique Tractor Blog
X-ORIGINAL-URL:https://antiquetractorblog.com
X-WR-CALDESC:Events for Antique Tractor Blog
REFRESH-INTERVAL;VALUE=DURATION:PT1H
X-Robots-Tag:noindex
X-PUBLISHED-TTL:PT1H
BEGIN:VTIMEZONE
TZID:America/Detroit
BEGIN:DAYLIGHT
TZOFFSETFROM:-0500
TZOFFSETTO:-0400
TZNAME:EDT
DTSTART:20250309T070000
END:DAYLIGHT
BEGIN:STANDARD
TZOFFSETFROM:-0400
TZOFFSETTO:-0500
TZNAME:EST
DTSTART:20251102T060000
END:STANDARD
BEGIN:DAYLIGHT
TZOFFSETFROM:-0500
TZOFFSETTO:-0400
TZNAME:EDT
DTSTART:20260308T070000
END:DAYLIGHT
BEGIN:STANDARD
TZOFFSETFROM:-0400
TZOFFSETTO:-0500
TZNAME:EST
DTSTART:20261101T060000
END:STANDARD
BEGIN:DAYLIGHT
TZOFFSETFROM:-0500
TZOFFSETTO:-0400
TZNAME:EDT
DTSTART:20270314T070000
END:DAYLIGHT
BEGIN:STANDARD
TZOFFSETFROM:-0400
TZOFFSETTO:-0500
TZNAME:EST
DTSTART:20271107T060000
END:STANDARD
END:VTIMEZONE
BEGIN:VEVENT
DTSTART;TZID=America/Detroit:20260709T000000
DTEND;TZID=America/Detroit:20260711T235959
DTSTAMP:20260422T144948
CREATED:20250423T160228Z
LAST-MODIFIED:20260225T145933Z
UID:38401-1783555200-1783814399@antiquetractorblog.com
SUMMARY:IN - NTPA Arcola National Pull
DESCRIPTION:Facebook Page:  NTPA Truck and Tractor Pulling \n\n\n\nSession One: Thursday\, 7 p.m. Eastern Hot Farm Tractors  Pro Stock Diesel 4×4 3.0 Trucks  Modifieds Session Two: Friday\, 7 p.m. Eastern Light Pro Stock Tractors  Hot Farm Tractors  Two-Wheel-Drive Trucks  Four-Wheel-Drive Trucks  Pro Stock Diesel 4×4 3.0 Trucks  Modified Minis  Modifieds Session Three: Saturday\, 7 p.m. Eastern Light Pro Stock Tractors  Hot Farm Tractors  Two-Wheel-Drive Trucks  Four-Wheel-Drive Trucks  Pro Stock Diesel 4×4 3.0 Trucks  Modified Minis  Modifieds
URL:https://antiquetractorblog.com/event/in-arcola-ntpa-pull/
LOCATION:Branning Park\, 11202 Reed Street\, Arcola\, IN\, 46704
CATEGORIES:Tractor Pull
ORGANIZER;CN="NTPA Contact":MAILTO:info@ntpapull.com
END:VEVENT
BEGIN:VEVENT
DTSTART;TZID=America/Detroit:20260710T000000
DTEND;TZID=America/Detroit:20260711T235959
DTSTAMP:20260422T144948
CREATED:20250423T160216Z
LAST-MODIFIED:20260305T171549Z
UID:38399-1783641600-1783814399@antiquetractorblog.com
SUMMARY:PA - NTPA Grand Nationals at the BUCK Pull
DESCRIPTION:Facebook Page:  NTPA Truck and Tractor Pulling \n\n\n\nSession One: Friday\, 7 p.m. Eastern Super Stock Open Tractors  Two-Wheel-Drive Trucks  Four-Wheel-Drive Trucks  Unlimited Modifieds Session Two: Saturday\, 7 p.m. Eastern Super Stock Open Tractors  Two-Wheel-Drive Trucks  Four-Wheel-Drive Trucks  Unlimited Modifieds
URL:https://antiquetractorblog.com/event/pa-sykesville-ntpa-pull/
LOCATION:Buck Motorsports Park & Entertainment Complex\, 900 Lancaster Pike\, Quarryville\, Pennsylvania\, 17566
CATEGORIES:Tractor Pull
ORGANIZER;CN="NTPA Contact":MAILTO:info@ntpapull.com
END:VEVENT
BEGIN:VEVENT
DTSTART;TZID=America/Detroit:20260711T000000
DTEND;TZID=America/Detroit:20260711T235959
DTSTAMP:20260422T144948
CREATED:20250423T160258Z
LAST-MODIFIED:20260225T150741Z
UID:38411-1783728000-1783814399@antiquetractorblog.com
SUMMARY:WI - NTPA Smoke 'N' Thunder by the Kinni Pull
DESCRIPTION:Facebook Page:  NTPA Truck and Tractor Pulling \n\n\n\nOne Session: Saturday\, 6 p.m. Central Light Super Stock Tractors (WTPA) Light Limited Super Stock Tractors  Super Farm Tractors  Light Pro Stock Tractors (WTPA) 4.1 Pro Stock Tractors  Pro Farm Tractors (WTPA) Four-Wheel-Drive Trucks  Super Stock Four-Wheel-Drive Trucks (530 Cubic Inches)  Pro Street Diesel 4×4 2.6 Trucks (WTPA) Pro Stock Semi Trucks (UPM)
URL:https://antiquetractorblog.com/event/wi-river-falls-ntpa-pull/
LOCATION:River Falls FFA Alumni Pull Grounds\, 141 WI-35\, River Falls\, WI\, 54022
CATEGORIES:Tractor Pull
ORGANIZER;CN="NTPA Contact":MAILTO:info@ntpapull.com
END:VEVENT
END:VCALENDAR