BEGIN:VCALENDAR
VERSION:2.0
PRODID:-//Antique Tractor Blog - ECPv6.15.20//NONSGML v1.0//EN
CALSCALE:GREGORIAN
METHOD:PUBLISH
X-ORIGINAL-URL:https://antiquetractorblog.com
X-WR-CALDESC:Events for Antique Tractor Blog
REFRESH-INTERVAL;VALUE=DURATION:PT1H
X-Robots-Tag:noindex
X-PUBLISHED-TTL:PT1H
BEGIN:VTIMEZONE
TZID:America/Detroit
BEGIN:DAYLIGHT
TZOFFSETFROM:-0500
TZOFFSETTO:-0400
TZNAME:EDT
DTSTART:20250309T070000
END:DAYLIGHT
BEGIN:STANDARD
TZOFFSETFROM:-0400
TZOFFSETTO:-0500
TZNAME:EST
DTSTART:20251102T060000
END:STANDARD
BEGIN:DAYLIGHT
TZOFFSETFROM:-0500
TZOFFSETTO:-0400
TZNAME:EDT
DTSTART:20260308T070000
END:DAYLIGHT
BEGIN:STANDARD
TZOFFSETFROM:-0400
TZOFFSETTO:-0500
TZNAME:EST
DTSTART:20261101T060000
END:STANDARD
BEGIN:DAYLIGHT
TZOFFSETFROM:-0500
TZOFFSETTO:-0400
TZNAME:EDT
DTSTART:20270314T070000
END:DAYLIGHT
BEGIN:STANDARD
TZOFFSETFROM:-0400
TZOFFSETTO:-0500
TZNAME:EST
DTSTART:20271107T060000
END:STANDARD
END:VTIMEZONE
BEGIN:VEVENT
DTSTART;TZID=America/Detroit:20260625T000000
DTEND;TZID=America/Detroit:20260627T235959
DTSTAMP:20260422T055245
CREATED:20250423T160229Z
LAST-MODIFIED:20260225T145056Z
UID:38402-1782345600-1782604799@antiquetractorblog.com
SUMMARY:WI - NTPA Budweiser Dairyland NTPA Super Nationals Pull
DESCRIPTION:Facebook Page:  NTPA Truck and Tractor Pulling \n\n\n\nSession One: Thursday\, 7 p.m. Central Super Stock Open Tractors  4.1 Pro Stock Tractors  Two-Wheel-Drive Trucks  Modified Minis  Modifieds Session Two: Friday\, noon Central Light Super Stock Tractors  Super Stock Diesel Tractors  Light Pro Stock Tractors  Four-Wheel-Drive Trucks  Modifieds Session Three: Friday\, 7 p.m. Central Super Farm Tractors  Pro Stock Tractors  4.1 Pro Stock Tractors  Super Stock Diesel 4×4 Trucks  Super Semi Trucks  Light Modifieds  Unlimited Modifieds Session Four: Saturday\, noon Central Super Stock Open Tractors  Super Farm Tractors  Two-Wheel-Drive Trucks  Super Stock Diesel 4×4 Trucks  Modified Minis  Light Modifieds Session Five: Saturday\, 7 p.m. Central Light Super Stock Tractors  Super Stock Diesel Tractors  Pro Stock Tractors  Light Pro Stock Tractors  Four-Wheel-Drive Trucks  Super Semi Trucks  Unlimited Modifieds
URL:https://antiquetractorblog.com/event/wi-tomah-ntpa-pull/
LOCATION:Recreation Park (Tomah\, WI)\, 1625 Butts Avenue\, Tomah\, WI\, 54660
CATEGORIES:Tractor Pull
ORGANIZER;CN="NTPA Contact":MAILTO:info@ntpapull.com
END:VEVENT
BEGIN:VEVENT
DTSTART;TZID=America/Detroit:20260627T000000
DTEND;TZID=America/Detroit:20260627T235959
DTSTAMP:20260422T055245
CREATED:20240105T153509Z
LAST-MODIFIED:20251013T173619Z
UID:26915-1782518400-1782604799@antiquetractorblog.com
SUMMARY:MO - Christian County Antique Tractor Pullers Show
DESCRIPTION:Facebook Page: Christian County Antique Tractor Pullers Association
URL:https://antiquetractorblog.com/event/mo-christian-county-antique-tractor-pullers-show-2/
LOCATION:Weurtley Farm\, 3065 SSR-W\, Ozark\, MO\, 65721\, United States
CATEGORIES:Tractor Pull
END:VEVENT
BEGIN:VEVENT
DTSTART;TZID=America/Detroit:20260627T000000
DTEND;TZID=America/Detroit:20260628T235959
DTSTAMP:20260422T055245
CREATED:20240105T153503Z
LAST-MODIFIED:20260226T160057Z
UID:26909-1782518400-1782691199@antiquetractorblog.com
SUMMARY:NE - Farnam Founder's Day Antique Tractor & Pickup Pull
DESCRIPTION:
URL:https://antiquetractorblog.com/event/ne-farnam-tractor-events-show/
LOCATION:Farnam Football Field\, 711 Main St\, Farnam\, NE\, 69029\, United States
CATEGORIES:Tractor Pull,Tractor Ride,Tractor Show
ORGANIZER;CN="Brenda Edson":MAILTO:bedson1955@hotmail.com
END:VEVENT
BEGIN:VEVENT
DTSTART;TZID=America/Detroit:20260627T000000
DTEND;TZID=America/Detroit:20260628T235959
DTSTAMP:20260422T055246
CREATED:20260202T193900Z
LAST-MODIFIED:20260202T194203Z
UID:41089-1782518400-1782691199@antiquetractorblog.com
SUMMARY:CO - AVF - Silver Cliff Pull
DESCRIPTION:Facebook Page:  Arkansas Valley Flywheelers
URL:https://antiquetractorblog.com/event/co-avf-silver-cliff-pull/
LOCATION:Silver Cliff Community Park\, 706 Butler St\, Westcliffe\, CO\, 81252
CATEGORIES:Tractor Pull
ORGANIZER;CN="Kathy Reis":MAILTO:bkreis92@gmail.com
END:VEVENT
END:VCALENDAR