BEGIN:VCALENDAR
VERSION:2.0
PRODID:-//Antique Tractor Blog - ECPv6.15.20//NONSGML v1.0//EN
CALSCALE:GREGORIAN
METHOD:PUBLISH
X-ORIGINAL-URL:https://antiquetractorblog.com
X-WR-CALDESC:Events for Antique Tractor Blog
REFRESH-INTERVAL;VALUE=DURATION:PT1H
X-Robots-Tag:noindex
X-PUBLISHED-TTL:PT1H
BEGIN:VTIMEZONE
TZID:America/Detroit
BEGIN:DAYLIGHT
TZOFFSETFROM:-0500
TZOFFSETTO:-0400
TZNAME:EDT
DTSTART:20250309T070000
END:DAYLIGHT
BEGIN:STANDARD
TZOFFSETFROM:-0400
TZOFFSETTO:-0500
TZNAME:EST
DTSTART:20251102T060000
END:STANDARD
BEGIN:DAYLIGHT
TZOFFSETFROM:-0500
TZOFFSETTO:-0400
TZNAME:EDT
DTSTART:20260308T070000
END:DAYLIGHT
BEGIN:STANDARD
TZOFFSETFROM:-0400
TZOFFSETTO:-0500
TZNAME:EST
DTSTART:20261101T060000
END:STANDARD
BEGIN:DAYLIGHT
TZOFFSETFROM:-0500
TZOFFSETTO:-0400
TZNAME:EDT
DTSTART:20270314T070000
END:DAYLIGHT
BEGIN:STANDARD
TZOFFSETFROM:-0400
TZOFFSETTO:-0500
TZNAME:EST
DTSTART:20271107T060000
END:STANDARD
END:VTIMEZONE
BEGIN:VEVENT
DTSTART;TZID=America/Detroit:20260528T000000
DTEND;TZID=America/Detroit:20260530T235959
DTSTAMP:20260419T121852
CREATED:20250423T160200Z
LAST-MODIFIED:20260305T154827Z
UID:38391-1779926400-1780185599@antiquetractorblog.com
SUMMARY:NC - NTPA Busch Light Nationals Pull
DESCRIPTION:Facebook Page:  NTPA Truck and Tractor Pulling \n\n\n\nSession One: Thursday\, 7 p.m. Central Light Super Stock Tractors  Super Farm Tractors Session Two: Friday\, 7 p.m. Central Super Stock Diesel Tractors  Pro Stock Tractors  Super Stock Diesel 4×4 Trucks  Modified Minis  Light Modifieds  Unlimited Modifieds Session Three: Saturday\, noon Central Light Super Stock Tractors  Super Farm Tractors Session Four: Saturday\, 7 p.m. Central Super Stock Diesel Tractors  Pro Stock Tractors  Super Stock Diesel 4×4 Trucks  Modified Minis  Light Modifieds  Unlimited Modifieds
URL:https://antiquetractorblog.com/event/nc-benson-ntpa-pull/
LOCATION:Vanderburgh 4H Center / Fairgrounds\, 201 E Boonville New Harmony Rd\, Darmstadt\, IN\, 47725\, United States
CATEGORIES:Tractor Pull
ORGANIZER;CN="NTPA Contact":MAILTO:info@ntpapull.com
END:VEVENT
BEGIN:VEVENT
DTSTART;TZID=America/Detroit:20260530T000000
DTEND;TZID=America/Detroit:20260530T235959
DTSTAMP:20260419T121852
CREATED:20250423T160230Z
LAST-MODIFIED:20260305T170015Z
UID:38403-1780099200-1780185599@antiquetractorblog.com
SUMMARY:OH - NTPA Mile Branch Grange Power Pull
DESCRIPTION:Facebook Page:  NTPA Truck and Tractor Pulling \n\n\n\nOne Session: Saturday\, 7 p.m. Eastern Light Limited Super Stock Tractors  Classic Super Stock Tractors  Hot Farm Tractors  Super Stock Four-Wheel-Drive Trucks (410 Cubic Inches)
URL:https://antiquetractorblog.com/event/oh-cadiz-ntpa-pull/
LOCATION:Mile Branch Grange\, 495 Knox School Road\, Alliance\, Ohio\, 44601
CATEGORIES:Tractor Pull,Tractor Show
ORGANIZER;CN="NTPA Contact":MAILTO:info@ntpapull.com
END:VEVENT
END:VCALENDAR