BEGIN:VCALENDAR
VERSION:2.0
PRODID:-//Antique Tractor Blog - ECPv6.15.20//NONSGML v1.0//EN
CALSCALE:GREGORIAN
METHOD:PUBLISH
X-ORIGINAL-URL:https://antiquetractorblog.com
X-WR-CALDESC:Events for Antique Tractor Blog
REFRESH-INTERVAL;VALUE=DURATION:PT1H
X-Robots-Tag:noindex
X-PUBLISHED-TTL:PT1H
BEGIN:VTIMEZONE
TZID:America/New_York
BEGIN:DAYLIGHT
TZOFFSETFROM:-0500
TZOFFSETTO:-0400
TZNAME:EDT
DTSTART:20250309T070000
END:DAYLIGHT
BEGIN:STANDARD
TZOFFSETFROM:-0400
TZOFFSETTO:-0500
TZNAME:EST
DTSTART:20251102T060000
END:STANDARD
BEGIN:DAYLIGHT
TZOFFSETFROM:-0500
TZOFFSETTO:-0400
TZNAME:EDT
DTSTART:20260308T070000
END:DAYLIGHT
BEGIN:STANDARD
TZOFFSETFROM:-0400
TZOFFSETTO:-0500
TZNAME:EST
DTSTART:20261101T060000
END:STANDARD
BEGIN:DAYLIGHT
TZOFFSETFROM:-0500
TZOFFSETTO:-0400
TZNAME:EDT
DTSTART:20270314T070000
END:DAYLIGHT
BEGIN:STANDARD
TZOFFSETFROM:-0400
TZOFFSETTO:-0500
TZNAME:EST
DTSTART:20271107T060000
END:STANDARD
END:VTIMEZONE
BEGIN:VTIMEZONE
TZID:America/Detroit
BEGIN:DAYLIGHT
TZOFFSETFROM:-0500
TZOFFSETTO:-0400
TZNAME:EDT
DTSTART:20250309T070000
END:DAYLIGHT
BEGIN:STANDARD
TZOFFSETFROM:-0400
TZOFFSETTO:-0500
TZNAME:EST
DTSTART:20251102T060000
END:STANDARD
BEGIN:DAYLIGHT
TZOFFSETFROM:-0500
TZOFFSETTO:-0400
TZNAME:EDT
DTSTART:20260308T070000
END:DAYLIGHT
BEGIN:STANDARD
TZOFFSETFROM:-0400
TZOFFSETTO:-0500
TZNAME:EST
DTSTART:20261101T060000
END:STANDARD
BEGIN:DAYLIGHT
TZOFFSETFROM:-0500
TZOFFSETTO:-0400
TZNAME:EDT
DTSTART:20270314T070000
END:DAYLIGHT
BEGIN:STANDARD
TZOFFSETFROM:-0400
TZOFFSETTO:-0500
TZNAME:EST
DTSTART:20271107T060000
END:STANDARD
END:VTIMEZONE
BEGIN:VEVENT
DTSTART;TZID=America/New_York:20260516T000000
DTEND;TZID=America/New_York:20260516T235959
DTSTAMP:20260419T121918
CREATED:20241204T201755Z
LAST-MODIFIED:20260415T125457Z
UID:30501-1778889600-1778975999@antiquetractorblog.com
SUMMARY:PA - Antes Fort Antique Tractor Club Pull
DESCRIPTION:Facebook Page:  Antes Fort Antique Tractor Pullers\, Inc.
URL:https://antiquetractorblog.com/event/pa-antes-fort-antique-tractor-pullers-inc-pull-2/
LOCATION:Antes Fort Park\, 41 Main St\, Jersey Shore\, PA\, 17740\, United States
CATEGORIES:Tractor Pull
ORGANIZER;CN="Vernice Vaughn":MAILTO:tractorlady1@verizon.net
END:VEVENT
BEGIN:VEVENT
DTSTART;TZID=America/New_York:20260516T000000
DTEND;TZID=America/New_York:20260516T235959
DTSTAMP:20260419T121918
CREATED:20250116T195133Z
LAST-MODIFIED:20260127T201500Z
UID:35675-1778889600-1778975999@antiquetractorblog.com
SUMMARY:PA - Southern Cove Antique Tractor Pull
DESCRIPTION:Facebook Page: Southern Cove Power Reunion
URL:https://antiquetractorblog.com/event/pa-southern-cove-antique-tractor-pull/
LOCATION:Southern Cove Show Site\, 145 Cave Rd\, New Enterprise\, PA\, 16664\, United States
CATEGORIES:Tractor Pull
END:VEVENT
BEGIN:VEVENT
DTSTART;TZID=America/Detroit:20260516T000000
DTEND;TZID=America/Detroit:20260516T235959
DTSTAMP:20260419T121918
CREATED:20250402T172908Z
LAST-MODIFIED:20260305T133446Z
UID:37896-1778889600-1778975999@antiquetractorblog.com
SUMMARY:CO - San Luis Antique Iron Club Pull- MEMBERS ONLY
DESCRIPTION:Facebook Page:  San Luis Valley Antique Iron Club
URL:https://antiquetractorblog.com/event/co-san-luis-antique-iron-club-tractor-and-garden-tractor-pull/
LOCATION:Del Monte Gun Club\, 2355 US Hwy 160\, Alamosa\, CO\, 81101
CATEGORIES:Tractor Pull
ORGANIZER;CN="Richard Drake":MAILTO:admin@slvaic.org
END:VEVENT
END:VCALENDAR