BEGIN:VCALENDAR
VERSION:2.0
PRODID:-//Antique Tractor Blog - ECPv6.15.20//NONSGML v1.0//EN
CALSCALE:GREGORIAN
METHOD:PUBLISH
X-ORIGINAL-URL:https://antiquetractorblog.com
X-WR-CALDESC:Events for Antique Tractor Blog
REFRESH-INTERVAL;VALUE=DURATION:PT1H
X-Robots-Tag:noindex
X-PUBLISHED-TTL:PT1H
BEGIN:VTIMEZONE
TZID:America/New_York
BEGIN:DAYLIGHT
TZOFFSETFROM:-0500
TZOFFSETTO:-0400
TZNAME:EDT
DTSTART:20240310T070000
END:DAYLIGHT
BEGIN:STANDARD
TZOFFSETFROM:-0400
TZOFFSETTO:-0500
TZNAME:EST
DTSTART:20241103T060000
END:STANDARD
BEGIN:DAYLIGHT
TZOFFSETFROM:-0500
TZOFFSETTO:-0400
TZNAME:EDT
DTSTART:20250309T070000
END:DAYLIGHT
BEGIN:STANDARD
TZOFFSETFROM:-0400
TZOFFSETTO:-0500
TZNAME:EST
DTSTART:20251102T060000
END:STANDARD
BEGIN:DAYLIGHT
TZOFFSETFROM:-0500
TZOFFSETTO:-0400
TZNAME:EDT
DTSTART:20260308T070000
END:DAYLIGHT
BEGIN:STANDARD
TZOFFSETFROM:-0400
TZOFFSETTO:-0500
TZNAME:EST
DTSTART:20261101T060000
END:STANDARD
END:VTIMEZONE
BEGIN:VEVENT
DTSTART;TZID=America/New_York:20250831T000000
DTEND;TZID=America/New_York:20250831T235959
DTSTAMP:20260419T124440
CREATED:20240419T190808Z
LAST-MODIFIED:20250318T162448Z
UID:31454-1756598400-1756684799@antiquetractorblog.com
SUMMARY:IL - The Weakender Tractor Pulls
DESCRIPTION:Facebook Page: Weak End Antique Pullers
URL:https://antiquetractorblog.com/event/il-the-weakender-tractor-pulls-10/
LOCATION:Poplar Grove Airport\, 5151 Orth Rd\, Poplar Grove\, IL\, 61065\, United States
CATEGORIES:Tractor Pull
ORGANIZER;CN="Randy Wilkening":MAILTO:dodgepower98@gmail.com
END:VEVENT
BEGIN:VEVENT
DTSTART;TZID=America/New_York:20250831T000000
DTEND;TZID=America/New_York:20250901T235959
DTSTAMP:20260419T124440
CREATED:20240423T130243Z
LAST-MODIFIED:20250220T153627Z
UID:31555-1756598400-1756771199@antiquetractorblog.com
SUMMARY:CO - Rocky Mountain Tractor Pullers - Gordon Ernest Labor Day Fiesta
DESCRIPTION:Facebook Page: Rocky Mountain Tractor Pullers Assoc.
URL:https://antiquetractorblog.com/event/co-rocky-mountain-tractor-pullers-labor-day-fiesta/
LOCATION:Metcalf Park (Fountain\, CO)\, 618 E Ohio Ave\, Fountain\, CO\, 80817\, United States
CATEGORIES:Tractor Pull
END:VEVENT
END:VCALENDAR