BEGIN:VCALENDAR
VERSION:2.0
PRODID:-//Antique Tractor Blog - ECPv6.15.20//NONSGML v1.0//EN
CALSCALE:GREGORIAN
METHOD:PUBLISH
X-WR-CALNAME:Antique Tractor Blog
X-ORIGINAL-URL:https://antiquetractorblog.com
X-WR-CALDESC:Events for Antique Tractor Blog
REFRESH-INTERVAL;VALUE=DURATION:PT1H
X-Robots-Tag:noindex
X-PUBLISHED-TTL:PT1H
BEGIN:VTIMEZONE
TZID:America/New_York
BEGIN:DAYLIGHT
TZOFFSETFROM:-0500
TZOFFSETTO:-0400
TZNAME:EDT
DTSTART:20240310T070000
END:DAYLIGHT
BEGIN:STANDARD
TZOFFSETFROM:-0400
TZOFFSETTO:-0500
TZNAME:EST
DTSTART:20241103T060000
END:STANDARD
BEGIN:DAYLIGHT
TZOFFSETFROM:-0500
TZOFFSETTO:-0400
TZNAME:EDT
DTSTART:20250309T070000
END:DAYLIGHT
BEGIN:STANDARD
TZOFFSETFROM:-0400
TZOFFSETTO:-0500
TZNAME:EST
DTSTART:20251102T060000
END:STANDARD
BEGIN:DAYLIGHT
TZOFFSETFROM:-0500
TZOFFSETTO:-0400
TZNAME:EDT
DTSTART:20260308T070000
END:DAYLIGHT
BEGIN:STANDARD
TZOFFSETFROM:-0400
TZOFFSETTO:-0500
TZNAME:EST
DTSTART:20261101T060000
END:STANDARD
END:VTIMEZONE
BEGIN:VEVENT
DTSTART;TZID=America/New_York:20250809T000000
DTEND;TZID=America/New_York:20250809T235959
DTSTAMP:20260419T154707
CREATED:20240419T190806Z
LAST-MODIFIED:20250318T162145Z
UID:31451-1754697600-1754783999@antiquetractorblog.com
SUMMARY:IL - The Weakender Tractor Pulls
DESCRIPTION:Facebook Page: Weak End Antique Pullers
URL:https://antiquetractorblog.com/event/il-the-weakender-tractor-pulls-7/
LOCATION:Boone County Fairgrounds (Belvidere\, IL)\, 8847 Illinois 76\, Belvidere\, IL\, 61008\, United States
CATEGORIES:Tractor Pull
ORGANIZER;CN="Randy Wilkening":MAILTO:dodgepower98@gmail.com
END:VEVENT
BEGIN:VEVENT
DTSTART;TZID=America/New_York:20250809T000000
DTEND;TZID=America/New_York:20250810T235959
DTSTAMP:20260419T154707
CREATED:20240423T130242Z
LAST-MODIFIED:20250220T153545Z
UID:31554-1754697600-1754870399@antiquetractorblog.com
SUMMARY:CO - Rocky Mountain Tractor Pullers - Ramah Days
DESCRIPTION:Facebook Page: Rocky Mountain Tractor Pullers Assoc.
URL:https://antiquetractorblog.com/event/co-rocky-mountain-tractor-pullers-ramah-days/
LOCATION:CO
CATEGORIES:Tractor Pull
END:VEVENT
END:VCALENDAR