BEGIN:VCALENDAR
VERSION:2.0
PRODID:-//Antique Tractor Blog - ECPv6.15.20//NONSGML v1.0//EN
CALSCALE:GREGORIAN
METHOD:PUBLISH
X-WR-CALNAME:Antique Tractor Blog
X-ORIGINAL-URL:https://antiquetractorblog.com
X-WR-CALDESC:Events for Antique Tractor Blog
REFRESH-INTERVAL;VALUE=DURATION:PT1H
X-Robots-Tag:noindex
X-PUBLISHED-TTL:PT1H
BEGIN:VTIMEZONE
TZID:America/New_York
BEGIN:DAYLIGHT
TZOFFSETFROM:-0500
TZOFFSETTO:-0400
TZNAME:EDT
DTSTART:20240310T070000
END:DAYLIGHT
BEGIN:STANDARD
TZOFFSETFROM:-0400
TZOFFSETTO:-0500
TZNAME:EST
DTSTART:20241103T060000
END:STANDARD
BEGIN:DAYLIGHT
TZOFFSETFROM:-0500
TZOFFSETTO:-0400
TZNAME:EDT
DTSTART:20250309T070000
END:DAYLIGHT
BEGIN:STANDARD
TZOFFSETFROM:-0400
TZOFFSETTO:-0500
TZNAME:EST
DTSTART:20251102T060000
END:STANDARD
BEGIN:DAYLIGHT
TZOFFSETFROM:-0500
TZOFFSETTO:-0400
TZNAME:EDT
DTSTART:20260308T070000
END:DAYLIGHT
BEGIN:STANDARD
TZOFFSETFROM:-0400
TZOFFSETTO:-0500
TZNAME:EST
DTSTART:20261101T060000
END:STANDARD
END:VTIMEZONE
BEGIN:VEVENT
DTSTART;TZID=America/New_York:20250703T000000
DTEND;TZID=America/New_York:20250703T235959
DTSTAMP:20260419T154555
CREATED:20250108T210751Z
LAST-MODIFIED:20250109T195344Z
UID:35472-1751500800-1751587199@antiquetractorblog.com
SUMMARY:MO - Jim Harmon Memorial Tractor Pull
DESCRIPTION:Two Sessions: 10:00 am and 6:00 pm \n\n\n\n\n\nFacebook Page: Jim Harmon Memorial Tractor Pull
URL:https://antiquetractorblog.com/event/mo-jim-harmon-memorial-tractor-pull/
LOCATION:Shelby County Fairgrounds (Shelbina\, MO)\, Hwy 15 N\, Shelbina\, MO\, 63468\, United States
CATEGORIES:Tractor Pull,Tractor Show
ORGANIZER;CN="James Harmon":MAILTO:IATP2024@gmail.com
END:VEVENT
END:VCALENDAR