BEGIN:VCALENDAR
VERSION:2.0
PRODID:-//Antique Tractor Blog - ECPv6.15.20//NONSGML v1.0//EN
CALSCALE:GREGORIAN
METHOD:PUBLISH
X-WR-CALNAME:Antique Tractor Blog
X-ORIGINAL-URL:https://antiquetractorblog.com
X-WR-CALDESC:Events for Antique Tractor Blog
REFRESH-INTERVAL;VALUE=DURATION:PT1H
X-Robots-Tag:noindex
X-PUBLISHED-TTL:PT1H
BEGIN:VTIMEZONE
TZID:America/Detroit
BEGIN:DAYLIGHT
TZOFFSETFROM:-0500
TZOFFSETTO:-0400
TZNAME:EDT
DTSTART:20250309T070000
END:DAYLIGHT
BEGIN:STANDARD
TZOFFSETFROM:-0400
TZOFFSETTO:-0500
TZNAME:EST
DTSTART:20251102T060000
END:STANDARD
BEGIN:DAYLIGHT
TZOFFSETFROM:-0500
TZOFFSETTO:-0400
TZNAME:EDT
DTSTART:20260308T070000
END:DAYLIGHT
BEGIN:STANDARD
TZOFFSETFROM:-0400
TZOFFSETTO:-0500
TZNAME:EST
DTSTART:20261101T060000
END:STANDARD
BEGIN:DAYLIGHT
TZOFFSETFROM:-0500
TZOFFSETTO:-0400
TZNAME:EDT
DTSTART:20270314T070000
END:DAYLIGHT
BEGIN:STANDARD
TZOFFSETFROM:-0400
TZOFFSETTO:-0500
TZNAME:EST
DTSTART:20271107T060000
END:STANDARD
END:VTIMEZONE
BEGIN:VTIMEZONE
TZID:America/New_York
BEGIN:DAYLIGHT
TZOFFSETFROM:-0500
TZOFFSETTO:-0400
TZNAME:EDT
DTSTART:20250309T070000
END:DAYLIGHT
BEGIN:STANDARD
TZOFFSETFROM:-0400
TZOFFSETTO:-0500
TZNAME:EST
DTSTART:20251102T060000
END:STANDARD
BEGIN:DAYLIGHT
TZOFFSETFROM:-0500
TZOFFSETTO:-0400
TZNAME:EDT
DTSTART:20260308T070000
END:DAYLIGHT
BEGIN:STANDARD
TZOFFSETFROM:-0400
TZOFFSETTO:-0500
TZNAME:EST
DTSTART:20261101T060000
END:STANDARD
BEGIN:DAYLIGHT
TZOFFSETFROM:-0500
TZOFFSETTO:-0400
TZNAME:EDT
DTSTART:20270314T070000
END:DAYLIGHT
BEGIN:STANDARD
TZOFFSETFROM:-0400
TZOFFSETTO:-0500
TZNAME:EST
DTSTART:20271107T060000
END:STANDARD
END:VTIMEZONE
BEGIN:VEVENT
DTSTART;TZID=America/Detroit:20260702T000000
DTEND;TZID=America/Detroit:20260702T235959
DTSTAMP:20260422T132121
CREATED:20250423T160233Z
LAST-MODIFIED:20260225T145444Z
UID:38405-1782950400-1783036799@antiquetractorblog.com
SUMMARY:OH - NTPA Marion County Fair Pull
DESCRIPTION:Facebook Page:  NTPA Truck and Tractor Pulling \n\n\n\nOne Session: Thursday\, 7:30 p.m. Eastern Classic Super Stock Tractors  Super Stock Four-Wheel-Drive Trucks (410 Cubic Inches)  Light Modifieds
URL:https://antiquetractorblog.com/event/oh-marion-ntpa-pull/
LOCATION:Marion County Fairgrounds\, 220 East Fairground Street\, Marion\, OH\, 43302
CATEGORIES:Tractor Pull,Tractor Show
ORGANIZER;CN="NTPA Contact":MAILTO:info@ntpapull.com
END:VEVENT
BEGIN:VEVENT
DTSTART;TZID=America/Detroit:20260704T000000
DTEND;TZID=America/Detroit:20260704T235959
DTSTAMP:20260422T132121
CREATED:20250423T160244Z
LAST-MODIFIED:20260225T145701Z
UID:38407-1783123200-1783209599@antiquetractorblog.com
SUMMARY:MI - NTPA Dorr Summer Sizzler Pull
DESCRIPTION:Facebook Page:  NTPA Truck and Tractor Pulling \n\n\n\nOne Session: Saturday\, 6 p.m. Eastern Super Farm Tractors  Four-Wheel-Drive Trucks  Super Semi Trucks  Modified Minis  Light Modifieds
URL:https://antiquetractorblog.com/event/mi-dorr-ntpa-pull/
LOCATION:Foxfire Pullers Track\, 2215 144th Avenue\, Dorr\, MI\, 49323
CATEGORIES:Tractor Pull
ORGANIZER;CN="NTPA Contact":MAILTO:info@ntpapull.com
END:VEVENT
BEGIN:VEVENT
DTSTART;TZID=America/Detroit:20260709T000000
DTEND;TZID=America/Detroit:20260709T235959
DTSTAMP:20260422T132121
CREATED:20250423T160247Z
LAST-MODIFIED:20260225T150203Z
UID:38410-1783555200-1783641599@antiquetractorblog.com
SUMMARY:IA - NTPA Wright County Fair Pull
DESCRIPTION:Facebook Page:  NTPA Truck and Tractor Pulling \n\n\n\nOne Session: Thursday\, 7 p.m. Central Light Limited Super Stock Tractors  Super Farm Tractors  4.1 Pro Stock Tractors  Pro Street Diesel 4×4 2.6 Trucks
URL:https://antiquetractorblog.com/event/ia-eagle-grove-ntpa-pull/
LOCATION:Wright County  Fairgrounds\, 901 SE 1st Street\, Eagle Grove\, IA\, 50533
CATEGORIES:Tractor Pull,Tractor Show
ORGANIZER;CN="NTPA Contact":MAILTO:info@ntpapull.com
END:VEVENT
BEGIN:VEVENT
DTSTART;TZID=America/Detroit:20260709T000000
DTEND;TZID=America/Detroit:20260711T235959
DTSTAMP:20260422T132121
CREATED:20250423T160228Z
LAST-MODIFIED:20260225T145933Z
UID:38401-1783555200-1783814399@antiquetractorblog.com
SUMMARY:IN - NTPA Arcola National Pull
DESCRIPTION:Facebook Page:  NTPA Truck and Tractor Pulling \n\n\n\nSession One: Thursday\, 7 p.m. Eastern Hot Farm Tractors  Pro Stock Diesel 4×4 3.0 Trucks  Modifieds Session Two: Friday\, 7 p.m. Eastern Light Pro Stock Tractors  Hot Farm Tractors  Two-Wheel-Drive Trucks  Four-Wheel-Drive Trucks  Pro Stock Diesel 4×4 3.0 Trucks  Modified Minis  Modifieds Session Three: Saturday\, 7 p.m. Eastern Light Pro Stock Tractors  Hot Farm Tractors  Two-Wheel-Drive Trucks  Four-Wheel-Drive Trucks  Pro Stock Diesel 4×4 3.0 Trucks  Modified Minis  Modifieds
URL:https://antiquetractorblog.com/event/in-arcola-ntpa-pull/
LOCATION:Branning Park\, 11202 Reed Street\, Arcola\, IN\, 46704
CATEGORIES:Tractor Pull
ORGANIZER;CN="NTPA Contact":MAILTO:info@ntpapull.com
END:VEVENT
BEGIN:VEVENT
DTSTART;TZID=America/Detroit:20260710T000000
DTEND;TZID=America/Detroit:20260710T235959
DTSTAMP:20260422T132121
CREATED:20250423T160243Z
LAST-MODIFIED:20260225T150536Z
UID:38406-1783641600-1783727999@antiquetractorblog.com
SUMMARY:WI - NTPA Full Throttle Shootout Pull
DESCRIPTION:Facebook Page:  NTPA Truck and Tractor Pulling \n\n\n\nOne Session: Friday\, 7 p.m. Central Light Limited Super Stock Tractors (WTPA) Super Farm Tractors  Light Pro Stock Tractors  4.1 Pro Stock Tractors  Pro Farm Tractors (WTPA) Two-Wheel-Drive Trucks  Pro Street Diesel 4×4 2.6 Trucks (WTPA)
URL:https://antiquetractorblog.com/event/wi-lancaster-ntpa-pull/
LOCATION:Grant County Fairgrounds\, 916 East Elm Street (CR A)\, Lancaster\, WI\, 53813
CATEGORIES:Tractor Pull
ORGANIZER;CN="NTPA Contact":MAILTO:info@ntpapull.com
END:VEVENT
BEGIN:VEVENT
DTSTART;TZID=America/Detroit:20260710T000000
DTEND;TZID=America/Detroit:20260711T235959
DTSTAMP:20260422T132121
CREATED:20250423T160216Z
LAST-MODIFIED:20260305T171549Z
UID:38399-1783641600-1783814399@antiquetractorblog.com
SUMMARY:PA - NTPA Grand Nationals at the BUCK Pull
DESCRIPTION:Facebook Page:  NTPA Truck and Tractor Pulling \n\n\n\nSession One: Friday\, 7 p.m. Eastern Super Stock Open Tractors  Two-Wheel-Drive Trucks  Four-Wheel-Drive Trucks  Unlimited Modifieds Session Two: Saturday\, 7 p.m. Eastern Super Stock Open Tractors  Two-Wheel-Drive Trucks  Four-Wheel-Drive Trucks  Unlimited Modifieds
URL:https://antiquetractorblog.com/event/pa-sykesville-ntpa-pull/
LOCATION:Buck Motorsports Park & Entertainment Complex\, 900 Lancaster Pike\, Quarryville\, Pennsylvania\, 17566
CATEGORIES:Tractor Pull
ORGANIZER;CN="NTPA Contact":MAILTO:info@ntpapull.com
END:VEVENT
BEGIN:VEVENT
DTSTART;TZID=America/Detroit:20260711T000000
DTEND;TZID=America/Detroit:20260711T235959
DTSTAMP:20260422T132121
CREATED:20250423T160258Z
LAST-MODIFIED:20260225T150741Z
UID:38411-1783728000-1783814399@antiquetractorblog.com
SUMMARY:WI - NTPA Smoke 'N' Thunder by the Kinni Pull
DESCRIPTION:Facebook Page:  NTPA Truck and Tractor Pulling \n\n\n\nOne Session: Saturday\, 6 p.m. Central Light Super Stock Tractors (WTPA) Light Limited Super Stock Tractors  Super Farm Tractors  Light Pro Stock Tractors (WTPA) 4.1 Pro Stock Tractors  Pro Farm Tractors (WTPA) Four-Wheel-Drive Trucks  Super Stock Four-Wheel-Drive Trucks (530 Cubic Inches)  Pro Street Diesel 4×4 2.6 Trucks (WTPA) Pro Stock Semi Trucks (UPM)
URL:https://antiquetractorblog.com/event/wi-river-falls-ntpa-pull/
LOCATION:River Falls FFA Alumni Pull Grounds\, 141 WI-35\, River Falls\, WI\, 54022
CATEGORIES:Tractor Pull
ORGANIZER;CN="NTPA Contact":MAILTO:info@ntpapull.com
END:VEVENT
BEGIN:VEVENT
DTSTART;TZID=America/Detroit:20260713T000000
DTEND;TZID=America/Detroit:20260713T235959
DTSTAMP:20260422T132121
CREATED:20250423T160300Z
LAST-MODIFIED:20260225T150930Z
UID:38413-1783900800-1783987199@antiquetractorblog.com
SUMMARY:IN - NTPA Decatur County 4-H Fair Pull
DESCRIPTION:Facebook Page:  NTPA Truck and Tractor Pulling \n\n\n\nOne Session: Monday\, 7 p.m. Eastern Light Pro Stock Tractors  Hot Farm Tractors  Two-Wheel-Drive Trucks
URL:https://antiquetractorblog.com/event/in-greensburg-ntpa-pull/
LOCATION:CO
CATEGORIES:Tractor Pull,Tractor Show
ORGANIZER;CN="NTPA Contact":MAILTO:info@ntpapull.com
END:VEVENT
BEGIN:VEVENT
DTSTART;TZID=America/Detroit:20260715T000000
DTEND;TZID=America/Detroit:20260715T235959
DTSTAMP:20260422T132122
CREATED:20250423T160246Z
LAST-MODIFIED:20260225T151327Z
UID:38409-1784073600-1784159999@antiquetractorblog.com
SUMMARY:IA - NTPA Winneshiek County Fair Pull
DESCRIPTION:Facebook Page:  NTPA Truck and Tractor Pulling \n\n\n\nOne Session: Wednesday\, 7 p.m. Central Light Super Stock Tractors  Heavy Super Stock Tractors  Super Farm Tractors  4.1 Pro Stock Tractors  Two-Wheel-Drive Trucks  Pro Street Diesel 4×4 2.6 Trucks
URL:https://antiquetractorblog.com/event/ia-decorah-ntpa-pull/
LOCATION:Winneshiek County Fairgrounds\, 900 East Main Street\, Decorah\, IA\, 52101
CATEGORIES:Tractor Pull,Tractor Show
ORGANIZER;CN="NTPA Contact":MAILTO:info@ntpapull.com
END:VEVENT
BEGIN:VEVENT
DTSTART;TZID=America/Detroit:20260716T000000
DTEND;TZID=America/Detroit:20260717T235959
DTSTAMP:20260422T132122
CREATED:20250423T160245Z
LAST-MODIFIED:20260225T152248Z
UID:38408-1784160000-1784332799@antiquetractorblog.com
SUMMARY:MI - NTPA Eaton County Fair Pull
DESCRIPTION:Facebook Page:  NTPA Truck and Tractor Pulling \n\n\n\nSession One: Thursday\, 7 p.m. Eastern Light Limited Super Stock Tractors  Super Farm Tractors  Two-Wheel-Drive Trucks  Modified Minis Session Two: Friday\, 7 p.m. Eastern Super Farm Tractors  Super Stock Combo Tractors (Wolv) Pro Stock Diesel 4×4 3.0 Trucks  Modified Minis
URL:https://antiquetractorblog.com/event/mi-charlotte-ntpa-pull/
LOCATION:Eaton County Fairgrounds\, 1025 South Cochran\, Charlotte\, MI\, 48813
CATEGORIES:Tractor Pull,Tractor Show
ORGANIZER;CN="NTPA Contact":MAILTO:info@ntpapull.com
END:VEVENT
BEGIN:VEVENT
DTSTART;TZID=America/Detroit:20260716T000000
DTEND;TZID=America/Detroit:20260718T235959
DTSTAMP:20260422T132122
CREATED:20250423T160316Z
LAST-MODIFIED:20260305T172034Z
UID:38419-1784160000-1784419199@antiquetractorblog.com
SUMMARY:MO - NTPA Show Me Showdown Pull
DESCRIPTION:Facebook Page:  NTPA Truck and Tractor Pulling \n\n\n\nSession One: Thursday\, 7 p.m. Central Light Super Stock Tractors  Super Stock Diesel Tractors  Two-Wheel-Drive Trucks  Four-Wheel-Drive Trucks  Modified Minis  Modifieds Session Two: Friday\, 7 p.m. Central Light Super Stock Tractors  Super Stock Open Tractors  Pro Stock Tractors  Four-Wheel-Drive Trucks  Super Stock Diesel 4×4 Trucks  Modified Minis Session Three: Saturday\, 7 p.m. Central Super Stock Diesel Tractors  Super Stock Open Tractors  Pro Stock Tractors  Two-Wheel-Drive Trucks  Super Stock Diesel 4×4 Trucks  Modifieds
URL:https://antiquetractorblog.com/event/mi-adrian-ntpa-pull/
LOCATION:Macon County Fairgrounds\, 1303 S. Missouri St.\, Macon\, MO\, 63552\, United States
CATEGORIES:Tractor Pull
ORGANIZER;CN="NTPA Contact":MAILTO:info@ntpapull.com
END:VEVENT
BEGIN:VEVENT
DTSTART;TZID=America/Detroit:20260718T000000
DTEND;TZID=America/Detroit:20260718T235959
DTSTAMP:20260422T132122
CREATED:20250423T160259Z
LAST-MODIFIED:20260225T153008Z
UID:38412-1784332800-1784419199@antiquetractorblog.com
SUMMARY:OH - NTPA Clinton County Fair NTPA National Pull
DESCRIPTION:Facebook Page:  NTPA Truck and Tractor Pulling \n\n\n\nOne Session: Saturday\, 7 p.m. Eastern Light Pro Stock Tractors  Hot Farm Tractors  Two-Wheel-Drive Trucks  Modifieds
URL:https://antiquetractorblog.com/event/oh-wilmington-ntpa-pull/
LOCATION:Clinton County Fairgrounds (Wilmington\, OH)\, 958 West Main Street\, Wilmington\, OH\, 45177\, United States
CATEGORIES:Tractor Pull
ORGANIZER;CN="NTPA Contact":MAILTO:info@ntpapull.com
END:VEVENT
BEGIN:VEVENT
DTSTART;TZID=America/Detroit:20260719T000000
DTEND;TZID=America/Detroit:20260720T235959
DTSTAMP:20260422T132122
CREATED:20250423T160343Z
LAST-MODIFIED:20260305T164747Z
UID:38426-1784419200-1784591999@antiquetractorblog.com
SUMMARY:WI - NTPA Mackville Nationals Pull
DESCRIPTION:Facebook Page:  NTPA Truck and Tractor Pulling \n\n\n\nSession One: Friday\, 7 p.m. Central Super Stock Open Tractors  Four-Wheel-Drive Trucks  Modified Minis  Unlimited Modifieds Session Two: Saturday\, 7 p.m. Central Super Stock Open Tractors  Four-Wheel-Drive Trucks  Modified Minis  Unlimited Modifieds
URL:https://antiquetractorblog.com/event/wi-menomonie-ntpa-pull/
LOCATION:Outagamie County Fairgrounds\, 468 Henry St\, Seymour\, Wisconsin\, 54165
CATEGORIES:Tractor Pull
ORGANIZER;CN="NTPA Contact":MAILTO:info@ntpapull.com
END:VEVENT
BEGIN:VEVENT
DTSTART;TZID=America/Detroit:20260721T000000
DTEND;TZID=America/Detroit:20260721T235959
DTSTAMP:20260422T132122
CREATED:20250423T160302Z
LAST-MODIFIED:20260225T154819Z
UID:38414-1784592000-1784678399@antiquetractorblog.com
SUMMARY:MI - NTPA Hartford Nationals Pull
DESCRIPTION:Facebook Page:  NTPA Truck and Tractor Pulling \n\n\n\nOne Session: Tuesday\, 7 p.m. Eastern Super Farm Tractors  Super Stock Combo Tractors (Wolv) Two-Wheel-Drive Trucks
URL:https://antiquetractorblog.com/event/mi-hartford-ntpa-pull/
LOCATION:Van Buren County Fairgrounds\, 55670 County Road 681\, Hartford\, MI\, 49057
CATEGORIES:Tractor Pull
ORGANIZER;CN="NTPA Contact":MAILTO:info@ntpapull.com
END:VEVENT
BEGIN:VEVENT
DTSTART;TZID=America/Detroit:20260721T000000
DTEND;TZID=America/Detroit:20260721T235959
DTSTAMP:20260422T132122
CREATED:20260305T180746Z
LAST-MODIFIED:20260305T181857Z
UID:41830-1784592000-1784678399@antiquetractorblog.com
SUMMARY:IL - NTPA Midwest Summer Nationals Truck and Tractor Pull
DESCRIPTION:Facebook Page:  NTPA Truck and Tractor Pulling \n\n\n\nOne Session: Tuesday\, 6 p.m. CentralLight Super Stock TractorsLight Limited Super Stock TractorsSuper Farm Tractors4.1 Pro Stock TractorsPro Stock Diesel 4×4 3.6 Trucks
URL:https://antiquetractorblog.com/event/il-ntpa-midwest-summer-nationals-truck-and-tractor-pull/
LOCATION:Stephenson County Fairgrounds\, 2250 S Walnut Rd\, Freeport\, IL\, 61032\, United States
CATEGORIES:Tractor Pull
ORGANIZER;CN="NTPA Contact":MAILTO:info@ntpapull.com
END:VEVENT
BEGIN:VEVENT
DTSTART;TZID=America/Detroit:20260723T000000
DTEND;TZID=America/Detroit:20260723T235959
DTSTAMP:20260422T132122
CREATED:20250423T160304Z
LAST-MODIFIED:20260225T155223Z
UID:38415-1784764800-1784851199@antiquetractorblog.com
SUMMARY:OH - NTPA Carroll County Fair Pull
DESCRIPTION:Facebook Page:  NTPA Truck and Tractor Pulling \n\n\n\nOne Session: Thursday\, 7 p.m. Eastern Light Limited Super Stock Tractors  Classic Super Stock Tractors  Super Stock Four-Wheel-Drive Trucks (410 Cubic Inches)  Pro Stock Diesel 4×4 3.0 Trucks  Hot Rod V-8 Modifieds
URL:https://antiquetractorblog.com/event/oh-carrollton-ntpa-pull/
LOCATION:Carroll County Fairgrounds (Carrollton\, OH)\, 160 Kensington Road NE\, Carrollton\, OH\, 44615
CATEGORIES:Tractor Pull
ORGANIZER;CN="NTPA Contact":MAILTO:info@ntpapull.com
END:VEVENT
BEGIN:VEVENT
DTSTART;TZID=America/Detroit:20260723T000000
DTEND;TZID=America/Detroit:20260724T235959
DTSTAMP:20260422T132122
CREATED:20250423T160328Z
LAST-MODIFIED:20260225T155505Z
UID:38421-1784764800-1784937599@antiquetractorblog.com
SUMMARY:MN - NTPA BOB FM's Honky Tonk Hoedown Pull
DESCRIPTION:Facebook Page:  NTPA Truck and Tractor Pulling \n\n\n\nSession One: Thursday\, 6:30 p.m. Central Heavy Super Stock Tractors  4.1 Pro Stock Tractors  Two-Wheel-Drive Trucks  Four-Wheel-Drive Trucks  Pro Stock Semi Trucks (UPM) Modifieds Session Two: Friday\, 6:30 p.m. Central Heavy Super Stock Tractors  Light Pro Stock Tractors  Two-Wheel-Drive Trucks  Super Stock Four-Wheel-Drive Trucks (530 Cubic Inches)  Modifieds
URL:https://antiquetractorblog.com/event/mn-anoka-ntpa-pull/
LOCATION:Anoka County Fairgrounds\, 3200 St Francis Boulevard\, Anoka\, MN\, 55303
CATEGORIES:Tractor Pull
ORGANIZER;CN="NTPA Contact":MAILTO:info@ntpapull.com
END:VEVENT
BEGIN:VEVENT
DTSTART;TZID=America/Detroit:20260724T000000
DTEND;TZID=America/Detroit:20260725T235959
DTSTAMP:20260422T132122
CREATED:20250423T160314Z
LAST-MODIFIED:20260225T155750Z
UID:38417-1784851200-1785023999@antiquetractorblog.com
SUMMARY:TN - NTPA Lions Super Pull of the South
DESCRIPTION:Facebook Page:  NTPA Truck and Tractor Pulling \n\n\n\nSession One: Friday\, 7 p.m. Central Super Stock Diesel Tractors  Pro Stock Tractors  Four-Wheel-Drive Trucks  Modified Minis  Unlimited Modifieds Session Two: Saturday\, 7 p.m. Central Super Stock Diesel Tractors  Pro Stock Tractors  Four-Wheel-Drive Trucks  Modified Minis  Unlimited Modifieds
URL:https://antiquetractorblog.com/event/tn-chapel-hill-ntpa-pull/
LOCATION:Lions Motorsports Park\, 310 North Horton Parkway\, Chapel Hill\, TN\, 37034
CATEGORIES:Tractor Pull
ORGANIZER;CN="NTPA Contact":MAILTO:info@ntpapull.com
END:VEVENT
BEGIN:VEVENT
DTSTART;TZID=America/Detroit:20260724T000000
DTEND;TZID=America/Detroit:20260725T235959
DTSTAMP:20260422T132122
CREATED:20250423T160331Z
LAST-MODIFIED:20260225T160011Z
UID:38423-1784851200-1785023999@antiquetractorblog.com
SUMMARY:KY - NTPA Meade County Fair NTPA Grand Nationals Pull
DESCRIPTION:Facebook Page:  NTPA Truck and Tractor Pulling \n\n\n\nSession One: Friday\, 7 p.m. Eastern Light Super Stock Tractors  Super Farm Tractors  4.1 Pro Stock Tractors  Two-Wheel-Drive Trucks Session Two: Saturday\, 7 p.m. Eastern Light Super Stock Tractors  Super Farm Tractors  4.1 Pro Stock Tractors  Two-Wheel-Drive Trucks
URL:https://antiquetractorblog.com/event/ky-brandenburg-ntpa-pull/
LOCATION:Meade County Fairgrounds\, 878 Hillcrest Drive\, Brandenburg\, KY\, 40108
CATEGORIES:Tractor Pull
ORGANIZER;CN="NTPA Contact":MAILTO:info@ntpapull.com
END:VEVENT
BEGIN:VEVENT
DTSTART;TZID=America/Detroit:20260724T000000
DTEND;TZID=America/Detroit:20260801T235959
DTSTAMP:20260422T132122
CREATED:20260417T142908Z
LAST-MODIFIED:20260417T143200Z
UID:42627-1784851200-1785628799@antiquetractorblog.com
SUMMARY:CO - AVF - Pull at Fremont County Fair
DESCRIPTION:Facebook Page:  Arkansas Valley Flywheelers
URL:https://antiquetractorblog.com/event/co-avf-pull-at-fremont-county-fair/
LOCATION:Pathfinder Park\, 6655 State Hwy 115\, Florence\, CO\, 81226
CATEGORIES:Tractor Pull,Tractor Show
END:VEVENT
BEGIN:VEVENT
DTSTART;TZID=America/Detroit:20260725T000000
DTEND;TZID=America/Detroit:20260725T235959
DTSTAMP:20260422T132122
CREATED:20240105T153548Z
LAST-MODIFIED:20251013T173130Z
UID:26945-1784937600-1785023999@antiquetractorblog.com
SUMMARY:MO - Christian County Antique Tractor Pullers Show
DESCRIPTION:Facebook Page: Christian County Antique Tractor Pullers Association
URL:https://antiquetractorblog.com/event/mo-christian-county-antique-tractor-pullers-show-3/
LOCATION:Weurtley Farm\, 3065 SSR-W\, Ozark\, MO\, 65721\, United States
CATEGORIES:Tractor Pull
END:VEVENT
BEGIN:VEVENT
DTSTART;TZID=America/New_York:20260725T000000
DTEND;TZID=America/New_York:20260725T235959
DTSTAMP:20260422T132122
CREATED:20240423T130241Z
LAST-MODIFIED:20251022T170304Z
UID:31553-1784937600-1785023999@antiquetractorblog.com
SUMMARY:CO - Rocky Mountain Tractor Pullers - Arapahoe Fair
DESCRIPTION:Facebook Page: Rocky Mountain Tractor Pullers Assoc.
URL:https://antiquetractorblog.com/event/co-rocky-mountain-tractor-pullers-arapahoe-fair/
LOCATION:Arapahoe County Fairground\, 25690 E Quincy Ave\, Aurora\, CO\, 80016\, United States
CATEGORIES:Tractor Pull
ORGANIZER;CN="Chuck Kanagy":MAILTO:callchuck911@msn.com
END:VEVENT
BEGIN:VEVENT
DTSTART;TZID=America/New_York:20260725T000000
DTEND;TZID=America/New_York:20260725T235959
DTSTAMP:20260422T132122
CREATED:20250116T195134Z
LAST-MODIFIED:20260127T201810Z
UID:35677-1784937600-1785023999@antiquetractorblog.com
SUMMARY:PA - Southern Cove Antique Tractor Pull
DESCRIPTION:Facebook Page: Southern Cove Power Reunion
URL:https://antiquetractorblog.com/event/pa-southern-cove-antique-tractor-pull-3/
LOCATION:Southern Cove Show Site\, 145 Cave Rd\, New Enterprise\, PA\, 16664\, United States
CATEGORIES:Tractor Pull
END:VEVENT
BEGIN:VEVENT
DTSTART;TZID=America/Detroit:20260725T000000
DTEND;TZID=America/Detroit:20260725T235959
DTSTAMP:20260422T132122
CREATED:20250423T160315Z
LAST-MODIFIED:20260225T160323Z
UID:38418-1784937600-1785023999@antiquetractorblog.com
SUMMARY:OH - NTPA Clark County Fair Pull
DESCRIPTION:Facebook Page:  NTPA Truck and Tractor Pulling \n\n\n\nOne Session: Saturday\, 7 p.m. Eastern Classic Super Stock Tractors  Light Pro Stock Tractors  Hot Farm Tractors  Two-Wheel-Drive Trucks  Modifieds
URL:https://antiquetractorblog.com/event/oh-springfield-ntpa-pull/
LOCATION:Clark County Fairgrounds\, 4401 South Charleston Pike\, Springfield\, OH\, 45505
CATEGORIES:Tractor Pull
ORGANIZER;CN="NTPA Contact":MAILTO:info@ntpapull.com
END:VEVENT
BEGIN:VEVENT
DTSTART;TZID=America/Detroit:20260725T000000
DTEND;TZID=America/Detroit:20260725T235959
DTSTAMP:20260422T132122
CREATED:20250423T160333Z
LAST-MODIFIED:20260225T160959Z
UID:38425-1784937600-1785023999@antiquetractorblog.com
SUMMARY:MN - NTPA Throwdown at Hoedown Pull
DESCRIPTION:Facebook Page:  NTPA Truck and Tractor Pulling \n\n\n\nOne Session: Saturday\, 7 p.m. Central Light Super Stock Tractors  Light Limited Super Stock Tractors  Heavy Super Stock Tractors  Light Pro Stock Tractors  Four-Wheel-Drive Trucks  Pro Street Diesel 4×4 2.6 Trucks  Modified Minis  Modifieds
URL:https://antiquetractorblog.com/event/mn-houston-ntpa-pull/
LOCATION:Houston Fest Grounds\, 113 Cedar Street West\, Houston\, MN\, 55943
CATEGORIES:Tractor Pull
ORGANIZER;CN="NTPA Contact":MAILTO:info@ntpapull.com
END:VEVENT
BEGIN:VEVENT
DTSTART;TZID=America/Detroit:20260725T000000
DTEND;TZID=America/Detroit:20260725T235959
DTSTAMP:20260422T132122
CREATED:20250423T160445Z
LAST-MODIFIED:20260305T174740Z
UID:38448-1784937600-1785023999@antiquetractorblog.com
SUMMARY:MI - NTPA Ionia Free Fair Pulsation Pull
DESCRIPTION:Facebook Page:  NTPA Truck and Tractor Pulling \n\n\n\nOne Session: Saturday\, 7 p.m. Eastern Light Limited Super Stock Tractors  Four-Wheel-Drive Trucks  Pro Stock Diesel 4×4 3.0 Trucks  Modified Minis
URL:https://antiquetractorblog.com/event/wi-weyauwega-ntpa-pull/
LOCATION:Ionia Free Fairgrounds\, 317 South Dexter Street\, Ionia\, Michigan\, 48846
CATEGORIES:Tractor Pull
ORGANIZER;CN="NTPA Contact":MAILTO:info@ntpapull.com
END:VEVENT
BEGIN:VEVENT
DTSTART;TZID=America/Detroit:20260728T000000
DTEND;TZID=America/Detroit:20260728T235959
DTSTAMP:20260422T132122
CREATED:20250423T160313Z
LAST-MODIFIED:20260225T161234Z
UID:38416-1785196800-1785283199@antiquetractorblog.com
SUMMARY:IN - NTPA Boone County 4-H Fair Pull
DESCRIPTION:Facebook Page:  NTPA Truck and Tractor Pulling \n\n\n\nOne Session: Tuesday\, 7 p.m. Eastern Light Limited Super Stock Tractors  Light Pro Stock Tractors  Hot Farm Tractors  Two-Wheel-Drive Trucks
URL:https://antiquetractorblog.com/event/in-lebanon-ntpa-pull/
LOCATION:Boone County Fairgrounds (Lebanon\, IN)\, 1300 E. 100 S.\, Lebanon\, IN\, 46052\, United States
CATEGORIES:Tractor Pull
ORGANIZER;CN="NTPA Contact":MAILTO:info@ntpapull.com
END:VEVENT
BEGIN:VEVENT
DTSTART;TZID=America/Detroit:20260728T000000
DTEND;TZID=America/Detroit:20260730T235959
DTSTAMP:20260422T132122
CREATED:20240201T195241Z
LAST-MODIFIED:20260319T183326Z
UID:27921-1785196800-1785455999@antiquetractorblog.com
SUMMARY:MI - Tuscola County Fair Truck and Tractor Pull
DESCRIPTION:Facebook: Tuscola County Fair
URL:https://antiquetractorblog.com/event/mi-tuscola-county-fair-truck-and-tractor-pull-2/
LOCATION:Tuscola County Fairground\, 188 Park Dr\, Caro\, MI\, 48723\, United States
CATEGORIES:Tractor Pull,Tractor Show
ORGANIZER;CN="Jackie Garner":MAILTO:jd070409@gmail.com
END:VEVENT
BEGIN:VEVENT
DTSTART;TZID=America/Detroit:20260729T000000
DTEND;TZID=America/Detroit:20260729T235959
DTSTAMP:20260422T132122
CREATED:20250423T160317Z
LAST-MODIFIED:20260225T161443Z
UID:38420-1785283200-1785369599@antiquetractorblog.com
SUMMARY:MI - NTPA Eastern Michigan State Fair Pull
DESCRIPTION:Facebook Page:  NTPA Truck and Tractor Pulling \n\n\n\nOne Session: Wednesday\, 7 p.m. Eastern Super Farm Tractors  Two-Wheel-Drive Trucks  Four-Wheel-Drive Trucks  Modifieds
URL:https://antiquetractorblog.com/event/mi-imlay-city-ntpa-pull/
LOCATION:Eastern Michigan State Fairgrounds\, 198 Midway\, Imlay City\, MI\, 48444
CATEGORIES:Tractor Pull
ORGANIZER;CN="NTPA Contact":MAILTO:info@ntpapull.com
END:VEVENT
BEGIN:VEVENT
DTSTART;TZID=America/Detroit:20260730T000000
DTEND;TZID=America/Detroit:20260730T235959
DTSTAMP:20260422T132122
CREATED:20240201T195339Z
LAST-MODIFIED:20260106T131206Z
UID:27966-1785369600-1785455999@antiquetractorblog.com
SUMMARY:OH - Ohio State Antique Tractor Pull Association (OSATPA)
DESCRIPTION:Facebook Page:  OSATPA
URL:https://antiquetractorblog.com/event/oh-ohio-state-antique-tractor-pull-association/
LOCATION:Shelby County Fairgrounds\, 655 S. Highland Ave\, Sidney\, OH\, 45365\, United States
CATEGORIES:Tractor Pull
ORGANIZER;CN="Dan Beasley":MAILTO:osatpa101@gmail.com
END:VEVENT
END:VCALENDAR