BEGIN:VCALENDAR
VERSION:2.0
PRODID:-//Antique Tractor Blog - ECPv6.15.20//NONSGML v1.0//EN
CALSCALE:GREGORIAN
METHOD:PUBLISH
X-WR-CALNAME:Antique Tractor Blog
X-ORIGINAL-URL:https://antiquetractorblog.com
X-WR-CALDESC:Events for Antique Tractor Blog
REFRESH-INTERVAL;VALUE=DURATION:PT1H
X-Robots-Tag:noindex
X-PUBLISHED-TTL:PT1H
BEGIN:VTIMEZONE
TZID:America/Detroit
BEGIN:DAYLIGHT
TZOFFSETFROM:-0500
TZOFFSETTO:-0400
TZNAME:EDT
DTSTART:20250309T070000
END:DAYLIGHT
BEGIN:STANDARD
TZOFFSETFROM:-0400
TZOFFSETTO:-0500
TZNAME:EST
DTSTART:20251102T060000
END:STANDARD
BEGIN:DAYLIGHT
TZOFFSETFROM:-0500
TZOFFSETTO:-0400
TZNAME:EDT
DTSTART:20260308T070000
END:DAYLIGHT
BEGIN:STANDARD
TZOFFSETFROM:-0400
TZOFFSETTO:-0500
TZNAME:EST
DTSTART:20261101T060000
END:STANDARD
BEGIN:DAYLIGHT
TZOFFSETFROM:-0500
TZOFFSETTO:-0400
TZNAME:EDT
DTSTART:20270314T070000
END:DAYLIGHT
BEGIN:STANDARD
TZOFFSETFROM:-0400
TZOFFSETTO:-0500
TZNAME:EST
DTSTART:20271107T060000
END:STANDARD
END:VTIMEZONE
BEGIN:VTIMEZONE
TZID:America/New_York
BEGIN:DAYLIGHT
TZOFFSETFROM:-0500
TZOFFSETTO:-0400
TZNAME:EDT
DTSTART:20250309T070000
END:DAYLIGHT
BEGIN:STANDARD
TZOFFSETFROM:-0400
TZOFFSETTO:-0500
TZNAME:EST
DTSTART:20251102T060000
END:STANDARD
BEGIN:DAYLIGHT
TZOFFSETFROM:-0500
TZOFFSETTO:-0400
TZNAME:EDT
DTSTART:20260308T070000
END:DAYLIGHT
BEGIN:STANDARD
TZOFFSETFROM:-0400
TZOFFSETTO:-0500
TZNAME:EST
DTSTART:20261101T060000
END:STANDARD
BEGIN:DAYLIGHT
TZOFFSETFROM:-0500
TZOFFSETTO:-0400
TZNAME:EDT
DTSTART:20270314T070000
END:DAYLIGHT
BEGIN:STANDARD
TZOFFSETFROM:-0400
TZOFFSETTO:-0500
TZNAME:EST
DTSTART:20271107T060000
END:STANDARD
END:VTIMEZONE
BEGIN:VEVENT
DTSTART;TZID=America/Detroit:20260306T000000
DTEND;TZID=America/Detroit:20260307T235959
DTSTAMP:20260419T093941
CREATED:20260305T180749Z
LAST-MODIFIED:20260306T125246Z
UID:41833-1772755200-1772927999@antiquetractorblog.com
SUMMARY:IN - NTPA Yoder Popcorn Invitational Pull
DESCRIPTION:Facebook Page:  NTPA Truck and Tractor Pulling \n\n\n\nSession One: Friday\, 7 p.m. EasternPro Stock TractorsLight Pro Stock TractorsHot Farm TractorsTwo-Wheel-Drive TrucksPro Stock Diesel 4×4 3.0 TrucksModified MinisSession Two: Saturday\, 7 p.m. EasternPro Stock TractorsLight Pro Stock TractorsHot Farm TractorsTwo-Wheel-Drive TrucksPro Stock Diesel 4×4 3.0 TrucksModified Minis
URL:https://antiquetractorblog.com/event/in-ntpa-yoder-popcorn-invitational-pull/
LOCATION:Allen County War Memorial Coliseum\, 4000 Parnell Ave\, Fort Wayne\, IN\, 46805
CATEGORIES:Tractor Pull
ORGANIZER;CN="NTPA Contact":MAILTO:info@ntpapull.com
END:VEVENT
BEGIN:VEVENT
DTSTART;TZID=America/Detroit:20260313T000000
DTEND;TZID=America/Detroit:20260314T235959
DTSTAMP:20260419T093941
CREATED:20260305T180748Z
LAST-MODIFIED:20260306T124945Z
UID:41832-1773360000-1773532799@antiquetractorblog.com
SUMMARY:FL - NTPA Grand National Southern Swing Pull
DESCRIPTION:Facebook Page:  NTPA Truck and Tractor Pulling \n\n\n\nSession One: Friday\, 6:30 p.m. Eastern4.1 Pro Stock TractorsSuper Stock Diesel 4×4 TrucksModified MinisLight ModifiedsSession Two: Saturday\, 6:30 p.m. Eastern4.1 Pro Stock TractorsSuper Stock Diesel 4×4 TrucksModified MinisLight Modifieds
URL:https://antiquetractorblog.com/event/fl-ntpa-grand-national-southern-swing-pull-2/
LOCATION:Florida Pullers\, 4253 West Ponkan Rd\, Zellwood\, FL\, 32798
CATEGORIES:Tractor Pull
ORGANIZER;CN="NTPA Contact":MAILTO:info@ntpapull.com
END:VEVENT
BEGIN:VEVENT
DTSTART;TZID=America/New_York:20260314T000000
DTEND;TZID=America/New_York:20260314T235959
DTSTAMP:20260419T093941
CREATED:20231208T203018Z
LAST-MODIFIED:20251205T155521Z
UID:26356-1773446400-1773532799@antiquetractorblog.com
SUMMARY:SC - Bair-ly Pulling Tractor Pull
DESCRIPTION:
URL:https://antiquetractorblog.com/event/sc-bair-ly-pulling-tractor-pull-2/
LOCATION:Bair-ly Pulling Tractor Pull Site\, 762 Mount Zion Rd.\, Saint George\, SC\, 29477\, United States
CATEGORIES:Tractor Pull
ORGANIZER;CN="Lisa Bair":MAILTO:bairlypulling@gmail.com
END:VEVENT
BEGIN:VEVENT
DTSTART;TZID=America/Detroit:20260320T000000
DTEND;TZID=America/Detroit:20260321T235959
DTSTAMP:20260419T093941
CREATED:20260305T180747Z
LAST-MODIFIED:20260306T124703Z
UID:41831-1773964800-1774137599@antiquetractorblog.com
SUMMARY:FL - NTPA Grand National Southern Swing Pull
DESCRIPTION:Facebook Page:  NTPA Truck and Tractor Pulling \n\n\n\nSession One: Friday\, 6:30 p.m. Eastern4.1 Pro Stock TractorsSuper Stock Diesel 4×4 TrucksModified MinisLight ModifiedsSession Two: Saturday\, 6:30 p.m. Eastern4.1 Pro Stock TractorsSuper Stock Diesel 4×4 TrucksModified MinisLight Modifieds
URL:https://antiquetractorblog.com/event/fl-ntpa-grand-national-southern-swing-pull/
LOCATION:Just Add Dirt Motorsports Park\, 1009 South Highway 17\, Satsuma\, FL\, 32189
CATEGORIES:Tractor Pull
ORGANIZER;CN="NTPA Contact":MAILTO:info@ntpapull.com
END:VEVENT
END:VCALENDAR