BEGIN:VCALENDAR
VERSION:2.0
PRODID:-//Antique Tractor Blog - ECPv6.15.20//NONSGML v1.0//EN
CALSCALE:GREGORIAN
METHOD:PUBLISH
X-ORIGINAL-URL:https://antiquetractorblog.com
X-WR-CALDESC:Events for Antique Tractor Blog
REFRESH-INTERVAL;VALUE=DURATION:PT1H
X-Robots-Tag:noindex
X-PUBLISHED-TTL:PT1H
BEGIN:VTIMEZONE
TZID:America/Detroit
BEGIN:DAYLIGHT
TZOFFSETFROM:-0500
TZOFFSETTO:-0400
TZNAME:EDT
DTSTART:20250309T070000
END:DAYLIGHT
BEGIN:STANDARD
TZOFFSETFROM:-0400
TZOFFSETTO:-0500
TZNAME:EST
DTSTART:20251102T060000
END:STANDARD
BEGIN:DAYLIGHT
TZOFFSETFROM:-0500
TZOFFSETTO:-0400
TZNAME:EDT
DTSTART:20260308T070000
END:DAYLIGHT
BEGIN:STANDARD
TZOFFSETFROM:-0400
TZOFFSETTO:-0500
TZNAME:EST
DTSTART:20261101T060000
END:STANDARD
BEGIN:DAYLIGHT
TZOFFSETFROM:-0500
TZOFFSETTO:-0400
TZNAME:EDT
DTSTART:20270314T070000
END:DAYLIGHT
BEGIN:STANDARD
TZOFFSETFROM:-0400
TZOFFSETTO:-0500
TZNAME:EST
DTSTART:20271107T060000
END:STANDARD
END:VTIMEZONE
BEGIN:VEVENT
DTSTART;TZID=America/Detroit:20260509T000000
DTEND;TZID=America/Detroit:20260509T235959
DTSTAMP:20260419T190127
CREATED:20240105T153411Z
LAST-MODIFIED:20260209T161517Z
UID:26874-1778284800-1778371199@antiquetractorblog.com
SUMMARY:WI - Northwoods Tractor Club Plow Days
DESCRIPTION:Facebook Page:  Northwoods Tractor Club
URL:https://antiquetractorblog.com/event/wi-northwoods-tractor-club-plow-days-3/
LOCATION:Northwoods Tractor Club Museum\, W8485 Hwy 64\, Antigo\, WI\, 54424\, United States
CATEGORIES:Tractor Plow Day
ORGANIZER;CN="Tom Zamzow":MAILTO:northwoodstractorclub@gmail.com
END:VEVENT
END:VCALENDAR