BEGIN:VCALENDAR
VERSION:2.0
PRODID:-//Antique Tractor Blog - ECPv6.15.20//NONSGML v1.0//EN
CALSCALE:GREGORIAN
METHOD:PUBLISH
X-WR-CALNAME:Antique Tractor Blog
X-ORIGINAL-URL:https://antiquetractorblog.com
X-WR-CALDESC:Events for Antique Tractor Blog
REFRESH-INTERVAL;VALUE=DURATION:PT1H
X-Robots-Tag:noindex
X-PUBLISHED-TTL:PT1H
BEGIN:VTIMEZONE
TZID:America/Detroit
BEGIN:DAYLIGHT
TZOFFSETFROM:-0500
TZOFFSETTO:-0400
TZNAME:EDT
DTSTART:20250309T070000
END:DAYLIGHT
BEGIN:STANDARD
TZOFFSETFROM:-0400
TZOFFSETTO:-0500
TZNAME:EST
DTSTART:20251102T060000
END:STANDARD
BEGIN:DAYLIGHT
TZOFFSETFROM:-0500
TZOFFSETTO:-0400
TZNAME:EDT
DTSTART:20260308T070000
END:DAYLIGHT
BEGIN:STANDARD
TZOFFSETFROM:-0400
TZOFFSETTO:-0500
TZNAME:EST
DTSTART:20261101T060000
END:STANDARD
BEGIN:DAYLIGHT
TZOFFSETFROM:-0500
TZOFFSETTO:-0400
TZNAME:EDT
DTSTART:20270314T070000
END:DAYLIGHT
BEGIN:STANDARD
TZOFFSETFROM:-0400
TZOFFSETTO:-0500
TZNAME:EST
DTSTART:20271107T060000
END:STANDARD
END:VTIMEZONE
BEGIN:VTIMEZONE
TZID:America/New_York
BEGIN:DAYLIGHT
TZOFFSETFROM:-0500
TZOFFSETTO:-0400
TZNAME:EDT
DTSTART:20250309T070000
END:DAYLIGHT
BEGIN:STANDARD
TZOFFSETFROM:-0400
TZOFFSETTO:-0500
TZNAME:EST
DTSTART:20251102T060000
END:STANDARD
BEGIN:DAYLIGHT
TZOFFSETFROM:-0500
TZOFFSETTO:-0400
TZNAME:EDT
DTSTART:20260308T070000
END:DAYLIGHT
BEGIN:STANDARD
TZOFFSETFROM:-0400
TZOFFSETTO:-0500
TZNAME:EST
DTSTART:20261101T060000
END:STANDARD
BEGIN:DAYLIGHT
TZOFFSETFROM:-0500
TZOFFSETTO:-0400
TZNAME:EDT
DTSTART:20270314T070000
END:DAYLIGHT
BEGIN:STANDARD
TZOFFSETFROM:-0400
TZOFFSETTO:-0500
TZNAME:EST
DTSTART:20271107T060000
END:STANDARD
END:VTIMEZONE
BEGIN:VEVENT
DTSTART;TZID=America/Detroit:20260418T000000
DTEND;TZID=America/Detroit:20260419T235959
DTSTAMP:20260419T123119
CREATED:20240105T153334Z
LAST-MODIFIED:20260112T123406Z
UID:26871-1776470400-1776643199@antiquetractorblog.com
SUMMARY:MD - Maryland Steam Historical Society Spring Show
DESCRIPTION:Facebook Page: Maryland Steam Historical Society
URL:https://antiquetractorblog.com/event/md-maryland-steam-historical-society-show-2/
LOCATION:Upperco Volunteer Fire Company\, 16020 Carnival Ave\, Upperco\, MD\, 21155\, United States
CATEGORIES:Tractor Show
ORGANIZER;CN="Jodi Rill":MAILTO:mdsteamhistoricalsociety@gmail.com
END:VEVENT
BEGIN:VEVENT
DTSTART;TZID=America/Detroit:20260423T000000
DTEND;TZID=America/Detroit:20260426T235959
DTSTAMP:20260419T123119
CREATED:20250318T185742Z
LAST-MODIFIED:20260323T133833Z
UID:37377-1776902400-1777247999@antiquetractorblog.com
SUMMARY:TN - Tri-State Antique Power Association Show
DESCRIPTION:Facebook Page: Tri-State Antique Power Association
URL:https://antiquetractorblog.com/event/tn-tri-state-antique-power-association-show/
LOCATION:Appalachian Fairgrounds\, 100 Lakeview St\, Gray\, TN\, 37615\, United States
CATEGORIES:Tractor Show
ORGANIZER;CN="Nathan Jeffers":MAILTO:tsantiquepower@gmail.com
END:VEVENT
BEGIN:VEVENT
DTSTART;TZID=America/Detroit:20260424T000000
DTEND;TZID=America/Detroit:20260426T235959
DTSTAMP:20260419T123119
CREATED:20240201T195348Z
LAST-MODIFIED:20260218T170218Z
UID:27975-1776988800-1777247999@antiquetractorblog.com
SUMMARY:PA - Cumberland Valley Antique Engine and Machinery Spring Fling
DESCRIPTION:Facebook Page:  Cumberland Valley Antique Engine & Machinery Association
URL:https://antiquetractorblog.com/event/pa-cumberland-valley-antique-engine-and-machinery-show/
LOCATION:Cumberland Valley Antique Engine and Machinery\, 1501 Criders Church Rd\, Chambersburg\, PA\, 17202\, United States
CATEGORIES:Tractor Show
ORGANIZER;CN="Duane Stahl":MAILTO:cyndeez059@gmail.com
END:VEVENT
BEGIN:VEVENT
DTSTART;TZID=America/Detroit:20260424T000000
DTEND;TZID=America/Detroit:20260503T235959
DTSTAMP:20260419T123119
CREATED:20260323T122853Z
LAST-MODIFIED:20260323T124638Z
UID:42132-1776988800-1777852799@antiquetractorblog.com
SUMMARY:OH - Old Steam and Gas Club Garden Tractor Pullers Annual Indoor Show
DESCRIPTION:Facebook Page:  Old Steam And Gas Club Garden Tractor Pullers
URL:https://antiquetractorblog.com/event/oh-old-steam-and-gas-club-garden-tractor-pullers-annual-indoor-show/
LOCATION:Colony Square Mall\, 3575 Maple Ave\, Zanesville\, OH\, 43701
CATEGORIES:Tractor Show
ORGANIZER;CN="Bruce McConnell":MAILTO:brucemcconnell14@hotmail.com
END:VEVENT
BEGIN:VEVENT
DTSTART;TZID=America/Detroit:20260425T000000
DTEND;TZID=America/Detroit:20260425T235959
DTSTAMP:20260419T123119
CREATED:20240105T153333Z
LAST-MODIFIED:20260302T171742Z
UID:26870-1777075200-1777161599@antiquetractorblog.com
SUMMARY:TX - East Texas Antique Tractor and Engine Club Memories of Yesteryear
DESCRIPTION:Facebook Page:  East Texas Antique Tractor and Engine Club
URL:https://antiquetractorblog.com/event/tx-memories-of-yesteryear-2/
LOCATION:Rusk County Expo Center\, 3303 FM 13\, Henderson\, TX\, 75654\, United States
CATEGORIES:Tractor Show
ORGANIZER;CN="Damon Nichols":MAILTO:damon1079@yahoo.com
END:VEVENT
BEGIN:VEVENT
DTSTART;TZID=America/New_York:20260425T000000
DTEND;TZID=America/New_York:20260425T235959
DTSTAMP:20260419T123119
CREATED:20240313T121624Z
LAST-MODIFIED:20260122T145606Z
UID:30573-1777075200-1777161599@antiquetractorblog.com
SUMMARY:TN - Milledgeville Heritage Day
DESCRIPTION:
URL:https://antiquetractorblog.com/event/tn-milledgeville-heritage-day-3/
LOCATION:Milledgeville Volunteer Fire Dept\, 24 Park St\, Milledgeville\, TN\, 38359\, United States
CATEGORIES:Tractor Show
ORGANIZER;CN="Dannie Kennedy":MAILTO:danniekennedy68@yahoo.com
END:VEVENT
BEGIN:VEVENT
DTSTART;TZID=America/Detroit:20260425T000000
DTEND;TZID=America/Detroit:20260425T235959
DTSTAMP:20260419T123119
CREATED:20260209T163436Z
LAST-MODIFIED:20260209T164103Z
UID:41162-1777075200-1777161599@antiquetractorblog.com
SUMMARY:AL - Shoals Annual Spring Fest 2026 Tractor Show
DESCRIPTION:
URL:https://antiquetractorblog.com/event/al-shoals-annual-spring-fest-2026-tractor-show/
LOCATION:Killen Park\, 830 Lock-Six Rd\, Killen\, AL\, 35645
CATEGORIES:Tractor Show
ORGANIZER;CN="Richard Laxson":MAILTO:rklaxson@hiwaay.net
END:VEVENT
BEGIN:VEVENT
DTSTART;TZID=America/Detroit:20260425T000000
DTEND;TZID=America/Detroit:20260426T235959
DTSTAMP:20260419T123119
CREATED:20251015T143409Z
LAST-MODIFIED:20251015T144630Z
UID:39801-1777075200-1777247999@antiquetractorblog.com
SUMMARY:NC - Union County Farm Show & Festival
DESCRIPTION:Facebook Page: Union County Antique Tractor and Power Club
URL:https://antiquetractorblog.com/event/union-county-farm-show-festival/
LOCATION:Union County Agricultural and Event Complex\, 3230 Presson Rd\, Monroe\, North Carolina\, 28112
CATEGORIES:Tractor Show
END:VEVENT
BEGIN:VEVENT
DTSTART;TZID=America/Detroit:20260425T000000
DTEND;TZID=America/Detroit:20260426T235959
DTSTAMP:20260419T123119
CREATED:20251022T160248Z
LAST-MODIFIED:20251111T131119Z
UID:39920-1777075200-1777247999@antiquetractorblog.com
SUMMARY:PA - The Old Time Plowboys Club
DESCRIPTION:Facebook Page: The Old Time Plowboys Club
URL:https://antiquetractorblog.com/event/the-old-time-plowboys-club-3/
LOCATION:Weisenbert / Lowhill Township Historical Society\, 4585 Werleys Corner Rd\, New Tripoli\, Pennsylvania\, 18066
CATEGORIES:Tractor Pull,Tractor Show
ORGANIZER;CN="Ralph Dengler":MAILTO:ralphcd@icloud.com
END:VEVENT
BEGIN:VEVENT
DTSTART;TZID=America/Detroit:20260425T000000
DTEND;TZID=America/Detroit:20260426T235959
DTSTAMP:20260419T123119
CREATED:20260323T122847Z
LAST-MODIFIED:20260323T123710Z
UID:42129-1777075200-1777247999@antiquetractorblog.com
SUMMARY:MD - Friends of Agricultural History Farm Park Gas & Steam Show
DESCRIPTION:
URL:https://antiquetractorblog.com/event/md-freinds-of-agricultural-history-farm-park-gas-steam-show/
LOCATION:Agricultural History Farm Park\, 18400 Muncaster Road\, Derwood\, MD\, 20855\, United States
CATEGORIES:Tractor Show
END:VEVENT
END:VCALENDAR