BEGIN:VCALENDAR
VERSION:2.0
PRODID:-//Antique Tractor Blog - ECPv6.15.20//NONSGML v1.0//EN
CALSCALE:GREGORIAN
METHOD:PUBLISH
X-WR-CALNAME:Antique Tractor Blog
X-ORIGINAL-URL:https://antiquetractorblog.com
X-WR-CALDESC:Events for Antique Tractor Blog
REFRESH-INTERVAL;VALUE=DURATION:PT1H
X-Robots-Tag:noindex
X-PUBLISHED-TTL:PT1H
BEGIN:VTIMEZONE
TZID:America/New_York
BEGIN:DAYLIGHT
TZOFFSETFROM:-0500
TZOFFSETTO:-0400
TZNAME:EDT
DTSTART:20250309T070000
END:DAYLIGHT
BEGIN:STANDARD
TZOFFSETFROM:-0400
TZOFFSETTO:-0500
TZNAME:EST
DTSTART:20251102T060000
END:STANDARD
BEGIN:DAYLIGHT
TZOFFSETFROM:-0500
TZOFFSETTO:-0400
TZNAME:EDT
DTSTART:20260308T070000
END:DAYLIGHT
BEGIN:STANDARD
TZOFFSETFROM:-0400
TZOFFSETTO:-0500
TZNAME:EST
DTSTART:20261101T060000
END:STANDARD
BEGIN:DAYLIGHT
TZOFFSETFROM:-0500
TZOFFSETTO:-0400
TZNAME:EDT
DTSTART:20270314T070000
END:DAYLIGHT
BEGIN:STANDARD
TZOFFSETFROM:-0400
TZOFFSETTO:-0500
TZNAME:EST
DTSTART:20271107T060000
END:STANDARD
END:VTIMEZONE
BEGIN:VEVENT
DTSTART;TZID=America/New_York:20260114T000000
DTEND;TZID=America/New_York:20260117T235959
DTSTAMP:20260419T184123
CREATED:20241119T205532Z
LAST-MODIFIED:20251010T143841Z
UID:34324-1768348800-1768694399@antiquetractorblog.com
SUMMARY:FL - Florida Flywheelers Annual Antique Engine and Tractor Swap Meet
DESCRIPTION:Facebook Page: Florida Flywheelers Antique Engine Club\, Inc
URL:https://antiquetractorblog.com/event/fl-florida-flywheelers-annual-antique-engine-and-tractor-swap-meet/
LOCATION:Florida Flywheelers Park\, 7000 Avon Park Cutoff Rd\, Fort Meade\, FL\, 33841\, United States
CATEGORIES:Tractor Show
ORGANIZER;CN="John Kregl":MAILTO:outgoingmail@floridaflywheelers.org
END:VEVENT
END:VCALENDAR