BEGIN:VCALENDAR
VERSION:2.0
PRODID:-//Antique Tractor Blog - ECPv6.15.20//NONSGML v1.0//EN
CALSCALE:GREGORIAN
METHOD:PUBLISH
X-WR-CALNAME:Antique Tractor Blog
X-ORIGINAL-URL:https://antiquetractorblog.com
X-WR-CALDESC:Events for Antique Tractor Blog
REFRESH-INTERVAL;VALUE=DURATION:PT1H
X-Robots-Tag:noindex
X-PUBLISHED-TTL:PT1H
BEGIN:VTIMEZONE
TZID:America/New_York
BEGIN:DAYLIGHT
TZOFFSETFROM:-0500
TZOFFSETTO:-0400
TZNAME:EDT
DTSTART:20250309T070000
END:DAYLIGHT
BEGIN:STANDARD
TZOFFSETFROM:-0400
TZOFFSETTO:-0500
TZNAME:EST
DTSTART:20251102T060000
END:STANDARD
BEGIN:DAYLIGHT
TZOFFSETFROM:-0500
TZOFFSETTO:-0400
TZNAME:EDT
DTSTART:20260308T070000
END:DAYLIGHT
BEGIN:STANDARD
TZOFFSETFROM:-0400
TZOFFSETTO:-0500
TZNAME:EST
DTSTART:20261101T060000
END:STANDARD
BEGIN:DAYLIGHT
TZOFFSETFROM:-0500
TZOFFSETTO:-0400
TZNAME:EDT
DTSTART:20270314T070000
END:DAYLIGHT
BEGIN:STANDARD
TZOFFSETFROM:-0400
TZOFFSETTO:-0500
TZNAME:EST
DTSTART:20271107T060000
END:STANDARD
END:VTIMEZONE
BEGIN:VTIMEZONE
TZID:America/Detroit
BEGIN:DAYLIGHT
TZOFFSETFROM:-0500
TZOFFSETTO:-0400
TZNAME:EDT
DTSTART:20250309T070000
END:DAYLIGHT
BEGIN:STANDARD
TZOFFSETFROM:-0400
TZOFFSETTO:-0500
TZNAME:EST
DTSTART:20251102T060000
END:STANDARD
BEGIN:DAYLIGHT
TZOFFSETFROM:-0500
TZOFFSETTO:-0400
TZNAME:EDT
DTSTART:20260308T070000
END:DAYLIGHT
BEGIN:STANDARD
TZOFFSETFROM:-0400
TZOFFSETTO:-0500
TZNAME:EST
DTSTART:20261101T060000
END:STANDARD
BEGIN:DAYLIGHT
TZOFFSETFROM:-0500
TZOFFSETTO:-0400
TZNAME:EDT
DTSTART:20270314T070000
END:DAYLIGHT
BEGIN:STANDARD
TZOFFSETFROM:-0400
TZOFFSETTO:-0500
TZNAME:EST
DTSTART:20271107T060000
END:STANDARD
END:VTIMEZONE
BEGIN:VEVENT
DTSTART;TZID=America/New_York:20260114T000000
DTEND;TZID=America/New_York:20260117T235959
DTSTAMP:20260419T171129
CREATED:20241119T205532Z
LAST-MODIFIED:20251010T143841Z
UID:34324-1768348800-1768694399@antiquetractorblog.com
SUMMARY:FL - Florida Flywheelers Annual Antique Engine and Tractor Swap Meet
DESCRIPTION:Facebook Page: Florida Flywheelers Antique Engine Club\, Inc
URL:https://antiquetractorblog.com/event/fl-florida-flywheelers-annual-antique-engine-and-tractor-swap-meet/
LOCATION:Florida Flywheelers Park\, 7000 Avon Park Cutoff Rd\, Fort Meade\, FL\, 33841\, United States
CATEGORIES:Tractor Show
ORGANIZER;CN="John Kregl":MAILTO:outgoingmail@floridaflywheelers.org
END:VEVENT
BEGIN:VEVENT
DTSTART;TZID=America/Detroit:20260116T000000
DTEND;TZID=America/Detroit:20260117T235959
DTSTAMP:20260419T171129
CREATED:20240105T153308Z
LAST-MODIFIED:20251117T150346Z
UID:26858-1768521600-1768694399@antiquetractorblog.com
SUMMARY:AZ -  EDGE&TA Branch 206 & 240 -  Wellton  Tractor & Engine Rodeo
DESCRIPTION:Take I-8 Exit 30\, South to S. Ave 29E to E. County 12 St. Turn Right and follow signs \n\n\n\nAttached you will find the Show Flyer for EDGE&TA BRANCH 206 AND 240’S Wellton Tractor and Engine Rodeo on January 16th and 17th\, 2026 in Wellton\, Arizona. \n\n\n\nALL EDGE&TA members are welcome to come and exhibit!!!!! We have dry camping available for exhibitors. There is a Hotel\, Motels and Airbnb in Wellton that will fill up by December\, with more lodging in Yuma which is 30 Miles west on I-8 (30 mins)  \n\n\n\nHere a few RV rental website there few in Wellton but many in Yuma (may have deliver by owner) \n\n\n\nRV share: https://rvshare.com/ \n\n\n\nOutdoorsy: https://www.outdoorsy.com/ \n\n\n\nVacation renter: https://www.vacationrenter.com/ \n\n\n\nRV-Ezy: https://www.rvezy.com/ \n\n\n\nWe can start arriving on Wednesday the 14th and stay till the 20th. We will post updates regarding the show as the date gets closer. \n\n\n\nThere are a few restaurants in Wellton and there will be food vendors on the show grounds Friday and Saturday.  \n\n\n\nTHIS EVENT IS PUT ON BY 2 CLUBS IN THE STATE OF ARIZONA \n\n\n\nLooking forward to meeting many new collectors  \n\n\n\nBill Lanier JrPresidentSouthwest Forgotten IronEDGE&TA Branch #206bigbugranch@yahoo.com \n\n\n\nZane ParkerPresident520-981-0336Power From The Past Assn.EDGE&TA Branch #240Serving Southern Arizona
URL:https://antiquetractorblog.com/event/wellton-tractor-engine-rodeo/
LOCATION:CO
CATEGORIES:Tractor Show
ORGANIZER;CN="Bill Lanier Jr":MAILTO:bigbugranch@yahoo.com
END:VEVENT
BEGIN:VEVENT
DTSTART;TZID=America/New_York:20260117T000000
DTEND;TZID=America/New_York:20260117T235959
DTSTAMP:20260419T171129
CREATED:20241119T205449Z
LAST-MODIFIED:20251201T204503Z
UID:34289-1768608000-1768694399@antiquetractorblog.com
SUMMARY:PA - Blue Mountain Antique Gas & Steam Show (Jacktown)
DESCRIPTION:Facebook Page: Jacktown-Blue Mountain Antique Gas & Steam Engine Association
URL:https://antiquetractorblog.com/event/pa-blue-mountain-antique-gas-steam-show-jacktown/
LOCATION:Blue Mountain Antique Club Site\, 1279 Richmond Rd\, Bongor\, PA\, 18013\, United States
CATEGORIES:Tractor Show
END:VEVENT
END:VCALENDAR