BEGIN:VCALENDAR
VERSION:2.0
PRODID:-//Antique Tractor Blog - ECPv6.15.20//NONSGML v1.0//EN
CALSCALE:GREGORIAN
METHOD:PUBLISH
X-ORIGINAL-URL:https://antiquetractorblog.com
X-WR-CALDESC:Events for Antique Tractor Blog
REFRESH-INTERVAL;VALUE=DURATION:PT1H
X-Robots-Tag:noindex
X-PUBLISHED-TTL:PT1H
BEGIN:VTIMEZONE
TZID:America/Detroit
BEGIN:DAYLIGHT
TZOFFSETFROM:-0500
TZOFFSETTO:-0400
TZNAME:EDT
DTSTART:20250309T070000
END:DAYLIGHT
BEGIN:STANDARD
TZOFFSETFROM:-0400
TZOFFSETTO:-0500
TZNAME:EST
DTSTART:20251102T060000
END:STANDARD
BEGIN:DAYLIGHT
TZOFFSETFROM:-0500
TZOFFSETTO:-0400
TZNAME:EDT
DTSTART:20260308T070000
END:DAYLIGHT
BEGIN:STANDARD
TZOFFSETFROM:-0400
TZOFFSETTO:-0500
TZNAME:EST
DTSTART:20261101T060000
END:STANDARD
BEGIN:DAYLIGHT
TZOFFSETFROM:-0500
TZOFFSETTO:-0400
TZNAME:EDT
DTSTART:20270314T070000
END:DAYLIGHT
BEGIN:STANDARD
TZOFFSETFROM:-0400
TZOFFSETTO:-0500
TZNAME:EST
DTSTART:20271107T060000
END:STANDARD
END:VTIMEZONE
BEGIN:VEVENT
DTSTART;TZID=America/Detroit:20260522T000000
DTEND;TZID=America/Detroit:20260523T235959
DTSTAMP:20260424T165921
CREATED:20240105T153423Z
LAST-MODIFIED:20260408T121704Z
UID:26880-1779408000-1779580799@antiquetractorblog.com
SUMMARY:TN - Heritage Tractor & Engine Club\, Michael Glandon Show
DESCRIPTION:Facebook Group:  Heritage Tractor and Engine Club
URL:https://antiquetractorblog.com/event/tn-michael-glandon-memorial-day-show/
LOCATION:Little River Railroad Museum\, 7747 E Lamar Alexander Parkway\, Townsend\, TN\, 37882
CATEGORIES:Tractor Show
ORGANIZER;CN="Bill Johnson":MAILTO:heritagetractorandengineclub@outlook.com
END:VEVENT
BEGIN:VEVENT
DTSTART;TZID=America/Detroit:20260523T000000
DTEND;TZID=America/Detroit:20260524T235959
DTSTAMP:20260424T165921
CREATED:20250318T185738Z
LAST-MODIFIED:20260106T133009Z
UID:37375-1779494400-1779667199@antiquetractorblog.com
SUMMARY:PA - Chickentown Gas & Steam Association Show
DESCRIPTION:Facebook Page: Chickentown Gas and Steam Show
URL:https://antiquetractorblog.com/event/pa-chickentown-gas-steam-association-show/
LOCATION:New Centerville Rural Volunteer Fire Company\, 3054 Kingwood Rd\, Rockwood\, Pennsylvania\, 15557
CATEGORIES:Tractor Show
END:VEVENT
BEGIN:VEVENT
DTSTART;TZID=America/Detroit:20260523T000000
DTEND;TZID=America/Detroit:20260524T235959
DTSTAMP:20260424T165921
CREATED:20250411T152052Z
LAST-MODIFIED:20260420T191835Z
UID:38152-1779494400-1779667199@antiquetractorblog.com
SUMMARY:WV - Preston County Antique Tractor and Machinery Show
DESCRIPTION:Facebook Page:  Preston County Antique Tractor & Machinery Association
URL:https://antiquetractorblog.com/event/wv-preston-county-antique-tractor-and-machinery-show-2/
LOCATION:Reedsville Volunteer Fire Dept\, 291 Kingwood St\, Reedsville\, West Virginia\, 26547
CATEGORIES:Tractor Show
ORGANIZER;CN="Lisa Reed":MAILTO:Lbeall1970@gmail.com
END:VEVENT
END:VCALENDAR