BEGIN:VCALENDAR
VERSION:2.0
PRODID:-//Antique Tractor Blog - ECPv6.15.20//NONSGML v1.0//EN
CALSCALE:GREGORIAN
METHOD:PUBLISH
X-WR-CALNAME:Antique Tractor Blog
X-ORIGINAL-URL:https://antiquetractorblog.com
X-WR-CALDESC:Events for Antique Tractor Blog
REFRESH-INTERVAL;VALUE=DURATION:PT1H
X-Robots-Tag:noindex
X-PUBLISHED-TTL:PT1H
BEGIN:VTIMEZONE
TZID:America/Detroit
BEGIN:DAYLIGHT
TZOFFSETFROM:-0500
TZOFFSETTO:-0400
TZNAME:EDT
DTSTART:20250309T070000
END:DAYLIGHT
BEGIN:STANDARD
TZOFFSETFROM:-0400
TZOFFSETTO:-0500
TZNAME:EST
DTSTART:20251102T060000
END:STANDARD
BEGIN:DAYLIGHT
TZOFFSETFROM:-0500
TZOFFSETTO:-0400
TZNAME:EDT
DTSTART:20260308T070000
END:DAYLIGHT
BEGIN:STANDARD
TZOFFSETFROM:-0400
TZOFFSETTO:-0500
TZNAME:EST
DTSTART:20261101T060000
END:STANDARD
BEGIN:DAYLIGHT
TZOFFSETFROM:-0500
TZOFFSETTO:-0400
TZNAME:EDT
DTSTART:20270314T070000
END:DAYLIGHT
BEGIN:STANDARD
TZOFFSETFROM:-0400
TZOFFSETTO:-0500
TZNAME:EST
DTSTART:20271107T060000
END:STANDARD
END:VTIMEZONE
BEGIN:VTIMEZONE
TZID:America/New_York
BEGIN:DAYLIGHT
TZOFFSETFROM:-0500
TZOFFSETTO:-0400
TZNAME:EDT
DTSTART:20250309T070000
END:DAYLIGHT
BEGIN:STANDARD
TZOFFSETFROM:-0400
TZOFFSETTO:-0500
TZNAME:EST
DTSTART:20251102T060000
END:STANDARD
BEGIN:DAYLIGHT
TZOFFSETFROM:-0500
TZOFFSETTO:-0400
TZNAME:EDT
DTSTART:20260308T070000
END:DAYLIGHT
BEGIN:STANDARD
TZOFFSETFROM:-0400
TZOFFSETTO:-0500
TZNAME:EST
DTSTART:20261101T060000
END:STANDARD
BEGIN:DAYLIGHT
TZOFFSETFROM:-0500
TZOFFSETTO:-0400
TZNAME:EDT
DTSTART:20270314T070000
END:DAYLIGHT
BEGIN:STANDARD
TZOFFSETFROM:-0400
TZOFFSETTO:-0500
TZNAME:EST
DTSTART:20271107T060000
END:STANDARD
END:VTIMEZONE
BEGIN:VEVENT
DTSTART;TZID=America/Detroit:20260424T000000
DTEND;TZID=America/Detroit:20260503T235959
DTSTAMP:20260424T153402
CREATED:20260323T122853Z
LAST-MODIFIED:20260323T124638Z
UID:42132-1776988800-1777852799@antiquetractorblog.com
SUMMARY:OH - Old Steam and Gas Club Garden Tractor Pullers Annual Indoor Show
DESCRIPTION:Facebook Page:  Old Steam And Gas Club Garden Tractor Pullers
URL:https://antiquetractorblog.com/event/oh-old-steam-and-gas-club-garden-tractor-pullers-annual-indoor-show/
LOCATION:Colony Square Mall\, 3575 Maple Ave\, Zanesville\, OH\, 43701
CATEGORIES:Tractor Show
ORGANIZER;CN="Bruce McConnell":MAILTO:brucemcconnell14@hotmail.com
END:VEVENT
BEGIN:VEVENT
DTSTART;TZID=America/Detroit:20260501T000000
DTEND;TZID=America/Detroit:20260502T235959
DTSTAMP:20260424T153402
CREATED:20240105T153410Z
LAST-MODIFIED:20251202T132043Z
UID:26872-1777593600-1777766399@antiquetractorblog.com
SUMMARY:IA - Midwest Pride In Your Ride Truck & Tractor Show
DESCRIPTION:Facebook Page:  Midwest Pride In Your Ride
URL:https://antiquetractorblog.com/event/ia-midwest-pride-in-your-ride-truck-tractor-show-2/
LOCATION:Tri-State Raceway\, 2217 270th Ave\, Earlville\, IA\, 52041\, United States
CATEGORIES:Tractor Show
ORGANIZER;CN="Eldon Jaeger":MAILTO:info@midwestprideinyourride.org
END:VEVENT
BEGIN:VEVENT
DTSTART;TZID=America/Detroit:20260501T000000
DTEND;TZID=America/Detroit:20260502T235959
DTSTAMP:20260424T153402
CREATED:20240105T153410Z
LAST-MODIFIED:20260218T170828Z
UID:26873-1777593600-1777766399@antiquetractorblog.com
SUMMARY:LA - IHCC Chapter 31 Show
DESCRIPTION:Facebook Page:  Louisiana Chapter 31 International Harvester Collectors
URL:https://antiquetractorblog.com/event/la-ihc-la-chapter-31-2/
LOCATION:Washington Parish Fairgrounds\, 100 Main St\, Franklinton\, LA\, 70438\, United States
CATEGORIES:Tractor Show
END:VEVENT
BEGIN:VEVENT
DTSTART;TZID=America/Detroit:20260501T000000
DTEND;TZID=America/Detroit:20260502T235959
DTSTAMP:20260424T153402
CREATED:20251202T164029Z
LAST-MODIFIED:20251202T164648Z
UID:40373-1777593600-1777766399@antiquetractorblog.com
SUMMARY:NC - Valley Hills Antique Power Club Show
DESCRIPTION:Facebook Page:  Valley Hills Antique Power Club
URL:https://antiquetractorblog.com/event/nc-valley-hills-antique-power-club-show/
LOCATION:Catawba Meadows Park\, 701 Sanford Dr\, Morganton\, North Carolina\, 28655
CATEGORIES:Tractor Show
ORGANIZER;CN="Donna Michaels":MAILTO:vhapclub2025@gmail.com
END:VEVENT
BEGIN:VEVENT
DTSTART;TZID=America/Detroit:20260501T000000
DTEND;TZID=America/Detroit:20260502T235959
DTSTAMP:20260424T153402
CREATED:20260323T122926Z
LAST-MODIFIED:20260323T131637Z
UID:42147-1777593600-1777766399@antiquetractorblog.com
SUMMARY:KS - Pioneer Harvest Swap Meet
DESCRIPTION:
URL:https://antiquetractorblog.com/event/ks-pioneer-harvest-swap-meet/
LOCATION:Bourbon County Fairgrounds\, 2102 S Hungtington Blvd\, Fort Scott\, KS\, 66701
CATEGORIES:Tractor Show
ORGANIZER;CN="Craig Shikles":MAILTO:cshikles@windstream.net
END:VEVENT
BEGIN:VEVENT
DTSTART;TZID=America/New_York:20260501T000000
DTEND;TZID=America/New_York:20260503T235959
DTSTAMP:20260424T153402
CREATED:20250103T185601Z
LAST-MODIFIED:20260204T165534Z
UID:35264-1777593600-1777852799@antiquetractorblog.com
SUMMARY:PA - Loyalsock Valley Antique Machinery Spring Show
DESCRIPTION:Facebook Page: Loyalsock Valley Antique Machinery Association Inc.
URL:https://antiquetractorblog.com/event/pa-loyalsock-valley-antique-machinery-spring-show/
LOCATION:Central Pennsylvania Museum of Agriculture and Industry\, 182 Holly St\, Trout Run\, PA\, 17771\, United States
CATEGORIES:Tractor Show
ORGANIZER;CN="Travis Brooks":MAILTO:travisbrooks975@gmail.com
END:VEVENT
BEGIN:VEVENT
DTSTART;TZID=America/Detroit:20260502T000000
DTEND;TZID=America/Detroit:20260502T235959
DTSTAMP:20260424T153402
CREATED:20240105T153412Z
LAST-MODIFIED:20260304T145207Z
UID:26875-1777680000-1777766399@antiquetractorblog.com
SUMMARY:PA - Fort Allen Antique Farm Equip Assoc - Hammer-n-Plow Days
DESCRIPTION:Facebook Page:  Fort Allen Antique Farm Equipment Association inc
URL:https://antiquetractorblog.com/event/pa-hammer-in-and-plow-days-show-2/
LOCATION:Fort Allen Antique Equip Association Show Site\, 911 Porter Ave.\, Scottdale\, PA\, 15683\, United States
CATEGORIES:Tractor Pull
ORGANIZER;CN="Sharli Neiderhiser":MAILTO:faafea.social@gmail.com
END:VEVENT
BEGIN:VEVENT
DTSTART;TZID=America/New_York:20260502T000000
DTEND;TZID=America/New_York:20260502T235959
DTSTAMP:20260424T153402
CREATED:20241119T205509Z
LAST-MODIFIED:20260302T175722Z
UID:34305-1777680000-1777766399@antiquetractorblog.com
SUMMARY:SC - Western Carolina Antique Tractor Pull
DESCRIPTION:Facebook Page:  Western Carolina Antique Tractor Pull
URL:https://antiquetractorblog.com/event/sc-western-carolina-antique-tractor-pull-and-show/
LOCATION:Western Carolina Fairgrounds\, 561 May Royal Dr\, Aiken\, SC\, 29801\, United States
CATEGORIES:Tractor Pull
ORGANIZER;CN="Larry Willing":MAILTO:larryfwilling@yahoo.com
END:VEVENT
BEGIN:VEVENT
DTSTART;TZID=America/Detroit:20260502T000000
DTEND;TZID=America/Detroit:20260502T235959
DTSTAMP:20260424T153402
CREATED:20260129T151440Z
LAST-MODIFIED:20260129T152618Z
UID:40996-1777680000-1777766399@antiquetractorblog.com
SUMMARY:KY - Southeast Kentucky Antique Tractor Assoc - Shopville Community Park Tractor Show
DESCRIPTION:Facebook Page: Southeast Kentucky Antique Tractor Association
URL:https://antiquetractorblog.com/event/ky-southeast-kentucky-antique-tractor-assoc-shopville-community-park-tractor-show/
LOCATION:Shopville Community Park\, 6400 Grundy Rd\, Somerset\, KY\, 42501
CATEGORIES:Tractor Show
ORGANIZER;CN="Charles Hawk":MAILTO:cdhawk@windstream.net
END:VEVENT
BEGIN:VEVENT
DTSTART;TZID=America/Detroit:20260502T000000
DTEND;TZID=America/Detroit:20260502T235959
DTSTAMP:20260424T153402
CREATED:20260213T201216Z
LAST-MODIFIED:20260213T204213Z
UID:41283-1777680000-1777766399@antiquetractorblog.com
SUMMARY:KY - Shopville Community Park
DESCRIPTION:
URL:https://antiquetractorblog.com/event/ky-shopville-community-park/
LOCATION:Shopville Community Park\, 6400 Grundy Rd\, Somerset\, KY\, 42501
CATEGORIES:Tractor Show
ORGANIZER;CN="Charles Hawk":MAILTO:cdhawk@windstream.net
END:VEVENT
BEGIN:VEVENT
DTSTART;TZID=America/New_York:20260502T100000
DTEND;TZID=America/New_York:20260502T140000
DTSTAMP:20260424T153402
CREATED:20240412T193009Z
LAST-MODIFIED:20260112T121444Z
UID:31291-1777716000-1777730400@antiquetractorblog.com
SUMMARY:VA - Peninsula Tractor Organization's Antique Tractor Day
DESCRIPTION:Facebook Page:  Peninsula Tractor Organization
URL:https://antiquetractorblog.com/event/va-peninsula-tractor-organizations-antique-tractor-day/
LOCATION:Nassawadox Sawmill\, 10150 Mill St\, Nassawadox\, VA\, 23413\, United States
CATEGORIES:Tractor Show
ORGANIZER;CN="Laurie Dryden":MAILTO:secretary@peninsulatractor.org
END:VEVENT
END:VCALENDAR