BEGIN:VCALENDAR
VERSION:2.0
PRODID:-//Antique Tractor Blog - ECPv6.15.20//NONSGML v1.0//EN
CALSCALE:GREGORIAN
METHOD:PUBLISH
X-ORIGINAL-URL:https://antiquetractorblog.com
X-WR-CALDESC:Events for Antique Tractor Blog
REFRESH-INTERVAL;VALUE=DURATION:PT1H
X-Robots-Tag:noindex
X-PUBLISHED-TTL:PT1H
BEGIN:VTIMEZONE
TZID:America/Detroit
BEGIN:DAYLIGHT
TZOFFSETFROM:-0500
TZOFFSETTO:-0400
TZNAME:EDT
DTSTART:20250309T070000
END:DAYLIGHT
BEGIN:STANDARD
TZOFFSETFROM:-0400
TZOFFSETTO:-0500
TZNAME:EST
DTSTART:20251102T060000
END:STANDARD
BEGIN:DAYLIGHT
TZOFFSETFROM:-0500
TZOFFSETTO:-0400
TZNAME:EDT
DTSTART:20260308T070000
END:DAYLIGHT
BEGIN:STANDARD
TZOFFSETFROM:-0400
TZOFFSETTO:-0500
TZNAME:EST
DTSTART:20261101T060000
END:STANDARD
BEGIN:DAYLIGHT
TZOFFSETFROM:-0500
TZOFFSETTO:-0400
TZNAME:EDT
DTSTART:20270314T070000
END:DAYLIGHT
BEGIN:STANDARD
TZOFFSETFROM:-0400
TZOFFSETTO:-0500
TZNAME:EST
DTSTART:20271107T060000
END:STANDARD
END:VTIMEZONE
BEGIN:VEVENT
DTSTART;TZID=America/Detroit:20260327T000000
DTEND;TZID=America/Detroit:20260328T235959
DTSTAMP:20260424T182033
CREATED:20260127T181158Z
LAST-MODIFIED:20260127T200632Z
UID:40954-1774569600-1774742399@antiquetractorblog.com
SUMMARY:NC - Sandhills Antique Farm Equip - Old Timey Farm Days
DESCRIPTION:Facebook Page: Sandhills Antique Farm Equipment Club
URL:https://antiquetractorblog.com/event/nc-sandhills-antique-farm-equip-old-timey-farm-days-2/
LOCATION:Sandhills Antique Farm Equipment Club\, 300 Alexander Dr\, Lillington\, NC\, 27546
CATEGORIES:Tractor Show
ORGANIZER;CN="Kurt Winpegler":MAILTO:kurt.winpegler@gmail.com
END:VEVENT
END:VCALENDAR