BEGIN:VCALENDAR
VERSION:2.0
PRODID:-//Antique Tractor Blog - ECPv6.15.20//NONSGML v1.0//EN
CALSCALE:GREGORIAN
METHOD:PUBLISH
X-WR-CALNAME:Antique Tractor Blog
X-ORIGINAL-URL:https://antiquetractorblog.com
X-WR-CALDESC:Events for Antique Tractor Blog
REFRESH-INTERVAL;VALUE=DURATION:PT1H
X-Robots-Tag:noindex
X-PUBLISHED-TTL:PT1H
BEGIN:VTIMEZONE
TZID:America/Detroit
BEGIN:DAYLIGHT
TZOFFSETFROM:-0500
TZOFFSETTO:-0400
TZNAME:EDT
DTSTART:20250309T070000
END:DAYLIGHT
BEGIN:STANDARD
TZOFFSETFROM:-0400
TZOFFSETTO:-0500
TZNAME:EST
DTSTART:20251102T060000
END:STANDARD
BEGIN:DAYLIGHT
TZOFFSETFROM:-0500
TZOFFSETTO:-0400
TZNAME:EDT
DTSTART:20260308T070000
END:DAYLIGHT
BEGIN:STANDARD
TZOFFSETFROM:-0400
TZOFFSETTO:-0500
TZNAME:EST
DTSTART:20261101T060000
END:STANDARD
BEGIN:DAYLIGHT
TZOFFSETFROM:-0500
TZOFFSETTO:-0400
TZNAME:EDT
DTSTART:20270314T070000
END:DAYLIGHT
BEGIN:STANDARD
TZOFFSETFROM:-0400
TZOFFSETTO:-0500
TZNAME:EST
DTSTART:20271107T060000
END:STANDARD
END:VTIMEZONE
BEGIN:VEVENT
DTSTART;TZID=America/Detroit:20260312T000000
DTEND;TZID=America/Detroit:20260314T235959
DTSTAMP:20260424T165204
CREATED:20240221T141142Z
LAST-MODIFIED:20251111T130412Z
UID:29252-1773273600-1773532799@antiquetractorblog.com
SUMMARY:IN - Farm Power Club Winter Tractor and Gas Engine Show
DESCRIPTION:Facebook Page:  Farm Power Club
URL:https://antiquetractorblog.com/event/in-farm-power-club-winter-tractor-and-gas-engine-show/
LOCATION:Kruse Plaza\, 5634 Opportunity Blvd\, Auburn\, IN\, 46706\, United States
CATEGORIES:Tractor Show
END:VEVENT
BEGIN:VEVENT
DTSTART;TZID=America/Detroit:20260312T000000
DTEND;TZID=America/Detroit:20260322T235959
DTSTAMP:20260424T165204
CREATED:20260211T153543Z
LAST-MODIFIED:20260211T154250Z
UID:41214-1773273600-1774223999@antiquetractorblog.com
SUMMARY:TX - Rio Grande Valley Livestock Show
DESCRIPTION:
URL:https://antiquetractorblog.com/event/tx-rio-grand-valley-livestock-show/
LOCATION:Rio Grande Valley Livestock Showgrounds\, 1000 N Texas Ave\, Mercedes\, TX\, 78570
CATEGORIES:Tractor Show
ORGANIZER;CN="Christy Cameron":MAILTO:christy@rgvls.com
END:VEVENT
BEGIN:VEVENT
DTSTART;TZID=America/Detroit:20260313T000000
DTEND;TZID=America/Detroit:20260314T235959
DTSTAMP:20260424T165204
CREATED:20240221T141144Z
LAST-MODIFIED:20260218T145753Z
UID:29254-1773360000-1773532799@antiquetractorblog.com
SUMMARY:MS - IHCC Chapter 44 - Good Ole Days Festival
DESCRIPTION:Facebook Page:  Mississippi Chapter 44 of International Harvester Collectors
URL:https://antiquetractorblog.com/event/ms-mississippi-ihc-chapter-44-state-show/
LOCATION:George County Fairgrounds\, 9162 Old Hwy 63 South\, Lucedale\, Mississippi\, 39452
CATEGORIES:Tractor Show
ORGANIZER;CN="Danny Clark":MAILTO:goodoledaysfest@gmail.com
END:VEVENT
BEGIN:VEVENT
DTSTART;TZID=America/Detroit:20260313T000000
DTEND;TZID=America/Detroit:20260314T235959
DTSTAMP:20260424T165204
CREATED:20260305T180748Z
LAST-MODIFIED:20260306T124945Z
UID:41832-1773360000-1773532799@antiquetractorblog.com
SUMMARY:FL - NTPA Grand National Southern Swing Pull
DESCRIPTION:Facebook Page:  NTPA Truck and Tractor Pulling \n\n\n\nSession One: Friday\, 6:30 p.m. Eastern4.1 Pro Stock TractorsSuper Stock Diesel 4×4 TrucksModified MinisLight ModifiedsSession Two: Saturday\, 6:30 p.m. Eastern4.1 Pro Stock TractorsSuper Stock Diesel 4×4 TrucksModified MinisLight Modifieds
URL:https://antiquetractorblog.com/event/fl-ntpa-grand-national-southern-swing-pull-2/
LOCATION:Florida Pullers\, 4253 West Ponkan Rd\, Zellwood\, FL\, 32798
CATEGORIES:Tractor Pull
ORGANIZER;CN="NTPA Contact":MAILTO:info@ntpapull.com
END:VEVENT
END:VCALENDAR