BEGIN:VCALENDAR
VERSION:2.0
PRODID:-//Antique Tractor Blog - ECPv6.15.20//NONSGML v1.0//EN
CALSCALE:GREGORIAN
METHOD:PUBLISH
X-ORIGINAL-URL:https://antiquetractorblog.com
X-WR-CALDESC:Events for Antique Tractor Blog
REFRESH-INTERVAL;VALUE=DURATION:PT1H
X-Robots-Tag:noindex
X-PUBLISHED-TTL:PT1H
BEGIN:VTIMEZONE
TZID:America/New_York
BEGIN:DAYLIGHT
TZOFFSETFROM:-0500
TZOFFSETTO:-0400
TZNAME:EDT
DTSTART:20240310T070000
END:DAYLIGHT
BEGIN:STANDARD
TZOFFSETFROM:-0400
TZOFFSETTO:-0500
TZNAME:EST
DTSTART:20241103T060000
END:STANDARD
BEGIN:DAYLIGHT
TZOFFSETFROM:-0500
TZOFFSETTO:-0400
TZNAME:EDT
DTSTART:20250309T070000
END:DAYLIGHT
BEGIN:STANDARD
TZOFFSETFROM:-0400
TZOFFSETTO:-0500
TZNAME:EST
DTSTART:20251102T060000
END:STANDARD
BEGIN:DAYLIGHT
TZOFFSETFROM:-0500
TZOFFSETTO:-0400
TZNAME:EDT
DTSTART:20260308T070000
END:DAYLIGHT
BEGIN:STANDARD
TZOFFSETFROM:-0400
TZOFFSETTO:-0500
TZNAME:EST
DTSTART:20261101T060000
END:STANDARD
END:VTIMEZONE
BEGIN:VEVENT
DTSTART;TZID=America/New_York:20250516T000000
DTEND;TZID=America/New_York:20250517T235959
DTSTAMP:20260425T071715
CREATED:20250122T160705Z
LAST-MODIFIED:20250122T161517Z
UID:35869-1747353600-1747526399@antiquetractorblog.com
SUMMARY:KY - Flat Run Veterans Park Tractor Show
DESCRIPTION:Facebook Page: Central Kentucky Antique Machinery Association
URL:https://antiquetractorblog.com/event/ky-flat-run-veterans-park-tractor-show/
LOCATION:Flat Run Veterans Park\, 354 Oddville Ave\, Cynthiana\, KY\, 41031
CATEGORIES:Tractor Show
ORGANIZER;CN="Allen Bennett":MAILTO:allend.bennett78@yahoo.com
END:VEVENT
END:VCALENDAR