BEGIN:VCALENDAR
VERSION:2.0
PRODID:-//Antique Tractor Blog - ECPv6.15.20//NONSGML v1.0//EN
CALSCALE:GREGORIAN
METHOD:PUBLISH
X-WR-CALNAME:Antique Tractor Blog
X-ORIGINAL-URL:https://antiquetractorblog.com
X-WR-CALDESC:Events for Antique Tractor Blog
REFRESH-INTERVAL;VALUE=DURATION:PT1H
X-Robots-Tag:noindex
X-PUBLISHED-TTL:PT1H
BEGIN:VTIMEZONE
TZID:America/Detroit
BEGIN:DAYLIGHT
TZOFFSETFROM:-0500
TZOFFSETTO:-0400
TZNAME:EDT
DTSTART:20240310T070000
END:DAYLIGHT
BEGIN:STANDARD
TZOFFSETFROM:-0400
TZOFFSETTO:-0500
TZNAME:EST
DTSTART:20241103T060000
END:STANDARD
BEGIN:DAYLIGHT
TZOFFSETFROM:-0500
TZOFFSETTO:-0400
TZNAME:EDT
DTSTART:20250309T070000
END:DAYLIGHT
BEGIN:STANDARD
TZOFFSETFROM:-0400
TZOFFSETTO:-0500
TZNAME:EST
DTSTART:20251102T060000
END:STANDARD
BEGIN:DAYLIGHT
TZOFFSETFROM:-0500
TZOFFSETTO:-0400
TZNAME:EDT
DTSTART:20260308T070000
END:DAYLIGHT
BEGIN:STANDARD
TZOFFSETFROM:-0400
TZOFFSETTO:-0500
TZNAME:EST
DTSTART:20261101T060000
END:STANDARD
END:VTIMEZONE
BEGIN:VEVENT
DTSTART;TZID=America/Detroit:20250508T000000
DTEND;TZID=America/Detroit:20250510T235959
DTSTAMP:20260425T071611
CREATED:20250318T185736Z
LAST-MODIFIED:20250320T144425Z
UID:37373-1746662400-1746921599@antiquetractorblog.com
SUMMARY:KY - Sycamore Flats Flywheelers Show
DESCRIPTION:Facebook Page: Sycamore Flats Flywheelers
URL:https://antiquetractorblog.com/event/ky-sycamore-flats-flywheelers/
LOCATION:Central Kentucky Ag / Expo Center\, 678 South Wallace Wilkinson Blvd\, Liberty\, Kentucky\, 42539\, United States
CATEGORIES:Tractor Show
ORGANIZER;CN="Jonathan Woodrum":MAILTO:jwll67@yahoo.com
END:VEVENT
BEGIN:VEVENT
DTSTART;TZID=America/Detroit:20250510T000000
DTEND;TZID=America/Detroit:20250510T235959
DTSTAMP:20260425T071611
CREATED:20250421T182738Z
LAST-MODIFIED:20250421T190027Z
UID:38309-1746835200-1746921599@antiquetractorblog.com
SUMMARY:TN - West Tennessee Strawberry Festival - Antique Tractor Show
DESCRIPTION:Facebook Page: West TN Antique Engine and Tractor Association
URL:https://antiquetractorblog.com/event/tn-west-tennessee-strawberry-festival-antique-tractor-show/
LOCATION:Viking Park\, Viking Dr (Next to Humboldt High School)\, Humboldt\, Tennessee\, 38343
CATEGORIES:Tractor Show
ORGANIZER;CN="Gail Privett":MAILTO:cellfonelady@gmail.com
END:VEVENT
END:VCALENDAR