BEGIN:VCALENDAR
VERSION:2.0
PRODID:-//Antique Tractor Blog - ECPv6.15.20//NONSGML v1.0//EN
CALSCALE:GREGORIAN
METHOD:PUBLISH
X-ORIGINAL-URL:https://antiquetractorblog.com
X-WR-CALDESC:Events for Antique Tractor Blog
REFRESH-INTERVAL;VALUE=DURATION:PT1H
X-Robots-Tag:noindex
X-PUBLISHED-TTL:PT1H
BEGIN:VTIMEZONE
TZID:America/New_York
BEGIN:DAYLIGHT
TZOFFSETFROM:-0500
TZOFFSETTO:-0400
TZNAME:EDT
DTSTART:20240310T070000
END:DAYLIGHT
BEGIN:STANDARD
TZOFFSETFROM:-0400
TZOFFSETTO:-0500
TZNAME:EST
DTSTART:20241103T060000
END:STANDARD
BEGIN:DAYLIGHT
TZOFFSETFROM:-0500
TZOFFSETTO:-0400
TZNAME:EDT
DTSTART:20250309T070000
END:DAYLIGHT
BEGIN:STANDARD
TZOFFSETFROM:-0400
TZOFFSETTO:-0500
TZNAME:EST
DTSTART:20251102T060000
END:STANDARD
BEGIN:DAYLIGHT
TZOFFSETFROM:-0500
TZOFFSETTO:-0400
TZNAME:EDT
DTSTART:20260308T070000
END:DAYLIGHT
BEGIN:STANDARD
TZOFFSETFROM:-0400
TZOFFSETTO:-0500
TZNAME:EST
DTSTART:20261101T060000
END:STANDARD
END:VTIMEZONE
BEGIN:VTIMEZONE
TZID:America/Detroit
BEGIN:DAYLIGHT
TZOFFSETFROM:-0500
TZOFFSETTO:-0400
TZNAME:EDT
DTSTART:20240310T070000
END:DAYLIGHT
BEGIN:STANDARD
TZOFFSETFROM:-0400
TZOFFSETTO:-0500
TZNAME:EST
DTSTART:20241103T060000
END:STANDARD
BEGIN:DAYLIGHT
TZOFFSETFROM:-0500
TZOFFSETTO:-0400
TZNAME:EDT
DTSTART:20250309T070000
END:DAYLIGHT
BEGIN:STANDARD
TZOFFSETFROM:-0400
TZOFFSETTO:-0500
TZNAME:EST
DTSTART:20251102T060000
END:STANDARD
BEGIN:DAYLIGHT
TZOFFSETFROM:-0500
TZOFFSETTO:-0400
TZNAME:EDT
DTSTART:20260308T070000
END:DAYLIGHT
BEGIN:STANDARD
TZOFFSETFROM:-0400
TZOFFSETTO:-0500
TZNAME:EST
DTSTART:20261101T060000
END:STANDARD
END:VTIMEZONE
BEGIN:VEVENT
DTSTART;TZID=America/New_York:20250404T000000
DTEND;TZID=America/New_York:20250405T235959
DTSTAMP:20260425T001246
CREATED:20250108T210749Z
LAST-MODIFIED:20250108T213316Z
UID:35470-1743724800-1743897599@antiquetractorblog.com
SUMMARY:NC - Heritage Day Hosted by Central Carolina Antique Power & Equipment
DESCRIPTION:Facebook Page: C-Cape
URL:https://antiquetractorblog.com/event/nc-heritage-day-hosted-by-central-carolina-antque-power-equipment/
LOCATION:Lee Regional Fairgrounds\, 505 N 7th Street\, Sanford\, NC\, 27330\, United States
CATEGORIES:Tractor Show
ORGANIZER;CN="Daryl &amp%3B Teresa Wilson":MAILTO:teresawilson1971@gmail.com
END:VEVENT
BEGIN:VEVENT
DTSTART;TZID=America/Detroit:20250405T000000
DTEND;TZID=America/Detroit:20250405T235959
DTSTAMP:20260425T001246
CREATED:20231222T204410Z
LAST-MODIFIED:20250221T162249Z
UID:26517-1743811200-1743897599@antiquetractorblog.com
SUMMARY:GA -  Gordon County Antique Engine and Tractor Club Bartow County Spring Show
DESCRIPTION:Facebook Page: Gordon County Antique Engine and Tractor Club
URL:https://antiquetractorblog.com/event/ga-bartow-county-annual-spring-tractor-show/
LOCATION:Cherokee Capital Fairground\, 525 Martin Luther Jr Dr\, Cartersville\, GA\, 30120\, United States
CATEGORIES:Tractor Show
ORGANIZER;CN="Dennis Elmore":MAILTO:kwprimmer1@mindspring.com
END:VEVENT
END:VCALENDAR