BEGIN:VCALENDAR
VERSION:2.0
PRODID:-//Antique Tractor Blog - ECPv6.15.20//NONSGML v1.0//EN
CALSCALE:GREGORIAN
METHOD:PUBLISH
X-ORIGINAL-URL:https://antiquetractorblog.com
X-WR-CALDESC:Events for Antique Tractor Blog
REFRESH-INTERVAL;VALUE=DURATION:PT1H
X-Robots-Tag:noindex
X-PUBLISHED-TTL:PT1H
BEGIN:VTIMEZONE
TZID:America/Detroit
BEGIN:DAYLIGHT
TZOFFSETFROM:-0500
TZOFFSETTO:-0400
TZNAME:EDT
DTSTART:20230312T070000
END:DAYLIGHT
BEGIN:STANDARD
TZOFFSETFROM:-0400
TZOFFSETTO:-0500
TZNAME:EST
DTSTART:20231105T060000
END:STANDARD
BEGIN:DAYLIGHT
TZOFFSETFROM:-0500
TZOFFSETTO:-0400
TZNAME:EDT
DTSTART:20240310T070000
END:DAYLIGHT
BEGIN:STANDARD
TZOFFSETFROM:-0400
TZOFFSETTO:-0500
TZNAME:EST
DTSTART:20241103T060000
END:STANDARD
BEGIN:DAYLIGHT
TZOFFSETFROM:-0500
TZOFFSETTO:-0400
TZNAME:EDT
DTSTART:20250309T070000
END:DAYLIGHT
BEGIN:STANDARD
TZOFFSETFROM:-0400
TZOFFSETTO:-0500
TZNAME:EST
DTSTART:20251102T060000
END:STANDARD
END:VTIMEZONE
BEGIN:VTIMEZONE
TZID:America/New_York
BEGIN:DAYLIGHT
TZOFFSETFROM:-0500
TZOFFSETTO:-0400
TZNAME:EDT
DTSTART:20230312T070000
END:DAYLIGHT
BEGIN:STANDARD
TZOFFSETFROM:-0400
TZOFFSETTO:-0500
TZNAME:EST
DTSTART:20231105T060000
END:STANDARD
BEGIN:DAYLIGHT
TZOFFSETFROM:-0500
TZOFFSETTO:-0400
TZNAME:EDT
DTSTART:20240310T070000
END:DAYLIGHT
BEGIN:STANDARD
TZOFFSETFROM:-0400
TZOFFSETTO:-0500
TZNAME:EST
DTSTART:20241103T060000
END:STANDARD
BEGIN:DAYLIGHT
TZOFFSETFROM:-0500
TZOFFSETTO:-0400
TZNAME:EDT
DTSTART:20250309T070000
END:DAYLIGHT
BEGIN:STANDARD
TZOFFSETFROM:-0400
TZOFFSETTO:-0500
TZNAME:EST
DTSTART:20251102T060000
END:STANDARD
END:VTIMEZONE
BEGIN:VEVENT
DTSTART;TZID=America/Detroit:20241004T000000
DTEND;TZID=America/Detroit:20241005T235959
DTSTAMP:20260424T183518
CREATED:20240306T163526Z
LAST-MODIFIED:20240306T165342Z
UID:29728-1728000000-1728172799@antiquetractorblog.com
SUMMARY:KY - Southeast Kentucky Antique Tractor Assoc. Show
DESCRIPTION:
URL:https://antiquetractorblog.com/event/ky-southeast-kentucky-antique-tractor-assoc-show/
LOCATION:Southeast Kentucky Antique Tractor Assoc Tractor Show Site\, Castle Village Dr\, Brodhead\, KY\, 40409\, United States
CATEGORIES:Tractor Show
ORGANIZER;CN="Aaron Roberts":MAILTO:southeastkentuckytractor@gmail.com
END:VEVENT
BEGIN:VEVENT
DTSTART;TZID=America/New_York:20241005T000000
DTEND;TZID=America/New_York:20241005T235959
DTSTAMP:20260424T183518
CREATED:20240815T152241Z
LAST-MODIFIED:20240815T152920Z
UID:32755-1728086400-1728172799@antiquetractorblog.com
SUMMARY:TN - Harvest Day
DESCRIPTION:
URL:https://antiquetractorblog.com/event/tn-harvest-day/
LOCATION:Harvest Day Show Site\, 1578 Bethlehem Rd\, Newbern\, TN\, 38059\, United States
CATEGORIES:Tractor Show
END:VEVENT
BEGIN:VEVENT
DTSTART;TZID=America/Detroit:20241005T000000
DTEND;TZID=America/Detroit:20241006T235959
DTSTAMP:20260424T183518
CREATED:20240105T153615Z
LAST-MODIFIED:20240115T201552Z
UID:26969-1728086400-1728259199@antiquetractorblog.com
SUMMARY:PA - Northwest PA Steam Engine and Old Equipment Association Fall Fling Show
DESCRIPTION:
URL:https://antiquetractorblog.com/event/pa-northwest-pa-steam-engine-old-equipment-association-show-3/
LOCATION:Northwest PA Steam Engine and Old Equipment Association Show Site\, 1512 Perry Hwy\, Portersville\, PA\, 16051\, United States
CATEGORIES:Tractor Show
END:VEVENT
END:VCALENDAR