BEGIN:VCALENDAR
VERSION:2.0
PRODID:-//Antique Tractor Blog - ECPv6.15.20//NONSGML v1.0//EN
CALSCALE:GREGORIAN
METHOD:PUBLISH
X-WR-CALNAME:Antique Tractor Blog
X-ORIGINAL-URL:https://antiquetractorblog.com
X-WR-CALDESC:Events for Antique Tractor Blog
REFRESH-INTERVAL;VALUE=DURATION:PT1H
X-Robots-Tag:noindex
X-PUBLISHED-TTL:PT1H
BEGIN:VTIMEZONE
TZID:America/Detroit
BEGIN:DAYLIGHT
TZOFFSETFROM:-0500
TZOFFSETTO:-0400
TZNAME:EDT
DTSTART:20230312T070000
END:DAYLIGHT
BEGIN:STANDARD
TZOFFSETFROM:-0400
TZOFFSETTO:-0500
TZNAME:EST
DTSTART:20231105T060000
END:STANDARD
BEGIN:DAYLIGHT
TZOFFSETFROM:-0500
TZOFFSETTO:-0400
TZNAME:EDT
DTSTART:20240310T070000
END:DAYLIGHT
BEGIN:STANDARD
TZOFFSETFROM:-0400
TZOFFSETTO:-0500
TZNAME:EST
DTSTART:20241103T060000
END:STANDARD
BEGIN:DAYLIGHT
TZOFFSETFROM:-0500
TZOFFSETTO:-0400
TZNAME:EDT
DTSTART:20250309T070000
END:DAYLIGHT
BEGIN:STANDARD
TZOFFSETFROM:-0400
TZOFFSETTO:-0500
TZNAME:EST
DTSTART:20251102T060000
END:STANDARD
END:VTIMEZONE
BEGIN:VTIMEZONE
TZID:America/New_York
BEGIN:DAYLIGHT
TZOFFSETFROM:-0500
TZOFFSETTO:-0400
TZNAME:EDT
DTSTART:20230312T070000
END:DAYLIGHT
BEGIN:STANDARD
TZOFFSETFROM:-0400
TZOFFSETTO:-0500
TZNAME:EST
DTSTART:20231105T060000
END:STANDARD
BEGIN:DAYLIGHT
TZOFFSETFROM:-0500
TZOFFSETTO:-0400
TZNAME:EDT
DTSTART:20240310T070000
END:DAYLIGHT
BEGIN:STANDARD
TZOFFSETFROM:-0400
TZOFFSETTO:-0500
TZNAME:EST
DTSTART:20241103T060000
END:STANDARD
BEGIN:DAYLIGHT
TZOFFSETFROM:-0500
TZOFFSETTO:-0400
TZNAME:EDT
DTSTART:20250309T070000
END:DAYLIGHT
BEGIN:STANDARD
TZOFFSETFROM:-0400
TZOFFSETTO:-0500
TZNAME:EST
DTSTART:20251102T060000
END:STANDARD
END:VTIMEZONE
BEGIN:VEVENT
DTSTART;TZID=America/Detroit:20240905T000000
DTEND;TZID=America/Detroit:20240908T235959
DTSTAMP:20260424T184027
CREATED:20240201T195350Z
LAST-MODIFIED:20240218T030704Z
UID:27978-1725494400-1725839999@antiquetractorblog.com
SUMMARY:PA - Nittany Antique Machinery Association Inc.
DESCRIPTION:
URL:https://antiquetractorblog.com/event/pa-nittany-antique-machinery-association-inc/
LOCATION:Penn’s Cave and Wildlife Park\, 222 Penns Cave Rd\, Center Hall\, PA\, 16828\, United States
CATEGORIES:Tractor Show
END:VEVENT
BEGIN:VEVENT
DTSTART;TZID=America/New_York:20240905T000000
DTEND;TZID=America/New_York:20240908T235959
DTSTAMP:20260424T184027
CREATED:20240731T115427Z
LAST-MODIFIED:20240731T115850Z
UID:32606-1725494400-1725839999@antiquetractorblog.com
SUMMARY:MI - Empire Expo
DESCRIPTION:Empire Tractor collectors will be traveling to South Haven for their 24th annual Empire Expo held in conjunction with the Antique Engine and Tractor Show at the Michigan Flywheelers Museum. \n\n\n\nThe expo\, which is hosted by the Empire Tractor Club\, kicks off Thursday\, Sept. 5 and runs through Sunday\, Sept. 8. \n\n\n\nOrganizers expect 10 to 25 Empire tractors to be on display by owners from all over the country including Canada. The expo is the highlight of the year for the club\, they explain\, and is often held with existing large tractor shows. The group will have numerous informational displays about the tractor as well as a banquet awards dinner. \n\n\n\nThe Empire Tractor Corp\, which had offices in New York City with manufacturing facilities in Philadelphia\, manufactured only two models during its short time in business\, according to the Empire Tractor Club web site. Model 88 and Model 90 were manufactured from mid-1946 until December 1947 with several others put together from parts on hand in 1948 and 1949. A few experimental tractors were also made but these never got past the prototype stage. \n\n\n\nAfter World War II and needing to use the factories for peace time purposes\, the idea of building a farm tractor that could be used to help war devastated countries get crops back in the ground and food back on the tables became the focus of the company. \n\n\n\nThe Antique Engine and Tractor Show starts Thursday\, Sept. 5 and runs through Sunday\, Sept. 8\, 2024. Along with hundreds of antique farm machinery\, there is entertainment\, a large outdoor flea market\, antique tractor pulls\, kids activities and more. Admission is $10 per person with children 12 and under free. Admission specials include Senior Citizen Day on Thursday with admission reduced to $5 for 62 and older\, and the Sunday Special when admission is $5 for everyone. Gates open at 8 a.m.
URL:https://antiquetractorblog.com/event/mi-empire-expo/
LOCATION:Michigan Flywheelers Museum\, 06285 68th St.\, South Haven\, MI\, 49090\, United States
CATEGORIES:Tractor Show
END:VEVENT
BEGIN:VEVENT
DTSTART;TZID=America/New_York:20240906T000000
DTEND;TZID=America/New_York:20240907T235959
DTSTAMP:20260424T184027
CREATED:20240319T183221Z
LAST-MODIFIED:20240319T184240Z
UID:30798-1725580800-1725753599@antiquetractorblog.com
SUMMARY:CAN - Rural Heritage Days Show
DESCRIPTION:
URL:https://antiquetractorblog.com/event/can-rural-heritage-days-show/
LOCATION:Rural Heritage Day Site\, 584 Hwy 130\, Slate RIver\, Ontario\, Canada
CATEGORIES:Tractor Show
ORGANIZER;CN="Michelle Barrie":MAILTO:ruralheritagedays@gmail.com
END:VEVENT
END:VCALENDAR